BEGIN:VCALENDAR
VERSION:2.0
PRODID:-//Churchfields - The Village School - ECPv6.15.11//NONSGML v1.0//EN
CALSCALE:GREGORIAN
METHOD:PUBLISH
X-WR-CALNAME:Churchfields - The Village School
X-ORIGINAL-URL:https://churchfields.wilts.sch.uk
X-WR-CALDESC:Events for Churchfields - The Village School
REFRESH-INTERVAL;VALUE=DURATION:PT1H
X-Robots-Tag:noindex
X-PUBLISHED-TTL:PT1H
BEGIN:VTIMEZONE
TZID:Europe/London
BEGIN:DAYLIGHT
TZOFFSETFROM:+0000
TZOFFSETTO:+0100
TZNAME:BST
DTSTART:20240331T010000
END:DAYLIGHT
BEGIN:STANDARD
TZOFFSETFROM:+0100
TZOFFSETTO:+0000
TZNAME:GMT
DTSTART:20241027T010000
END:STANDARD
BEGIN:DAYLIGHT
TZOFFSETFROM:+0000
TZOFFSETTO:+0100
TZNAME:BST
DTSTART:20250330T010000
END:DAYLIGHT
BEGIN:STANDARD
TZOFFSETFROM:+0100
TZOFFSETTO:+0000
TZNAME:GMT
DTSTART:20251026T010000
END:STANDARD
BEGIN:DAYLIGHT
TZOFFSETFROM:+0000
TZOFFSETTO:+0100
TZNAME:BST
DTSTART:20260329T010000
END:DAYLIGHT
BEGIN:STANDARD
TZOFFSETFROM:+0100
TZOFFSETTO:+0000
TZNAME:GMT
DTSTART:20261025T010000
END:STANDARD
END:VTIMEZONE
BEGIN:VEVENT
DTSTART;VALUE=DATE:20251103
DTEND;VALUE=DATE:20251104
DTSTAMP:20260419T193643
CREATED:20251013T122302Z
LAST-MODIFIED:20251013T122302Z
UID:9328-1762128000-1762214399@churchfields.wilts.sch.uk
SUMMARY:Term 2 begins
DESCRIPTION:
URL:https://churchfields.wilts.sch.uk/event/term-2-begins-5/
CATEGORIES:Curriculum
END:VEVENT
BEGIN:VEVENT
DTSTART;VALUE=DATE:20251114
DTEND;VALUE=DATE:20251115
DTSTAMP:20260419T193643
CREATED:20251013T122441Z
LAST-MODIFIED:20251013T122441Z
UID:9330-1763078400-1763164799@churchfields.wilts.sch.uk
SUMMARY:Children in need
DESCRIPTION:
URL:https://churchfields.wilts.sch.uk/event/children-in-need-5/
CATEGORIES:General
END:VEVENT
BEGIN:VEVENT
DTSTART;VALUE=DATE:20251121
DTEND;VALUE=DATE:20251122
DTSTAMP:20260419T193643
CREATED:20251013T122521Z
LAST-MODIFIED:20251013T122521Z
UID:9332-1763683200-1763769599@churchfields.wilts.sch.uk
SUMMARY:Break The Rules Day
DESCRIPTION:
URL:https://churchfields.wilts.sch.uk/event/break-the-rules-day-2/
CATEGORIES:General
END:VEVENT
BEGIN:VEVENT
DTSTART;TZID=Europe/London:20251129T120000
DTEND;TZID=Europe/London:20251129T160000
DTSTAMP:20260419T193643
CREATED:20251013T122645Z
LAST-MODIFIED:20251013T122645Z
UID:9334-1764417600-1764432000@churchfields.wilts.sch.uk
SUMMARY:Atworth Christmas Fair
DESCRIPTION:
URL:https://churchfields.wilts.sch.uk/event/atworth-christmas-fair/
CATEGORIES:General,PTA
END:VEVENT
END:VCALENDAR