BEGIN:VCALENDAR
VERSION:2.0
PRODID:-//Churchfields - The Village School - ECPv6.15.11//NONSGML v1.0//EN
CALSCALE:GREGORIAN
METHOD:PUBLISH
X-ORIGINAL-URL:https://churchfields.wilts.sch.uk
X-WR-CALDESC:Events for Churchfields - The Village School
REFRESH-INTERVAL;VALUE=DURATION:PT1H
X-Robots-Tag:noindex
X-PUBLISHED-TTL:PT1H
BEGIN:VTIMEZONE
TZID:Europe/London
BEGIN:DAYLIGHT
TZOFFSETFROM:+0000
TZOFFSETTO:+0100
TZNAME:BST
DTSTART:20230326T010000
END:DAYLIGHT
BEGIN:STANDARD
TZOFFSETFROM:+0100
TZOFFSETTO:+0000
TZNAME:GMT
DTSTART:20231029T010000
END:STANDARD
BEGIN:DAYLIGHT
TZOFFSETFROM:+0000
TZOFFSETTO:+0100
TZNAME:BST
DTSTART:20240331T010000
END:DAYLIGHT
BEGIN:STANDARD
TZOFFSETFROM:+0100
TZOFFSETTO:+0000
TZNAME:GMT
DTSTART:20241027T010000
END:STANDARD
BEGIN:DAYLIGHT
TZOFFSETFROM:+0000
TZOFFSETTO:+0100
TZNAME:BST
DTSTART:20250330T010000
END:DAYLIGHT
BEGIN:STANDARD
TZOFFSETFROM:+0100
TZOFFSETTO:+0000
TZNAME:GMT
DTSTART:20251026T010000
END:STANDARD
END:VTIMEZONE
BEGIN:VEVENT
DTSTART;TZID=Europe/London:20241202T100000
DTEND;TZID=Europe/London:20241202T140000
DTSTAMP:20260420T110621
CREATED:20240911T113509Z
LAST-MODIFIED:20241015T114416Z
UID:8590-1733133600-1733148000@churchfields.wilts.sch.uk
SUMMARY:Open Day Atworth and Monkton Farleigh
DESCRIPTION:10am to 12 noon Atworth base\, please call school office to book \n1pm – 2pm Monkton Farleigh \, please call school office to book
URL:https://churchfields.wilts.sch.uk/event/open-day-atworth-and-monkton-farleigh/
CATEGORIES:General,PTA
END:VEVENT
BEGIN:VEVENT
DTSTART;TZID=Europe/London:20241205T173000
DTEND;TZID=Europe/London:20241205T190000
DTSTAMP:20260420T110621
CREATED:20241015T110603Z
LAST-MODIFIED:20241015T110603Z
UID:8701-1733419800-1733425200@churchfields.wilts.sch.uk
SUMMARY:FoCS Film Night
DESCRIPTION:
URL:https://churchfields.wilts.sch.uk/event/focs-film-night/
CATEGORIES:PTA
END:VEVENT
BEGIN:VEVENT
DTSTART;VALUE=DATE:20241206
DTEND;VALUE=DATE:20241207
DTSTAMP:20260420T110621
CREATED:20240725T133414Z
LAST-MODIFIED:20240725T133414Z
UID:8554-1733443200-1733529599@churchfields.wilts.sch.uk
SUMMARY:Whole school Flu immunisations
DESCRIPTION:
URL:https://churchfields.wilts.sch.uk/event/whole-school-flu-immunisations/
END:VEVENT
BEGIN:VEVENT
DTSTART;TZID=Europe/London:20241206T150000
DTEND;TZID=Europe/London:20241206T170000
DTSTAMP:20260420T110621
CREATED:20241111T102437Z
LAST-MODIFIED:20241111T102437Z
UID:8746-1733497200-1733504400@churchfields.wilts.sch.uk
SUMMARY:Monkton Farleigh Christmas Fair
DESCRIPTION:
URL:https://churchfields.wilts.sch.uk/event/monkton-farleigh-christmas-fair/
LOCATION:MF Base\, Churchfields School\, Monkton Farleigh\, Bradford-on-Avon\, BA15 2QD\, United Kingdom
CATEGORIES:PTA
END:VEVENT
BEGIN:VEVENT
DTSTART;VALUE=DATE:20241210
DTEND;VALUE=DATE:20241211
DTSTAMP:20260420T110621
CREATED:20240911T114203Z
LAST-MODIFIED:20240911T114203Z
UID:8592-1733788800-1733875199@churchfields.wilts.sch.uk
SUMMARY:KS2 Christmas Production
DESCRIPTION:Dress Rehearsal 1:30 \n1st performance 4pm \n2nd performance 6pm
URL:https://churchfields.wilts.sch.uk/event/ks2-christmas-production-2/
CATEGORIES:Curriculum,General
END:VEVENT
BEGIN:VEVENT
DTSTART;TZID=Europe/London:20241211T120000
DTEND;TZID=Europe/London:20241211T170000
DTSTAMP:20260420T110621
CREATED:20241015T114530Z
LAST-MODIFIED:20241015T114530Z
UID:8713-1733918400-1733936400@churchfields.wilts.sch.uk
SUMMARY:Whole School trip to Egg Theatre Bath
DESCRIPTION:please refer to ParentMail letter for information
URL:https://churchfields.wilts.sch.uk/event/whole-school-trip-to-egg-theatre-bath/
END:VEVENT
BEGIN:VEVENT
DTSTART;VALUE=DATE:20241212
DTEND;VALUE=DATE:20241213
DTSTAMP:20260420T110621
CREATED:20240911T114310Z
LAST-MODIFIED:20240911T114310Z
UID:8594-1733961600-1734047999@churchfields.wilts.sch.uk
SUMMARY:EYFS/KS1 Christmas Production
DESCRIPTION:Dress rehearsal 1:30pm \n1st performance 4pm \n2nd performance 6pm
URL:https://churchfields.wilts.sch.uk/event/eyfs-ks1-christmas-production-2/
CATEGORIES:Curriculum,General
END:VEVENT
BEGIN:VEVENT
DTSTART;TZID=Europe/London:20241217T131500
DTEND;TZID=Europe/London:20241217T150000
DTSTAMP:20260420T110621
CREATED:20240911T114359Z
LAST-MODIFIED:20240911T114359Z
UID:8596-1734441300-1734447600@churchfields.wilts.sch.uk
SUMMARY:Carols Monkton Farleigh
DESCRIPTION:
URL:https://churchfields.wilts.sch.uk/event/carols-monkton-farleigh/
CATEGORIES:Curriculum,General
END:VEVENT
BEGIN:VEVENT
DTSTART;TZID=Europe/London:20241218T120000
DTEND;TZID=Europe/London:20241218T130000
DTSTAMP:20260420T110621
CREATED:20240725T133521Z
LAST-MODIFIED:20240911T110025Z
UID:8556-1734523200-1734526800@churchfields.wilts.sch.uk
SUMMARY:Christmas Dinner
DESCRIPTION:
URL:https://churchfields.wilts.sch.uk/event/christmas-dinner-3/
END:VEVENT
BEGIN:VEVENT
DTSTART;TZID=Europe/London:20241219T131500
DTEND;TZID=Europe/London:20241219T150000
DTSTAMP:20260420T110621
CREATED:20240911T114436Z
LAST-MODIFIED:20240911T114436Z
UID:8598-1734614100-1734620400@churchfields.wilts.sch.uk
SUMMARY:Carols Atworth
DESCRIPTION:
URL:https://churchfields.wilts.sch.uk/event/carols-atworth/
CATEGORIES:Curriculum,General
END:VEVENT
BEGIN:VEVENT
DTSTART;VALUE=DATE:20241220
DTEND;VALUE=DATE:20241221
DTSTAMP:20260420T110621
CREATED:20240725T133613Z
LAST-MODIFIED:20240725T133613Z
UID:8558-1734652800-1734739199@churchfields.wilts.sch.uk
SUMMARY:End of Term 2
DESCRIPTION:
URL:https://churchfields.wilts.sch.uk/event/end-of-term-2-5/
END:VEVENT
END:VCALENDAR