BEGIN:VCALENDAR
VERSION:2.0
PRODID:-//Churchfields - The Village School - ECPv6.15.11//NONSGML v1.0//EN
CALSCALE:GREGORIAN
METHOD:PUBLISH
X-WR-CALNAME:Churchfields - The Village School
X-ORIGINAL-URL:https://churchfields.wilts.sch.uk
X-WR-CALDESC:Events for Churchfields - The Village School
REFRESH-INTERVAL;VALUE=DURATION:PT1H
X-Robots-Tag:noindex
X-PUBLISHED-TTL:PT1H
BEGIN:VTIMEZONE
TZID:Europe/London
BEGIN:DAYLIGHT
TZOFFSETFROM:+0000
TZOFFSETTO:+0100
TZNAME:BST
DTSTART:20230326T010000
END:DAYLIGHT
BEGIN:STANDARD
TZOFFSETFROM:+0100
TZOFFSETTO:+0000
TZNAME:GMT
DTSTART:20231029T010000
END:STANDARD
BEGIN:DAYLIGHT
TZOFFSETFROM:+0000
TZOFFSETTO:+0100
TZNAME:BST
DTSTART:20240331T010000
END:DAYLIGHT
BEGIN:STANDARD
TZOFFSETFROM:+0100
TZOFFSETTO:+0000
TZNAME:GMT
DTSTART:20241027T010000
END:STANDARD
BEGIN:DAYLIGHT
TZOFFSETFROM:+0000
TZOFFSETTO:+0100
TZNAME:BST
DTSTART:20250330T010000
END:DAYLIGHT
BEGIN:STANDARD
TZOFFSETFROM:+0100
TZOFFSETTO:+0000
TZNAME:GMT
DTSTART:20251026T010000
END:STANDARD
BEGIN:DAYLIGHT
TZOFFSETFROM:+0000
TZOFFSETTO:+0100
TZNAME:BST
DTSTART:20260329T010000
END:DAYLIGHT
BEGIN:STANDARD
TZOFFSETFROM:+0100
TZOFFSETTO:+0000
TZNAME:GMT
DTSTART:20261025T010000
END:STANDARD
END:VTIMEZONE
BEGIN:VEVENT
DTSTART;TZID=Europe/London:20250503T100000
DTEND;TZID=Europe/London:20250503T160000
DTSTAMP:20260420T091928
CREATED:20250425T151711Z
LAST-MODIFIED:20250428T091141Z
UID:9049-1746266400-1746288000@churchfields.wilts.sch.uk
SUMMARY:Scarecrow Trail Monkton Farleigh
DESCRIPTION:Scarecrow Trail around the village of Monkton Farleigh\, in association with Churchfields School and St Peter’s Church. \nFree Parking\, BBQ\, Hot and Cold Drinks\, Bar\, Cakes and Raffle Prizes for those who enter completed Maps.
URL:https://churchfields.wilts.sch.uk/event/scarecrow-trail-monkton-farleigh/
LOCATION:MF Base\, Churchfields School\, Monkton Farleigh\, Bradford-on-Avon\, BA15 2QD\, United Kingdom
CATEGORIES:General,PTA
ATTACH;FMTTYPE=image/jpeg:https://churchfields.wilts.sch.uk/wp-content/uploads/2025/04/Scarecrow-Trail.jpg
END:VEVENT
BEGIN:VEVENT
DTSTART;VALUE=DATE:20250428
DTEND;VALUE=DATE:20250429
DTSTAMP:20260420T091928
CREATED:20250311T133043Z
LAST-MODIFIED:20250311T133043Z
UID:8969-1745798400-1745884799@churchfields.wilts.sch.uk
SUMMARY:Class photographs
DESCRIPTION:
URL:https://churchfields.wilts.sch.uk/event/class-photographs/
CATEGORIES:Curriculum,General
END:VEVENT
BEGIN:VEVENT
DTSTART;VALUE=DATE:20250425
DTEND;VALUE=DATE:20250426
DTSTAMP:20260420T091928
CREATED:20240911T115425Z
LAST-MODIFIED:20250311T132902Z
UID:8625-1745539200-1745625599@churchfields.wilts.sch.uk
SUMMARY:Open Day Atworth and  Monkton Farleigh base
DESCRIPTION:Open Day please email school for details
URL:https://churchfields.wilts.sch.uk/event/coffee-morning-monkton-farleigh-base-2/
CATEGORIES:General
END:VEVENT
BEGIN:VEVENT
DTSTART;VALUE=DATE:20250422
DTEND;VALUE=DATE:20250423
DTSTAMP:20260420T091928
CREATED:20240514T105559Z
LAST-MODIFIED:20240514T105559Z
UID:8462-1745280000-1745366399@churchfields.wilts.sch.uk
SUMMARY:Term 5 begins
DESCRIPTION:
URL:https://churchfields.wilts.sch.uk/event/term-5-begins-5/
END:VEVENT
BEGIN:VEVENT
DTSTART;TZID=Europe/London:20250404T150000
DTEND;TZID=Europe/London:20250404T160000
DTSTAMP:20260420T091928
CREATED:20250311T131631Z
LAST-MODIFIED:20250311T131631Z
UID:8962-1743778800-1743782400@churchfields.wilts.sch.uk
SUMMARY:Monkton Farleigh Easter Concert
DESCRIPTION:
URL:https://churchfields.wilts.sch.uk/event/monkton-farleigh-easter-concert/
CATEGORIES:Curriculum,General
END:VEVENT
BEGIN:VEVENT
DTSTART;VALUE=DATE:20250404
DTEND;VALUE=DATE:20250405
DTSTAMP:20260420T091928
CREATED:20240514T105530Z
LAST-MODIFIED:20240514T105530Z
UID:8460-1743724800-1743811199@churchfields.wilts.sch.uk
SUMMARY:Term 4 ends
DESCRIPTION:
URL:https://churchfields.wilts.sch.uk/event/term-4-ends/
CATEGORIES:Curriculum,General
END:VEVENT
BEGIN:VEVENT
DTSTART;TZID=Europe/London:20250403T153000
DTEND;TZID=Europe/London:20250403T170000
DTSTAMP:20260420T091928
CREATED:20240911T115305Z
LAST-MODIFIED:20250311T131514Z
UID:8623-1743694200-1743699600@churchfields.wilts.sch.uk
SUMMARY:Atworth Easter Concert
DESCRIPTION:
URL:https://churchfields.wilts.sch.uk/event/easter-concert-2/
CATEGORIES:Curriculum,General
END:VEVENT
BEGIN:VEVENT
DTSTART;TZID=Europe/London:20250401T131500
DTEND;TZID=Europe/London:20250401T143000
DTSTAMP:20260420T091928
CREATED:20240911T115226Z
LAST-MODIFIED:20240911T115226Z
UID:8621-1743513300-1743517800@churchfields.wilts.sch.uk
SUMMARY:Easter Service St Michaels Church Atworth
DESCRIPTION:
URL:https://churchfields.wilts.sch.uk/event/easter-service-st-michaels-church-atworth/
CATEGORIES:Curriculum,General
END:VEVENT
BEGIN:VEVENT
DTSTART;TZID=Europe/London:20250328T150000
DTEND;TZID=Europe/London:20250328T170000
DTSTAMP:20260420T091928
CREATED:20250325T122349Z
LAST-MODIFIED:20250325T122349Z
UID:9022-1743174000-1743181200@churchfields.wilts.sch.uk
SUMMARY:Friends of Churchfields Spring Fair Atworth school base
DESCRIPTION:
URL:https://churchfields.wilts.sch.uk/event/friends-of-churchfields-spring-fair-atworth-school-base/
CATEGORIES:PTA
END:VEVENT
BEGIN:VEVENT
DTSTART;VALUE=DATE:20250321
DTEND;VALUE=DATE:20250322
DTSTAMP:20260420T091928
CREATED:20240911T115123Z
LAST-MODIFIED:20240911T115123Z
UID:8619-1742515200-1742601599@churchfields.wilts.sch.uk
SUMMARY:INSET Day school closed to pupils
DESCRIPTION:
URL:https://churchfields.wilts.sch.uk/event/inset-day-school-closed-to-pupils-6/
CATEGORIES:Curriculum,General
END:VEVENT
BEGIN:VEVENT
DTSTART;TZID=Europe/London:20250320T150000
DTEND;TZID=Europe/London:20250320T193000
DTSTAMP:20260420T091928
CREATED:20240911T115036Z
LAST-MODIFIED:20240911T115036Z
UID:8617-1742482800-1742499000@churchfields.wilts.sch.uk
SUMMARY:Parents Evening to 7:30pm
DESCRIPTION:
URL:https://churchfields.wilts.sch.uk/event/parents-evening-to-730pm/
CATEGORIES:Curriculum,General
END:VEVENT
BEGIN:VEVENT
DTSTART;VALUE=DATE:20250320
DTEND;VALUE=DATE:20250321
DTSTAMP:20260420T091928
CREATED:20250317T151016Z
LAST-MODIFIED:20250317T151016Z
UID:8999-1742428800-1742515199@churchfields.wilts.sch.uk
SUMMARY:Non-uniform day
DESCRIPTION:
URL:https://churchfields.wilts.sch.uk/event/non-uniform-day-4/
CATEGORIES:PTA
END:VEVENT
BEGIN:VEVENT
DTSTART;TZID=Europe/London:20250318T150000
DTEND;TZID=Europe/London:20250318T180000
DTSTAMP:20260420T091928
CREATED:20240911T114958Z
LAST-MODIFIED:20240911T114958Z
UID:8615-1742310000-1742320800@churchfields.wilts.sch.uk
SUMMARY:Parents Evening to 6pm
DESCRIPTION:
URL:https://churchfields.wilts.sch.uk/event/parents-evening-to-6pm/
CATEGORIES:Curriculum,General
END:VEVENT
BEGIN:VEVENT
DTSTART;TZID=Europe/London:20250313T130000
DTEND;TZID=Europe/London:20250313T163000
DTSTAMP:20260420T091928
CREATED:20250311T131042Z
LAST-MODIFIED:20250311T131042Z
UID:8957-1741870800-1741883400@churchfields.wilts.sch.uk
SUMMARY:Falcon & Kestrel Class Outdoor Adventure Afternoon
DESCRIPTION:See the letter sent via Parent Mail 03 March 2025
URL:https://churchfields.wilts.sch.uk/event/falcon-kestrel-class-outdoor-adventure-afternoon/
LOCATION:stonar\, Coombe Lane\, Atworth\, SN12 8NT\, United Kingdom
CATEGORIES:Curriculum
END:VEVENT
BEGIN:VEVENT
DTSTART;TZID=Europe/London:20250311T153000
DTEND;TZID=Europe/London:20250311T163000
DTSTAMP:20260420T091928
CREATED:20250311T131200Z
LAST-MODIFIED:20250311T131200Z
UID:8959-1741707000-1741710600@churchfields.wilts.sch.uk
SUMMARY:Residential meeting for year 5 & 6 families
DESCRIPTION:Being held at Atworth base
URL:https://churchfields.wilts.sch.uk/event/residential-meeting-for-year-5-6-families/
LOCATION:SN12 8HY
CATEGORIES:Curriculum,General
END:VEVENT
BEGIN:VEVENT
DTSTART;VALUE=DATE:20250310
DTEND;VALUE=DATE:20250315
DTSTAMP:20260420T091928
CREATED:20240911T114913Z
LAST-MODIFIED:20240911T114913Z
UID:8613-1741564800-1741996799@churchfields.wilts.sch.uk
SUMMARY:STEM Week
DESCRIPTION:
URL:https://churchfields.wilts.sch.uk/event/stem-week-3/
CATEGORIES:Curriculum,General
END:VEVENT
BEGIN:VEVENT
DTSTART;VALUE=DATE:20250306
DTEND;VALUE=DATE:20250307
DTSTAMP:20260420T091928
CREATED:20240911T114839Z
LAST-MODIFIED:20240911T114839Z
UID:8611-1741219200-1741305599@churchfields.wilts.sch.uk
SUMMARY:World Book Day
DESCRIPTION:
URL:https://churchfields.wilts.sch.uk/event/world-book-day-4/
CATEGORIES:Curriculum,General
END:VEVENT
BEGIN:VEVENT
DTSTART;VALUE=DATE:20250224
DTEND;VALUE=DATE:20250225
DTSTAMP:20260420T091928
CREATED:20240514T105443Z
LAST-MODIFIED:20240514T105443Z
UID:8458-1740355200-1740441599@churchfields.wilts.sch.uk
SUMMARY:Term 4 begins
DESCRIPTION:
URL:https://churchfields.wilts.sch.uk/event/term-4-begins-5/
CATEGORIES:Curriculum,General
END:VEVENT
BEGIN:VEVENT
DTSTART;VALUE=DATE:20250214
DTEND;VALUE=DATE:20250215
DTSTAMP:20260420T091928
CREATED:20240514T105415Z
LAST-MODIFIED:20240514T105415Z
UID:8456-1739491200-1739577599@churchfields.wilts.sch.uk
SUMMARY:Term 3 ends
DESCRIPTION:
URL:https://churchfields.wilts.sch.uk/event/term-3-ends/
CATEGORIES:Curriculum,General
END:VEVENT
BEGIN:VEVENT
DTSTART;VALUE=DATE:20250211
DTEND;VALUE=DATE:20250212
DTSTAMP:20260420T091928
CREATED:20240911T114804Z
LAST-MODIFIED:20240911T114804Z
UID:8609-1739232000-1739318399@churchfields.wilts.sch.uk
SUMMARY:Safer Internet Day
DESCRIPTION:
URL:https://churchfields.wilts.sch.uk/event/safer-internet-day-3/
END:VEVENT
BEGIN:VEVENT
DTSTART;VALUE=DATE:20250210
DTEND;VALUE=DATE:20250215
DTSTAMP:20260420T091928
CREATED:20240911T114735Z
LAST-MODIFIED:20240911T114735Z
UID:8607-1739145600-1739577599@churchfields.wilts.sch.uk
SUMMARY:E safety week
DESCRIPTION:
URL:https://churchfields.wilts.sch.uk/event/e-safety-week-3/
CATEGORIES:Curriculum,General
END:VEVENT
BEGIN:VEVENT
DTSTART;VALUE=DATE:20250114
DTEND;VALUE=DATE:20250115
DTSTAMP:20260420T091928
CREATED:20240911T114706Z
LAST-MODIFIED:20240911T114706Z
UID:8605-1736812800-1736899199@churchfields.wilts.sch.uk
SUMMARY:WOW Day
DESCRIPTION:Topic launch Term 3
URL:https://churchfields.wilts.sch.uk/event/wow-day-6/
CATEGORIES:Curriculum,General
END:VEVENT
BEGIN:VEVENT
DTSTART;TZID=Europe/London:20250110T083000
DTEND;TZID=Europe/London:20250110T100000
DTSTAMP:20260420T091928
CREATED:20240911T114623Z
LAST-MODIFIED:20240911T114623Z
UID:8603-1736497800-1736503200@churchfields.wilts.sch.uk
SUMMARY:Coffee morning Atworth base
DESCRIPTION:parents/carers are invited in for coffee with Head of School . No need to book
URL:https://churchfields.wilts.sch.uk/event/coffee-morning-atworth-base-3/
CATEGORIES:General
END:VEVENT
BEGIN:VEVENT
DTSTART;TZID=Europe/London:20250109T083000
DTEND;TZID=Europe/London:20250109T100000
DTSTAMP:20260420T091928
CREATED:20240911T114529Z
LAST-MODIFIED:20240911T114548Z
UID:8600-1736411400-1736416800@churchfields.wilts.sch.uk
SUMMARY:Coffee morning Monkton Farleigh
DESCRIPTION:parents/carers are invited in for coffee with Head of School . No need to book
URL:https://churchfields.wilts.sch.uk/event/coffee-morning-atworth-base-2/
CATEGORIES:General
END:VEVENT
BEGIN:VEVENT
DTSTART;VALUE=DATE:20250106
DTEND;VALUE=DATE:20250107
DTSTAMP:20260420T091928
CREATED:20240514T105344Z
LAST-MODIFIED:20240514T105344Z
UID:8454-1736121600-1736207999@churchfields.wilts.sch.uk
SUMMARY:Term 3 begins
DESCRIPTION:
URL:https://churchfields.wilts.sch.uk/event/term-3-begins-5/
CATEGORIES:Curriculum,General
END:VEVENT
BEGIN:VEVENT
DTSTART;VALUE=DATE:20241220
DTEND;VALUE=DATE:20241221
DTSTAMP:20260420T091928
CREATED:20240725T133613Z
LAST-MODIFIED:20240725T133613Z
UID:8558-1734652800-1734739199@churchfields.wilts.sch.uk
SUMMARY:End of Term 2
DESCRIPTION:
URL:https://churchfields.wilts.sch.uk/event/end-of-term-2-5/
END:VEVENT
BEGIN:VEVENT
DTSTART;TZID=Europe/London:20241219T131500
DTEND;TZID=Europe/London:20241219T150000
DTSTAMP:20260420T091928
CREATED:20240911T114436Z
LAST-MODIFIED:20240911T114436Z
UID:8598-1734614100-1734620400@churchfields.wilts.sch.uk
SUMMARY:Carols Atworth
DESCRIPTION:
URL:https://churchfields.wilts.sch.uk/event/carols-atworth/
CATEGORIES:Curriculum,General
END:VEVENT
BEGIN:VEVENT
DTSTART;TZID=Europe/London:20241218T120000
DTEND;TZID=Europe/London:20241218T130000
DTSTAMP:20260420T091928
CREATED:20240725T133521Z
LAST-MODIFIED:20240911T110025Z
UID:8556-1734523200-1734526800@churchfields.wilts.sch.uk
SUMMARY:Christmas Dinner
DESCRIPTION:
URL:https://churchfields.wilts.sch.uk/event/christmas-dinner-3/
END:VEVENT
BEGIN:VEVENT
DTSTART;TZID=Europe/London:20241217T131500
DTEND;TZID=Europe/London:20241217T150000
DTSTAMP:20260420T091928
CREATED:20240911T114359Z
LAST-MODIFIED:20240911T114359Z
UID:8596-1734441300-1734447600@churchfields.wilts.sch.uk
SUMMARY:Carols Monkton Farleigh
DESCRIPTION:
URL:https://churchfields.wilts.sch.uk/event/carols-monkton-farleigh/
CATEGORIES:Curriculum,General
END:VEVENT
BEGIN:VEVENT
DTSTART;VALUE=DATE:20241212
DTEND;VALUE=DATE:20241213
DTSTAMP:20260420T091928
CREATED:20240911T114310Z
LAST-MODIFIED:20240911T114310Z
UID:8594-1733961600-1734047999@churchfields.wilts.sch.uk
SUMMARY:EYFS/KS1 Christmas Production
DESCRIPTION:Dress rehearsal 1:30pm \n1st performance 4pm \n2nd performance 6pm
URL:https://churchfields.wilts.sch.uk/event/eyfs-ks1-christmas-production-2/
CATEGORIES:Curriculum,General
END:VEVENT
END:VCALENDAR