BEGIN:VCALENDAR
VERSION:2.0
PRODID:-//Churchfields - The Village School - ECPv6.15.11//NONSGML v1.0//EN
CALSCALE:GREGORIAN
METHOD:PUBLISH
X-WR-CALNAME:Churchfields - The Village School
X-ORIGINAL-URL:https://churchfields.wilts.sch.uk
X-WR-CALDESC:Events for Churchfields - The Village School
REFRESH-INTERVAL;VALUE=DURATION:PT1H
X-Robots-Tag:noindex
X-PUBLISHED-TTL:PT1H
BEGIN:VTIMEZONE
TZID:Europe/London
BEGIN:DAYLIGHT
TZOFFSETFROM:+0000
TZOFFSETTO:+0100
TZNAME:BST
DTSTART:20220327T010000
END:DAYLIGHT
BEGIN:STANDARD
TZOFFSETFROM:+0100
TZOFFSETTO:+0000
TZNAME:GMT
DTSTART:20221030T010000
END:STANDARD
BEGIN:DAYLIGHT
TZOFFSETFROM:+0000
TZOFFSETTO:+0100
TZNAME:BST
DTSTART:20230326T010000
END:DAYLIGHT
BEGIN:STANDARD
TZOFFSETFROM:+0100
TZOFFSETTO:+0000
TZNAME:GMT
DTSTART:20231029T010000
END:STANDARD
BEGIN:DAYLIGHT
TZOFFSETFROM:+0000
TZOFFSETTO:+0100
TZNAME:BST
DTSTART:20240331T010000
END:DAYLIGHT
BEGIN:STANDARD
TZOFFSETFROM:+0100
TZOFFSETTO:+0000
TZNAME:GMT
DTSTART:20241027T010000
END:STANDARD
BEGIN:DAYLIGHT
TZOFFSETFROM:+0000
TZOFFSETTO:+0100
TZNAME:BST
DTSTART:20250330T010000
END:DAYLIGHT
BEGIN:STANDARD
TZOFFSETFROM:+0100
TZOFFSETTO:+0000
TZNAME:GMT
DTSTART:20251026T010000
END:STANDARD
END:VTIMEZONE
BEGIN:VEVENT
DTSTART;TZID=Europe/London:20240415T080000
DTEND;TZID=Europe/London:20240415T170000
DTSTAMP:20260421T004345
CREATED:20231208T110907Z
LAST-MODIFIED:20231208T110907Z
UID:8284-1713168000-1713200400@churchfields.wilts.sch.uk
SUMMARY:Start of Term 5
DESCRIPTION:
URL:https://churchfields.wilts.sch.uk/event/start-of-term-5/
CATEGORIES:Curriculum
END:VEVENT
BEGIN:VEVENT
DTSTART;TZID=Europe/London:20240328T143000
DTEND;TZID=Europe/London:20240328T150000
DTSTAMP:20260421T004345
CREATED:20231208T110153Z
LAST-MODIFIED:20240319T142923Z
UID:8275-1711636200-1711638000@churchfields.wilts.sch.uk
SUMMARY:Easter Concert Monkton Farleigh
DESCRIPTION:
URL:https://churchfields.wilts.sch.uk/event/easter-concert/
CATEGORIES:Curriculum,General
END:VEVENT
BEGIN:VEVENT
DTSTART;TZID=Europe/London:20240328T080000
DTEND;TZID=Europe/London:20240328T170000
DTSTAMP:20260421T004345
CREATED:20231208T110242Z
LAST-MODIFIED:20231208T110242Z
UID:8277-1711612800-1711645200@churchfields.wilts.sch.uk
SUMMARY:End of Term 4
DESCRIPTION:
URL:https://churchfields.wilts.sch.uk/event/end-of-term-4-5/
CATEGORIES:Curriculum,General
END:VEVENT
BEGIN:VEVENT
DTSTART;TZID=Europe/London:20240326T131500
DTEND;TZID=Europe/London:20240326T140000
DTSTAMP:20260421T004345
CREATED:20231208T110129Z
LAST-MODIFIED:20231208T110129Z
UID:8273-1711458900-1711461600@churchfields.wilts.sch.uk
SUMMARY:Easter Service St Michaels Church
DESCRIPTION:
URL:https://churchfields.wilts.sch.uk/event/easter-service-st-michaels-church/
CATEGORIES:Curriculum,General
END:VEVENT
BEGIN:VEVENT
DTSTART;TZID=Europe/London:20240321T150000
DTEND;TZID=Europe/London:20240321T180000
DTSTAMP:20260421T004345
CREATED:20231208T110033Z
LAST-MODIFIED:20231208T110033Z
UID:8271-1711033200-1711044000@churchfields.wilts.sch.uk
SUMMARY:Parents Evening until 6pm
DESCRIPTION:
URL:https://churchfields.wilts.sch.uk/event/parents-evening-until-6pm-6/
CATEGORIES:Curriculum,General
END:VEVENT
BEGIN:VEVENT
DTSTART;TZID=Europe/London:20240319T150000
DTEND;TZID=Europe/London:20240319T193000
DTSTAMP:20260421T004345
CREATED:20231208T105944Z
LAST-MODIFIED:20231208T105955Z
UID:8269-1710860400-1710876600@churchfields.wilts.sch.uk
SUMMARY:Parents evening until 7:30pm
DESCRIPTION:
URL:https://churchfields.wilts.sch.uk/event/parents-evening-until-730pm-6/
CATEGORIES:Curriculum,General
END:VEVENT
BEGIN:VEVENT
DTSTART;TZID=Europe/London:20240318T080000
DTEND;TZID=Europe/London:20240322T170000
DTSTAMP:20260421T004345
CREATED:20231208T105902Z
LAST-MODIFIED:20231208T105902Z
UID:8267-1710748800-1711126800@churchfields.wilts.sch.uk
SUMMARY:No Teacher led clubs 18 March to 22 March
DESCRIPTION:
URL:https://churchfields.wilts.sch.uk/event/no-teacher-led-clubs-18-march-to-22-march/
CATEGORIES:General
END:VEVENT
BEGIN:VEVENT
DTSTART;TZID=Europe/London:20240318T080000
DTEND;TZID=Europe/London:20240322T170000
DTSTAMP:20260421T004345
CREATED:20231208T105805Z
LAST-MODIFIED:20240115T113243Z
UID:8263-1710748800-1711126800@churchfields.wilts.sch.uk
SUMMARY:STEM Week
DESCRIPTION:
URL:https://churchfields.wilts.sch.uk/event/stem-week-2/
CATEGORIES:Curriculum
END:VEVENT
BEGIN:VEVENT
DTSTART;VALUE=DATE:20240315
DTEND;VALUE=DATE:20240316
DTSTAMP:20260421T004345
CREATED:20231208T105828Z
LAST-MODIFIED:20231208T105828Z
UID:8265-1710460800-1710547199@churchfields.wilts.sch.uk
SUMMARY:RED NOSE DAY
DESCRIPTION:
URL:https://churchfields.wilts.sch.uk/event/red-nose-day-2/
CATEGORIES:General
END:VEVENT
BEGIN:VEVENT
DTSTART;VALUE=DATE:20240311
DTEND;VALUE=DATE:20240312
DTSTAMP:20260421T004345
CREATED:20231208T105740Z
LAST-MODIFIED:20231208T105740Z
UID:8261-1710115200-1710201599@churchfields.wilts.sch.uk
SUMMARY:INSET Day school closed to pupils
DESCRIPTION:
URL:https://churchfields.wilts.sch.uk/event/inset-day-school-closed-to-pupils-3/
CATEGORIES:Curriculum,General
END:VEVENT
BEGIN:VEVENT
DTSTART;VALUE=DATE:20240311
DTEND;VALUE=DATE:20240312
DTSTAMP:20260421T004345
CREATED:20230620T133724Z
LAST-MODIFIED:20230620T133724Z
UID:7555-1710115200-1710201599@churchfields.wilts.sch.uk
SUMMARY:INSET DAY
DESCRIPTION:Whole School closed to pupils
URL:https://churchfields.wilts.sch.uk/event/inset-day-20/
CATEGORIES:Curriculum
END:VEVENT
BEGIN:VEVENT
DTSTART;TZID=Europe/London:20240307T080000
DTEND;TZID=Europe/London:20240307T170000
DTSTAMP:20260421T004345
CREATED:20231208T105711Z
LAST-MODIFIED:20231208T105711Z
UID:8259-1709798400-1709830800@churchfields.wilts.sch.uk
SUMMARY:World Book Day
DESCRIPTION:
URL:https://churchfields.wilts.sch.uk/event/world-book-day-3/
CATEGORIES:Curriculum,General
END:VEVENT
BEGIN:VEVENT
DTSTART;VALUE=DATE:20240304
DTEND;VALUE=DATE:20240309
DTSTAMP:20260421T004345
CREATED:20240115T130131Z
LAST-MODIFIED:20240115T130131Z
UID:8307-1709510400-1709942399@churchfields.wilts.sch.uk
SUMMARY:Wiltshire Litter Pick week
DESCRIPTION:More information to follow whole school to support Litter Pick
URL:https://churchfields.wilts.sch.uk/event/wiltshire-litter-pick-week/
CATEGORIES:General
END:VEVENT
BEGIN:VEVENT
DTSTART;TZID=Europe/London:20240227T120000
DTEND;TZID=Europe/London:20240227T143000
DTSTAMP:20260421T004345
CREATED:20240115T120826Z
LAST-MODIFIED:20240115T120826Z
UID:8304-1709035200-1709044200@churchfields.wilts.sch.uk
SUMMARY:Year 5&6 STEAM Fair trip
DESCRIPTION:Please refer to letter
URL:https://churchfields.wilts.sch.uk/event/year-56-steam-fair-trip/
CATEGORIES:Curriculum
END:VEVENT
BEGIN:VEVENT
DTSTART;TZID=Europe/London:20240219T080000
DTEND;TZID=Europe/London:20240219T170000
DTSTAMP:20260421T004345
CREATED:20231208T105644Z
LAST-MODIFIED:20231208T105644Z
UID:8257-1708329600-1708362000@churchfields.wilts.sch.uk
SUMMARY:Start of Term 4
DESCRIPTION:
URL:https://churchfields.wilts.sch.uk/event/start-of-term-4/
CATEGORIES:Curriculum,General
END:VEVENT
BEGIN:VEVENT
DTSTART;TZID=Europe/London:20240209T080000
DTEND;TZID=Europe/London:20240209T170000
DTSTAMP:20260421T004345
CREATED:20231208T105625Z
LAST-MODIFIED:20231208T105625Z
UID:8255-1707465600-1707498000@churchfields.wilts.sch.uk
SUMMARY:End of Term 3
DESCRIPTION:
URL:https://churchfields.wilts.sch.uk/event/end-of-term-3-5/
CATEGORIES:Curriculum,General
END:VEVENT
BEGIN:VEVENT
DTSTART;TZID=Europe/London:20240206T080000
DTEND;TZID=Europe/London:20240206T170000
DTSTAMP:20260421T004345
CREATED:20231208T105605Z
LAST-MODIFIED:20231208T105605Z
UID:8253-1707206400-1707238800@churchfields.wilts.sch.uk
SUMMARY:Safer Internet Day
DESCRIPTION:
URL:https://churchfields.wilts.sch.uk/event/safer-internet-day-2/
CATEGORIES:Curriculum
END:VEVENT
BEGIN:VEVENT
DTSTART;TZID=Europe/London:20240206T080000
DTEND;TZID=Europe/London:20240206T170000
DTSTAMP:20260421T004345
CREATED:20231208T105535Z
LAST-MODIFIED:20231208T105535Z
UID:8251-1707206400-1707238800@churchfields.wilts.sch.uk
SUMMARY:Dance Festival Bath Forum
DESCRIPTION:Dance Club will be taking part in Dance Festival at Bath Forum during  the afternoon evening
URL:https://churchfields.wilts.sch.uk/event/dance-festival-bath-forum-2/
CATEGORIES:General
END:VEVENT
BEGIN:VEVENT
DTSTART;TZID=Europe/London:20240205T080000
DTEND;TZID=Europe/London:20240209T170000
DTSTAMP:20260421T004345
CREATED:20231208T105439Z
LAST-MODIFIED:20231208T105439Z
UID:8249-1707120000-1707498000@churchfields.wilts.sch.uk
SUMMARY:E- Safety Week
DESCRIPTION:
URL:https://churchfields.wilts.sch.uk/event/e-safety-week-2/
CATEGORIES:Curriculum
END:VEVENT
BEGIN:VEVENT
DTSTART;VALUE=DATE:20240112
DTEND;VALUE=DATE:20240113
DTSTAMP:20260421T004345
CREATED:20231208T105404Z
LAST-MODIFIED:20231208T105404Z
UID:8247-1705017600-1705103999@churchfields.wilts.sch.uk
SUMMARY:Spirituality Day Whole School Atworth Base
DESCRIPTION:Sprituality Day all pupils at Atworth Base
URL:https://churchfields.wilts.sch.uk/event/spirituality-day-whole-school-atworth-base/
CATEGORIES:Curriculum
END:VEVENT
BEGIN:VEVENT
DTSTART;TZID=Europe/London:20240108T080000
DTEND;TZID=Europe/London:20240108T170000
DTSTAMP:20260421T004345
CREATED:20231208T105227Z
LAST-MODIFIED:20231208T105227Z
UID:8243-1704700800-1704733200@churchfields.wilts.sch.uk
SUMMARY:All school clubs start back this week
DESCRIPTION:
URL:https://churchfields.wilts.sch.uk/event/all-school-clubs-start-back-this-week/
END:VEVENT
BEGIN:VEVENT
DTSTART;VALUE=DATE:20240108
DTEND;VALUE=DATE:20240109
DTSTAMP:20260421T004345
CREATED:20231208T105313Z
LAST-MODIFIED:20231208T105313Z
UID:8245-1704672000-1704758399@churchfields.wilts.sch.uk
SUMMARY:KS2 WOW Day
DESCRIPTION:KS2 WOW Day all pupils in KS2 at Atworth Base
URL:https://churchfields.wilts.sch.uk/event/ks2-wow-day-3/
CATEGORIES:Curriculum,General
END:VEVENT
BEGIN:VEVENT
DTSTART;VALUE=DATE:20240104
DTEND;VALUE=DATE:20240105
DTSTAMP:20260421T004345
CREATED:20231208T105158Z
LAST-MODIFIED:20231208T105158Z
UID:8241-1704326400-1704412799@churchfields.wilts.sch.uk
SUMMARY:Start of Term 3
DESCRIPTION:
URL:https://churchfields.wilts.sch.uk/event/start-of-term-3/
CATEGORIES:Curriculum
END:VEVENT
BEGIN:VEVENT
DTSTART;VALUE=DATE:20231220
DTEND;VALUE=DATE:20231221
DTSTAMP:20260421T004345
CREATED:20230906T181342Z
LAST-MODIFIED:20230906T181342Z
UID:8023-1703030400-1703116799@churchfields.wilts.sch.uk
SUMMARY:End of term 2
DESCRIPTION:
URL:https://churchfields.wilts.sch.uk/event/end-of-term-2-4/
END:VEVENT
BEGIN:VEVENT
DTSTART;TZID=Europe/London:20231219T173000
DTEND;TZID=Europe/London:20231219T190000
DTSTAMP:20260421T004346
CREATED:20231121T095500Z
LAST-MODIFIED:20231121T095500Z
UID:8225-1703007000-1703012400@churchfields.wilts.sch.uk
SUMMARY:School Christmas Disco Atworth Base 5:30pm to 7pm
DESCRIPTION:School Christmas Disco Atworth Base 5:30pm to 7pm
URL:https://churchfields.wilts.sch.uk/event/school-christmas-disco-atworth-base-530pm-to-7pm/
LOCATION:Atworth Base\, Churchfields School\, Atworth\, WILTSHIRE\, SN12 8HY\, United Kingdom
CATEGORIES:PTA
END:VEVENT
BEGIN:VEVENT
DTSTART;TZID=Europe/London:20231219T131500
DTEND;TZID=Europe/London:20231219T143000
DTSTAMP:20260421T004346
CREATED:20230906T181308Z
LAST-MODIFIED:20230906T181308Z
UID:8021-1702991700-1702996200@churchfields.wilts.sch.uk
SUMMARY:Carol Service Atworth Church
DESCRIPTION:
URL:https://churchfields.wilts.sch.uk/event/carol-service-atworth-church/
CATEGORIES:Curriculum
END:VEVENT
BEGIN:VEVENT
DTSTART;VALUE=DATE:20231215
DTEND;VALUE=DATE:20231216
DTSTAMP:20260421T004346
CREATED:20230906T180839Z
LAST-MODIFIED:20230906T180839Z
UID:8019-1702598400-1702684799@churchfields.wilts.sch.uk
SUMMARY:School Christmas dinner
DESCRIPTION:
URL:https://churchfields.wilts.sch.uk/event/school-christmas-dinner/
CATEGORIES:General
END:VEVENT
BEGIN:VEVENT
DTSTART;TZID=Europe/London:20231208T150000
DTEND;TZID=Europe/London:20231208T180000
DTSTAMP:20260421T004346
CREATED:20231121T094319Z
LAST-MODIFIED:20231121T094319Z
UID:8215-1702047600-1702058400@churchfields.wilts.sch.uk
SUMMARY:Monkton Farleigh Film & Fun 3pm – 5pm and parents/Carers welcome 5pm -6pm
DESCRIPTION:
URL:https://churchfields.wilts.sch.uk/event/monkton-farleigh-film-fun-3pm-5pm-and-parents-carers-welcome-5pm-6pm/
LOCATION:MF Base\, Churchfields School\, Monkton Farleigh\, Bradford-on-Avon\, BA15 2QD\, United Kingdom
CATEGORIES:General,PTA
END:VEVENT
BEGIN:VEVENT
DTSTART;VALUE=DATE:20231207
DTEND;VALUE=DATE:20231208
DTSTAMP:20260421T004346
CREATED:20230906T180730Z
LAST-MODIFIED:20231106T103324Z
UID:8017-1701907200-1701993599@churchfields.wilts.sch.uk
SUMMARY:FDN/KS1 productions
DESCRIPTION:dress rehearsal 1:30 pm \n1st performance 4pm \n2nd performance 6pm \nboth performances take place at the church hall
URL:https://churchfields.wilts.sch.uk/event/fdn-ks1-productions/
CATEGORIES:Curriculum
END:VEVENT
BEGIN:VEVENT
DTSTART;VALUE=DATE:20231205
DTEND;VALUE=DATE:20231206
DTSTAMP:20260421T004346
CREATED:20231017T114804Z
LAST-MODIFIED:20231106T103417Z
UID:8118-1701734400-1701820799@churchfields.wilts.sch.uk
SUMMARY:KS2 Christmas production performances
DESCRIPTION:dress rehearsal 1:30 pm \n1st performance 4pm \n2nd performance 6pm \nboth performances take place at St. Michaels Church
URL:https://churchfields.wilts.sch.uk/event/ks2-christmas-production-performances/
END:VEVENT
END:VCALENDAR