BEGIN:VCALENDAR
VERSION:2.0
PRODID:-//Churchfields - The Village School - ECPv6.15.11//NONSGML v1.0//EN
CALSCALE:GREGORIAN
METHOD:PUBLISH
X-WR-CALNAME:Churchfields - The Village School
X-ORIGINAL-URL:https://churchfields.wilts.sch.uk
X-WR-CALDESC:Events for Churchfields - The Village School
REFRESH-INTERVAL;VALUE=DURATION:PT1H
X-Robots-Tag:noindex
X-PUBLISHED-TTL:PT1H
BEGIN:VTIMEZONE
TZID:Europe/London
BEGIN:DAYLIGHT
TZOFFSETFROM:+0000
TZOFFSETTO:+0100
TZNAME:BST
DTSTART:20180325T010000
END:DAYLIGHT
BEGIN:STANDARD
TZOFFSETFROM:+0100
TZOFFSETTO:+0000
TZNAME:GMT
DTSTART:20181028T010000
END:STANDARD
BEGIN:DAYLIGHT
TZOFFSETFROM:+0000
TZOFFSETTO:+0100
TZNAME:BST
DTSTART:20190331T010000
END:DAYLIGHT
BEGIN:STANDARD
TZOFFSETFROM:+0100
TZOFFSETTO:+0000
TZNAME:GMT
DTSTART:20191027T010000
END:STANDARD
BEGIN:DAYLIGHT
TZOFFSETFROM:+0000
TZOFFSETTO:+0100
TZNAME:BST
DTSTART:20200329T010000
END:DAYLIGHT
BEGIN:STANDARD
TZOFFSETFROM:+0100
TZOFFSETTO:+0000
TZNAME:GMT
DTSTART:20201025T010000
END:STANDARD
BEGIN:DAYLIGHT
TZOFFSETFROM:+0000
TZOFFSETTO:+0100
TZNAME:BST
DTSTART:20210328T010000
END:DAYLIGHT
BEGIN:STANDARD
TZOFFSETFROM:+0100
TZOFFSETTO:+0000
TZNAME:GMT
DTSTART:20211031T010000
END:STANDARD
END:VTIMEZONE
BEGIN:VEVENT
DTSTART;TZID=Europe/London:20200108T080000
DTEND;TZID=Europe/London:20200108T170000
DTSTAMP:20260425T151236
CREATED:20191217T113542Z
LAST-MODIFIED:20191217T113542Z
UID:1268-1578470400-1578502800@churchfields.wilts.sch.uk
SUMMARY:KS2 WOW Day Monkton Farleigh
DESCRIPTION:
URL:https://churchfields.wilts.sch.uk/event/ks2-wow-day-monkton-farleigh/
END:VEVENT
BEGIN:VEVENT
DTSTART;TZID=Europe/London:20200106T080000
DTEND;TZID=Europe/London:20200106T170000
DTSTAMP:20260425T151236
CREATED:20191217T113426Z
LAST-MODIFIED:20191217T113426Z
UID:1266-1578297600-1578330000@churchfields.wilts.sch.uk
SUMMARY:Term 3 begins
DESCRIPTION:
URL:https://churchfields.wilts.sch.uk/event/term-3-begins/
END:VEVENT
BEGIN:VEVENT
DTSTART;TZID=Europe/London:20191220T150000
DTEND;TZID=Europe/London:20191220T153000
DTSTAMP:20260425T151236
CREATED:20191217T121053Z
LAST-MODIFIED:20191219T094423Z
UID:1309-1576854000-1576855800@churchfields.wilts.sch.uk
SUMMARY:End of Term 2
DESCRIPTION:
URL:https://churchfields.wilts.sch.uk/event/end-of-term-2/
END:VEVENT
BEGIN:VEVENT
DTSTART;TZID=Europe/London:20191220T144500
DTEND;TZID=Europe/London:20191220T151500
DTSTAMP:20260425T151236
CREATED:20191217T121909Z
LAST-MODIFIED:20191217T122435Z
UID:1315-1576853100-1576854900@churchfields.wilts.sch.uk
SUMMARY:GEM Learner Atworth
DESCRIPTION:
URL:https://churchfields.wilts.sch.uk/event/gem-learner-atworth/
END:VEVENT
BEGIN:VEVENT
DTSTART;TZID=Europe/London:20191220T143000
DTEND;TZID=Europe/London:20191220T150000
DTSTAMP:20260425T151236
CREATED:20191217T121822Z
LAST-MODIFIED:20191217T121822Z
UID:1313-1576852200-1576854000@churchfields.wilts.sch.uk
SUMMARY:GEM Learner Monkton Farleigh
DESCRIPTION:
URL:https://churchfields.wilts.sch.uk/event/gem-learner-monkton-farleigh/
END:VEVENT
BEGIN:VEVENT
DTSTART;TZID=Europe/London:20191219T173000
DTEND;TZID=Europe/London:20191219T190000
DTSTAMP:20260425T151236
CREATED:20191001T105430Z
LAST-MODIFIED:20191217T122448Z
UID:1162-1576776600-1576782000@churchfields.wilts.sch.uk
SUMMARY:Christmas Disco Atworth Base
DESCRIPTION:£3 per child / £2 for additional sibling\, entrance includes a drink and a hot dog
URL:https://churchfields.wilts.sch.uk/event/christmas-disco/
CATEGORIES:PTA
END:VEVENT
BEGIN:VEVENT
DTSTART;TZID=Europe/London:20191219T150000
DTEND;TZID=Europe/London:20191219T160000
DTSTAMP:20260425T151236
CREATED:20191219T094016Z
LAST-MODIFIED:20191219T094127Z
UID:1319-1576767600-1576771200@churchfields.wilts.sch.uk
SUMMARY:Cancelled: Carols on The Amphitheatre
DESCRIPTION:Carols on the Amphitheatre is cancelled due to unforeseen staff illness. Sadly\, we are unable to reschedule this due to the lateness in the term but hope families will join us at the Atworth base for the Christmas disco. \n 
URL:https://churchfields.wilts.sch.uk/event/cancelled-carols-on-the-amphitheatre/
CATEGORIES:General
END:VEVENT
BEGIN:VEVENT
DTSTART;TZID=Europe/London:20191218T131500
DTEND;TZID=Europe/London:20191218T143000
DTSTAMP:20260425T151236
CREATED:20191217T121543Z
LAST-MODIFIED:20191217T121543Z
UID:1311-1576674900-1576679400@churchfields.wilts.sch.uk
SUMMARY:Carol Service St Michael's Church Atworth
DESCRIPTION:
URL:https://churchfields.wilts.sch.uk/event/carol-service-st-michaels-church-atworth/
END:VEVENT
BEGIN:VEVENT
DTSTART;VALUE=DATE:20191201
DTEND;VALUE=DATE:20191202
DTSTAMP:20260425T151236
CREATED:20191001T105202Z
LAST-MODIFIED:20191001T105202Z
UID:1158-1575158400-1575244799@churchfields.wilts.sch.uk
SUMMARY:Christmas Fair
DESCRIPTION:
URL:https://churchfields.wilts.sch.uk/event/christmas-fair/
CATEGORIES:PTA
END:VEVENT
BEGIN:VEVENT
DTSTART;VALUE=DATE:20191120
DTEND;VALUE=DATE:20191121
DTSTAMP:20260425T151236
CREATED:20190903T063658Z
LAST-MODIFIED:20190903T063658Z
UID:947-1574208000-1574294399@churchfields.wilts.sch.uk
SUMMARY:WOW Day
DESCRIPTION:
URL:https://churchfields.wilts.sch.uk/event/wow-day-2/
CATEGORIES:General
END:VEVENT
BEGIN:VEVENT
DTSTART;VALUE=DATE:20191115
DTEND;VALUE=DATE:20191116
DTSTAMP:20260425T151236
CREATED:20190903T063617Z
LAST-MODIFIED:20190903T063617Z
UID:945-1573776000-1573862399@churchfields.wilts.sch.uk
SUMMARY:Children In Need
DESCRIPTION:
URL:https://churchfields.wilts.sch.uk/event/children-in-need/
CATEGORIES:General
END:VEVENT
BEGIN:VEVENT
DTSTART;VALUE=DATE:20191111
DTEND;VALUE=DATE:20191116
DTSTAMP:20260425T151236
CREATED:20190903T063420Z
LAST-MODIFIED:20190903T063420Z
UID:943-1573430400-1573862399@churchfields.wilts.sch.uk
SUMMARY:E- Safety Week (Anti-Bullying Week)
DESCRIPTION:
URL:https://churchfields.wilts.sch.uk/event/e-safety-week-anti-bullying-week/
CATEGORIES:General
END:VEVENT
BEGIN:VEVENT
DTSTART;VALUE=DATE:20191104
DTEND;VALUE=DATE:20191109
DTSTAMP:20260425T151236
CREATED:20190903T063335Z
LAST-MODIFIED:20190903T063335Z
UID:941-1572825600-1573257599@churchfields.wilts.sch.uk
SUMMARY:Book Week
DESCRIPTION:
URL:https://churchfields.wilts.sch.uk/event/book-week/
CATEGORIES:General
END:VEVENT
BEGIN:VEVENT
DTSTART;VALUE=DATE:20191104
DTEND;VALUE=DATE:20191105
DTSTAMP:20260425T151236
CREATED:20190903T063247Z
LAST-MODIFIED:20190903T063247Z
UID:939-1572825600-1572911999@churchfields.wilts.sch.uk
SUMMARY:Term 2 begins
DESCRIPTION:
URL:https://churchfields.wilts.sch.uk/event/term-2-begins/
CATEGORIES:General
END:VEVENT
BEGIN:VEVENT
DTSTART;VALUE=DATE:20191023
DTEND;VALUE=DATE:20191024
DTSTAMP:20260425T151236
CREATED:20190903T063214Z
LAST-MODIFIED:20190906T081833Z
UID:937-1571788800-1571875199@churchfields.wilts.sch.uk
SUMMARY:End of term 1
DESCRIPTION:
URL:https://churchfields.wilts.sch.uk/event/end-of-term-1/
CATEGORIES:General
END:VEVENT
BEGIN:VEVENT
DTSTART;VALUE=DATE:20191023
DTEND;VALUE=DATE:20191024
DTSTAMP:20260425T151236
CREATED:20190903T063116Z
LAST-MODIFIED:20190903T063116Z
UID:935-1571788800-1571875199@churchfields.wilts.sch.uk
SUMMARY:INSET Day
DESCRIPTION:
URL:https://churchfields.wilts.sch.uk/event/inset-day/
CATEGORIES:General
END:VEVENT
BEGIN:VEVENT
DTSTART;VALUE=DATE:20191022
DTEND;VALUE=DATE:20191023
DTSTAMP:20260425T151236
CREATED:20191001T104809Z
LAST-MODIFIED:20191011T124942Z
UID:1152-1571702400-1571788799@churchfields.wilts.sch.uk
SUMMARY:PTA School Movie Night
DESCRIPTION:
URL:https://churchfields.wilts.sch.uk/event/pta-school-movie-night/
CATEGORIES:PTA
END:VEVENT
BEGIN:VEVENT
DTSTART;TZID=Europe/London:20191015T131500
DTEND;TZID=Europe/London:20191015T150000
DTSTAMP:20260425T151236
CREATED:20190903T062814Z
LAST-MODIFIED:20190903T062814Z
UID:931-1571145300-1571151600@churchfields.wilts.sch.uk
SUMMARY:Harvest Festival Atworth Church
DESCRIPTION:
URL:https://churchfields.wilts.sch.uk/event/harvest-festival-atworth-church/
CATEGORIES:General
END:VEVENT
BEGIN:VEVENT
DTSTART;VALUE=DATE:20191008
DTEND;VALUE=DATE:20191009
DTSTAMP:20260425T151236
CREATED:20190903T062911Z
LAST-MODIFIED:20190906T154824Z
UID:933-1570492800-1570579199@churchfields.wilts.sch.uk
SUMMARY:Parents’ evening
DESCRIPTION:3:15 – 7:15pm – Monkton Farleigh \n3:30 – 7:30pm – Atworth \n\n\n\nPlease sign up for a slot on the sheets that will become available at both bases. We do encourage all parents to attend. \nMr Futcher will be at the Atworth base on Tuesday 8th if there is anything you would like to discuss with him.
URL:https://churchfields.wilts.sch.uk/event/parents-evening-2/
CATEGORIES:General
END:VEVENT
BEGIN:VEVENT
DTSTART;VALUE=DATE:20191007
DTEND;VALUE=DATE:20191008
DTSTAMP:20260425T151236
CREATED:20190903T062708Z
LAST-MODIFIED:20190906T154850Z
UID:929-1570406400-1570492799@churchfields.wilts.sch.uk
SUMMARY:Parents’ Evening
DESCRIPTION:3:15 – 5:45pm – Monkton Farleigh \n3:30 – 6pm – Atworth \n\n\n\nPlease sign up for a slot on the sheets that will become available at both bases. We do encourage all parents to attend. \nMr Futcher will be at the Monkton Farleigh base on Monday 7th October if there is anything you would like to discuss with him.
URL:https://churchfields.wilts.sch.uk/event/parents-evening/
CATEGORIES:General
END:VEVENT
BEGIN:VEVENT
DTSTART;TZID=Europe/London:20191005T173000
DTEND;TZID=Europe/London:20191005T200000
DTSTAMP:20260425T151236
CREATED:20190925T093318Z
LAST-MODIFIED:20190925T093318Z
UID:1068-1570296600-1570305600@churchfields.wilts.sch.uk
SUMMARY:Family Quiz Night
DESCRIPTION:Churchfields PTA will be hosting a Family Quiz Night on Saturday the 5th of October\, in the Atworth base school hall.\n\n \n\nWe’re asking everyone to arrive at 5.30pm for a 6pm start. It costs £2 per adult and £1 per child\, with teams of 8 (max 4 adults per team)\n\n \n\nThere will be a selection of snacks and drinks available (including alcoholic ones!).\n\n \n\nSpaces are limited\, so we are allowing teams to pre-book at reception\, please pay when booking.
URL:https://churchfields.wilts.sch.uk/event/family-quiz-night/
LOCATION:Atworth Base\, Churchfields School\, Atworth\, WILTSHIRE\, SN12 8HY\, United Kingdom
CATEGORIES:PTA
END:VEVENT
BEGIN:VEVENT
DTSTART;TZID=Europe/London:20191003T100000
DTEND;TZID=Europe/London:20191003T140000
DTSTAMP:20260425T151236
CREATED:20190903T062626Z
LAST-MODIFIED:20190903T062626Z
UID:927-1570096800-1570111200@churchfields.wilts.sch.uk
SUMMARY:Monkton Farleigh Open Day
DESCRIPTION:
URL:https://churchfields.wilts.sch.uk/event/monkton-farleigh-open-day/
CATEGORIES:General
END:VEVENT
BEGIN:VEVENT
DTSTART;TZID=Europe/London:20191002T100000
DTEND;TZID=Europe/London:20191002T140000
DTSTAMP:20260425T151236
CREATED:20190903T062543Z
LAST-MODIFIED:20190903T062543Z
UID:925-1570010400-1570024800@churchfields.wilts.sch.uk
SUMMARY:Atworth Open Day
DESCRIPTION:
URL:https://churchfields.wilts.sch.uk/event/atworth-open-day/
CATEGORIES:General
END:VEVENT
BEGIN:VEVENT
DTSTART;VALUE=DATE:20190921
DTEND;VALUE=DATE:20190922
DTSTAMP:20260425T151236
CREATED:20190903T062422Z
LAST-MODIFIED:20190908T115810Z
UID:923-1569024000-1569110399@churchfields.wilts.sch.uk
SUMMARY:Zoe and Charli Skydive
DESCRIPTION:Zoe and Charli are bravely doing a Skydive in support of the Churchfields School Pool Fund. They will dive on Saturday 21st September through goskydive.com and you are all invited to watch our intrepid duo complete their challenge. \nIf you would like to sponsor this amazing feat you can add your details to the sponsor form at either site at drop off or via the just giving page at : \nhttps://www.justgiving.com/crowdfunding/churchfieldsswimmingpool
URL:https://churchfields.wilts.sch.uk/event/zoe-and-charli-skydive/
CATEGORIES:PTA
END:VEVENT
BEGIN:VEVENT
DTSTART;VALUE=DATE:20190917
DTEND;VALUE=DATE:20190918
DTSTAMP:20260425T151236
CREATED:20190903T062039Z
LAST-MODIFIED:20190903T062055Z
UID:920-1568678400-1568764799@churchfields.wilts.sch.uk
SUMMARY:Wiltshire Air ambulance visit
DESCRIPTION:
URL:https://churchfields.wilts.sch.uk/event/wiltshire-air-ambulance-visit/
CATEGORIES:General
END:VEVENT
BEGIN:VEVENT
DTSTART;TZID=Europe/London:20190913T173000
DTEND;TZID=Europe/London:20190913T190000
DTSTAMP:20260425T151236
CREATED:20190905T132600Z
LAST-MODIFIED:20190913T101538Z
UID:959-1568395800-1568401200@churchfields.wilts.sch.uk
SUMMARY:Castle Combe Racetrack Takeover
DESCRIPTION:Bring your bikes\, trikes and scooters for an evening of 5th gear fun to celebrate the beginning of term. \nCome and support Churchfields PTA (£5 per family suggested donation) \nPicnics are welcome – as there are no refreshments onsite. \n*All riders must wear helmets*
URL:https://churchfields.wilts.sch.uk/event/castle-combe-racetrack-takeover/
LOCATION:Castle Combe Racetrack\, SN14 7BW
CATEGORIES:PTA
END:VEVENT
BEGIN:VEVENT
DTSTART;VALUE=DATE:20190911
DTEND;VALUE=DATE:20190912
DTSTAMP:20260425T151236
CREATED:20190903T062004Z
LAST-MODIFIED:20190906T081851Z
UID:918-1568160000-1568246399@churchfields.wilts.sch.uk
SUMMARY:WOW! Day
DESCRIPTION:KS2 will be at the Atworth base taking part in a codebreaking workshop to launch their new topic on WW2. There is a voluntary contribution of £3.50 per child to supplement this. \nKS1 will be starting their ‘Superheroes’ topic at the Monkton Farleigh Base where the children will be involved in lots of different toy and game related activities. It would be great if your child could come in dressed as their favourite Superhero.
URL:https://churchfields.wilts.sch.uk/event/wow-day/
CATEGORIES:General
END:VEVENT
BEGIN:VEVENT
DTSTART;VALUE=DATE:20190910
DTEND;VALUE=DATE:20190911
DTSTAMP:20260425T151236
CREATED:20190903T061915Z
LAST-MODIFIED:20190906T154436Z
UID:916-1568073600-1568159999@churchfields.wilts.sch.uk
SUMMARY:Individual School photos
DESCRIPTION:We have booked Tempest Photography for Tuesday 10 September to come and take individual school Photos. The photographer will be at Atworth base following morning registration and will then go to Monkton Farleigh base. Siblings can have their photos taken together.
URL:https://churchfields.wilts.sch.uk/event/individual-school-photos/
CATEGORIES:General
END:VEVENT
BEGIN:VEVENT
DTSTART;VALUE=DATE:20190902
DTEND;VALUE=DATE:20190903
DTSTAMP:20260425T151236
CREATED:20190903T061800Z
LAST-MODIFIED:20190903T061800Z
UID:914-1567382400-1567468799@churchfields.wilts.sch.uk
SUMMARY:Term 1 begins
DESCRIPTION:
URL:https://churchfields.wilts.sch.uk/event/term-1-begins/
CATEGORIES:General
END:VEVENT
END:VCALENDAR