BEGIN:VCALENDAR
VERSION:2.0
PRODID:-//Churchfields - The Village School - ECPv6.15.11//NONSGML v1.0//EN
CALSCALE:GREGORIAN
METHOD:PUBLISH
X-WR-CALNAME:Churchfields - The Village School
X-ORIGINAL-URL:https://churchfields.wilts.sch.uk
X-WR-CALDESC:Events for Churchfields - The Village School
REFRESH-INTERVAL;VALUE=DURATION:PT1H
X-Robots-Tag:noindex
X-PUBLISHED-TTL:PT1H
BEGIN:VTIMEZONE
TZID:Europe/London
BEGIN:DAYLIGHT
TZOFFSETFROM:+0000
TZOFFSETTO:+0100
TZNAME:BST
DTSTART:20200329T010000
END:DAYLIGHT
BEGIN:STANDARD
TZOFFSETFROM:+0100
TZOFFSETTO:+0000
TZNAME:GMT
DTSTART:20201025T010000
END:STANDARD
BEGIN:DAYLIGHT
TZOFFSETFROM:+0000
TZOFFSETTO:+0100
TZNAME:BST
DTSTART:20210328T010000
END:DAYLIGHT
BEGIN:STANDARD
TZOFFSETFROM:+0100
TZOFFSETTO:+0000
TZNAME:GMT
DTSTART:20211031T010000
END:STANDARD
BEGIN:DAYLIGHT
TZOFFSETFROM:+0000
TZOFFSETTO:+0100
TZNAME:BST
DTSTART:20220327T010000
END:DAYLIGHT
BEGIN:STANDARD
TZOFFSETFROM:+0100
TZOFFSETTO:+0000
TZNAME:GMT
DTSTART:20221030T010000
END:STANDARD
END:VTIMEZONE
BEGIN:VEVENT
DTSTART;VALUE=DATE:20211001
DTEND;VALUE=DATE:20211002
DTSTAMP:20260422T081418
CREATED:20210923T101622Z
LAST-MODIFIED:20210923T101622Z
UID:5113-1633046400-1633132799@churchfields.wilts.sch.uk
SUMMARY:Book Character dress up day
DESCRIPTION:Come to school dressed as your favourite book character!
URL:https://churchfields.wilts.sch.uk/event/book-character-dress-up-day/
CATEGORIES:Curriculum
END:VEVENT
BEGIN:VEVENT
DTSTART;TZID=Europe/London:20210930T130000
DTEND;TZID=Europe/London:20210930T150000
DTSTAMP:20260422T081418
CREATED:20210723T123051Z
LAST-MODIFIED:20210723T123051Z
UID:4525-1633006800-1633014000@churchfields.wilts.sch.uk
SUMMARY:Nightingale Class Swimming
DESCRIPTION:afternoon session at Melksham Blue pool
URL:https://churchfields.wilts.sch.uk/event/nightingale-class-swimming-3/
CATEGORIES:Curriculum
END:VEVENT
BEGIN:VEVENT
DTSTART;TZID=Europe/London:20210929T180000
DTEND;TZID=Europe/London:20210929T190000
DTSTAMP:20260422T081418
CREATED:20210923T101455Z
LAST-MODIFIED:20210923T101455Z
UID:5111-1632938400-1632942000@churchfields.wilts.sch.uk
SUMMARY:Bedtime Stories
DESCRIPTION:All children are invited back into school\, wrapped up in their pyjamas\, slippers and dressing gown to enjoy a bedtime story read by their teachers and enjoy a hot chocolate kindly supplied by our wonderful PTA! We kindly request parents drop off and collect children at the end of the session.
URL:https://churchfields.wilts.sch.uk/event/bedtime-stories/
CATEGORIES:Curriculum,PTA
END:VEVENT
BEGIN:VEVENT
DTSTART;TZID=Europe/London:20210927T080000
DTEND;TZID=Europe/London:20211001T170000
DTSTAMP:20260422T081418
CREATED:20210723T123012Z
LAST-MODIFIED:20210923T102402Z
UID:4523-1632729600-1633107600@churchfields.wilts.sch.uk
SUMMARY:Book Week - Scholastic Book Fair - both bases every day
DESCRIPTION:We will have an amazing selection of brand-new books available to buy at both bases. The more we raise\, the more money the school will get in return to spend on new books. See the selection available online https://bookfairs.scholastic.co.uk/bookcases \nAT: from 8:30am and 3:15pm \nMF: from 8:15am and 3pm
URL:https://churchfields.wilts.sch.uk/event/book-week-2/
CATEGORIES:Curriculum,General
END:VEVENT
BEGIN:VEVENT
DTSTART;TZID=Europe/London:20210923T130000
DTEND;TZID=Europe/London:20210923T150000
DTSTAMP:20260422T081418
CREATED:20210723T122935Z
LAST-MODIFIED:20210723T122935Z
UID:4521-1632402000-1632409200@churchfields.wilts.sch.uk
SUMMARY:Nightingale Class Swimming
DESCRIPTION:afternoon session at Melksham Blue pool
URL:https://churchfields.wilts.sch.uk/event/nightingale-class-swimming-2/
CATEGORIES:Curriculum
END:VEVENT
BEGIN:VEVENT
DTSTART;TZID=Europe/London:20210916T130000
DTEND;TZID=Europe/London:20210916T150000
DTSTAMP:20260422T081418
CREATED:20210723T122825Z
LAST-MODIFIED:20210723T122825Z
UID:4519-1631797200-1631804400@churchfields.wilts.sch.uk
SUMMARY:Nightingale Class Swimming
DESCRIPTION:Afternoon session at Melksham Blue Pool
URL:https://churchfields.wilts.sch.uk/event/nightingale-class-swimming/
CATEGORIES:Curriculum
END:VEVENT
BEGIN:VEVENT
DTSTART;VALUE=DATE:20210916
DTEND;VALUE=DATE:20210917
DTSTAMP:20260422T081418
CREATED:20210723T122704Z
LAST-MODIFIED:20210723T122704Z
UID:4517-1631750400-1631836799@churchfields.wilts.sch.uk
SUMMARY:KS1 WOW! Day
DESCRIPTION:KS1 WOW Day!
URL:https://churchfields.wilts.sch.uk/event/ks1-wow-day/
CATEGORIES:Curriculum,General
END:VEVENT
BEGIN:VEVENT
DTSTART;VALUE=DATE:20210902
DTEND;VALUE=DATE:20210903
DTSTAMP:20260422T081418
CREATED:20210723T122616Z
LAST-MODIFIED:20210723T122616Z
UID:4515-1630540800-1630627199@churchfields.wilts.sch.uk
SUMMARY:TERM 1 Begins
DESCRIPTION:School open to all pupils
URL:https://churchfields.wilts.sch.uk/event/term-1-begins-3/
CATEGORIES:Curriculum,General
END:VEVENT
BEGIN:VEVENT
DTSTART;VALUE=DATE:20210901
DTEND;VALUE=DATE:20210902
DTSTAMP:20260422T081418
CREATED:20210723T122535Z
LAST-MODIFIED:20210723T124048Z
UID:4513-1630454400-1630540799@churchfields.wilts.sch.uk
SUMMARY:INSET Day
DESCRIPTION:INSET DAY school closed to pupils
URL:https://churchfields.wilts.sch.uk/event/wednesday-01-september/
CATEGORIES:Curriculum,General
END:VEVENT
BEGIN:VEVENT
DTSTART;VALUE=DATE:20210722
DTEND;VALUE=DATE:20210724
DTSTAMP:20260422T081418
CREATED:20210204T110417Z
LAST-MODIFIED:20210204T110417Z
UID:3949-1626912000-1627084799@churchfields.wilts.sch.uk
SUMMARY:INSET DAY
DESCRIPTION:
URL:https://churchfields.wilts.sch.uk/event/inset-day-7/
END:VEVENT
BEGIN:VEVENT
DTSTART;TZID=Europe/London:20210719T131500
DTEND;TZID=Europe/London:20210719T141500
DTSTAMP:20260422T081418
CREATED:20210623T083708Z
LAST-MODIFIED:20210623T083732Z
UID:4306-1626700500-1626704100@churchfields.wilts.sch.uk
SUMMARY:YR6 Leavers celebrations
DESCRIPTION:
URL:https://churchfields.wilts.sch.uk/event/yr6-leavers-celebrations/
END:VEVENT
BEGIN:VEVENT
DTSTART;VALUE=DATE:20210719
DTEND;VALUE=DATE:20210722
DTSTAMP:20260422T081418
CREATED:20210513T092653Z
LAST-MODIFIED:20210513T092653Z
UID:4194-1626652800-1626911999@churchfields.wilts.sch.uk
SUMMARY:Sports Week
DESCRIPTION:
URL:https://churchfields.wilts.sch.uk/event/sports-week/
LOCATION:whole school
CATEGORIES:Curriculum,General
END:VEVENT
BEGIN:VEVENT
DTSTART;TZID=Europe/London:20210716T150000
DTEND;TZID=Europe/London:20210716T150000
DTSTAMP:20260422T081418
CREATED:20210513T092430Z
LAST-MODIFIED:20210513T092430Z
UID:4192-1626447600-1626447600@churchfields.wilts.sch.uk
SUMMARY:Pupil Reports Go Home
DESCRIPTION:
URL:https://churchfields.wilts.sch.uk/event/pupil-reports-go-home/
LOCATION:whole school
CATEGORIES:Curriculum
END:VEVENT
BEGIN:VEVENT
DTSTART;TZID=Europe/London:20210716T130000
DTEND;TZID=Europe/London:20210716T150000
DTSTAMP:20260422T081418
CREATED:20210513T092313Z
LAST-MODIFIED:20210513T092313Z
UID:4190-1626440400-1626447600@churchfields.wilts.sch.uk
SUMMARY:Provisional Sports Day
DESCRIPTION:
URL:https://churchfields.wilts.sch.uk/event/provisional-sports-day/
CATEGORIES:Curriculum,PTA
END:VEVENT
BEGIN:VEVENT
DTSTART;TZID=Europe/London:20210713T130000
DTEND;TZID=Europe/London:20210713T150000
DTSTAMP:20260422T081418
CREATED:20210513T091707Z
LAST-MODIFIED:20210513T091707Z
UID:4186-1626181200-1626188400@churchfields.wilts.sch.uk
SUMMARY:R21 Induction Afternoon
DESCRIPTION:
URL:https://churchfields.wilts.sch.uk/event/r21-induction-afternoon-4/
LOCATION:whole school
CATEGORIES:Curriculum,General
END:VEVENT
BEGIN:VEVENT
DTSTART;TZID=Europe/London:20210709T130000
DTEND;TZID=Europe/London:20210709T150000
DTSTAMP:20260422T081418
CREATED:20210513T090123Z
LAST-MODIFIED:20210513T090123Z
UID:4180-1625835600-1625842800@churchfields.wilts.sch.uk
SUMMARY:Sports Afternoon
DESCRIPTION:
URL:https://churchfields.wilts.sch.uk/event/sports-afternoon/
CATEGORIES:Curriculum,General
END:VEVENT
BEGIN:VEVENT
DTSTART;TZID=Europe/London:20210708T125500
DTEND;TZID=Europe/London:20210708T151500
DTSTAMP:20260422T081418
CREATED:20210513T085733Z
LAST-MODIFIED:20210702T132122Z
UID:4177-1625748900-1625757300@churchfields.wilts.sch.uk
SUMMARY:YR6 St. Laurence Taster afternoon
DESCRIPTION:
URL:https://churchfields.wilts.sch.uk/event/yr6-st-laurence-taster-day/
LOCATION:St Laurence School\, BA15 1DZ
CATEGORIES:Curriculum,General
END:VEVENT
BEGIN:VEVENT
DTSTART;TZID=Europe/London:20210706T130000
DTEND;TZID=Europe/London:20210706T150000
DTSTAMP:20260422T081418
CREATED:20210513T085314Z
LAST-MODIFIED:20210513T085314Z
UID:4175-1625576400-1625583600@churchfields.wilts.sch.uk
SUMMARY:R21 Induction Afternoon
DESCRIPTION:
URL:https://churchfields.wilts.sch.uk/event/r21-induction-afternoon-3/
LOCATION:whole school
CATEGORIES:Curriculum,General
END:VEVENT
BEGIN:VEVENT
DTSTART;TZID=Europe/London:20210701T083000
DTEND;TZID=Europe/London:20210701T120000
DTSTAMP:20260422T081418
CREATED:20210623T083435Z
LAST-MODIFIED:20210623T083435Z
UID:4304-1625128200-1625140800@churchfields.wilts.sch.uk
SUMMARY:Move-Up morning
DESCRIPTION:
URL:https://churchfields.wilts.sch.uk/event/move-up-morning/
CATEGORIES:Curriculum,Forest School
END:VEVENT
BEGIN:VEVENT
DTSTART;TZID=Europe/London:20210629T130000
DTEND;TZID=Europe/London:20210629T150000
DTSTAMP:20260422T081418
CREATED:20210513T085228Z
LAST-MODIFIED:20210513T085228Z
UID:4173-1624971600-1624978800@churchfields.wilts.sch.uk
SUMMARY:R21 Induction Afternoon
DESCRIPTION:
URL:https://churchfields.wilts.sch.uk/event/r21-induction-afternoon-2/
LOCATION:whole school
CATEGORIES:Curriculum,General
END:VEVENT
BEGIN:VEVENT
DTSTART;TZID=Europe/London:20210622T130000
DTEND;TZID=Europe/London:20210622T150000
DTSTAMP:20260422T081418
CREATED:20210513T085123Z
LAST-MODIFIED:20210513T085123Z
UID:4170-1624366800-1624374000@churchfields.wilts.sch.uk
SUMMARY:R21 Induction Afternoon
DESCRIPTION:
URL:https://churchfields.wilts.sch.uk/event/r21-induction-afternoon/
LOCATION:whole school
CATEGORIES:Curriculum,General
END:VEVENT
BEGIN:VEVENT
DTSTART;TZID=Europe/London:20210616T170000
DTEND;TZID=Europe/London:20210616T180000
DTSTAMP:20260422T081418
CREATED:20210513T084609Z
LAST-MODIFIED:20210513T084609Z
UID:4164-1623862800-1623866400@churchfields.wilts.sch.uk
SUMMARY:R21 Meet the Teacher Atworth
DESCRIPTION:
URL:https://churchfields.wilts.sch.uk/event/r21-meet-the-teacher-atworth/
CATEGORIES:Curriculum,General
END:VEVENT
BEGIN:VEVENT
DTSTART;VALUE=DATE:20210616
DTEND;VALUE=DATE:20210617
DTSTAMP:20260422T081418
CREATED:20210513T084440Z
LAST-MODIFIED:20210513T084440Z
UID:4162-1623801600-1623887999@churchfields.wilts.sch.uk
SUMMARY:Music Workshops Atworth
DESCRIPTION:
URL:https://churchfields.wilts.sch.uk/event/music-workshops-atworth/
CATEGORIES:Curriculum
END:VEVENT
BEGIN:VEVENT
DTSTART;TZID=Europe/London:20210609T080000
DTEND;TZID=Europe/London:20210611T170000
DTSTAMP:20260422T081418
CREATED:20210204T110629Z
LAST-MODIFIED:20210204T110629Z
UID:3951-1623225600-1623430800@churchfields.wilts.sch.uk
SUMMARY:YEAR 5 & 6 Residential
DESCRIPTION:
URL:https://churchfields.wilts.sch.uk/event/year-5-6-residential/
LOCATION:whole school
CATEGORIES:Curriculum,General
END:VEVENT
BEGIN:VEVENT
DTSTART;TZID=Europe/London:20210607T080000
DTEND;TZID=Europe/London:20210607T170000
DTSTAMP:20260422T081418
CREATED:20200701T100310Z
LAST-MODIFIED:20200701T100310Z
UID:2982-1623052800-1623085200@churchfields.wilts.sch.uk
SUMMARY:Term 6 Begins
DESCRIPTION:
URL:https://churchfields.wilts.sch.uk/event/term-6-begins/
CATEGORIES:Curriculum,General
END:VEVENT
BEGIN:VEVENT
DTSTART;TZID=Europe/London:20210528T080000
DTEND;TZID=Europe/London:20210528T170000
DTSTAMP:20260422T081418
CREATED:20200701T100235Z
LAST-MODIFIED:20200701T100235Z
UID:2980-1622188800-1622221200@churchfields.wilts.sch.uk
SUMMARY:End of Term 5
DESCRIPTION:
URL:https://churchfields.wilts.sch.uk/event/end-of-term-5/
CATEGORIES:Curriculum,General
END:VEVENT
BEGIN:VEVENT
DTSTART;VALUE=DATE:20210528
DTEND;VALUE=DATE:20210529
DTSTAMP:20260422T081418
CREATED:20210514T123256Z
LAST-MODIFIED:20210514T123256Z
UID:4198-1622160000-1622246399@churchfields.wilts.sch.uk
SUMMARY:Non Uniform Day
DESCRIPTION:Non uniform day to raise funds for Churchfields PTA. Suggested donation £1
URL:https://churchfields.wilts.sch.uk/event/non-uniform-day/
LOCATION:whole school
CATEGORIES:General,PTA
END:VEVENT
BEGIN:VEVENT
DTSTART;VALUE=DATE:20210527
DTEND;VALUE=DATE:20210528
DTSTAMP:20260422T081418
CREATED:20210429T103416Z
LAST-MODIFIED:20210429T103416Z
UID:4106-1622073600-1622159999@churchfields.wilts.sch.uk
SUMMARY:Tempest Class Photos
DESCRIPTION:
URL:https://churchfields.wilts.sch.uk/event/tempest-class-photos/
CATEGORIES:Curriculum,General
END:VEVENT
BEGIN:VEVENT
DTSTART;TZID=Europe/London:20210520T150000
DTEND;TZID=Europe/London:20210520T180000
DTSTAMP:20260422T081418
CREATED:20210429T103237Z
LAST-MODIFIED:20210429T103237Z
UID:4104-1621522800-1621533600@churchfields.wilts.sch.uk
SUMMARY:Virtual Parents Evening
DESCRIPTION:
URL:https://churchfields.wilts.sch.uk/event/virtual-parents-evening-2/
CATEGORIES:Curriculum
END:VEVENT
BEGIN:VEVENT
DTSTART;TZID=Europe/London:20210518T150000
DTEND;TZID=Europe/London:20210518T190000
DTSTAMP:20260422T081418
CREATED:20210429T103155Z
LAST-MODIFIED:20210429T103155Z
UID:4102-1621350000-1621364400@churchfields.wilts.sch.uk
SUMMARY:Virtual Parents Evening
DESCRIPTION:
URL:https://churchfields.wilts.sch.uk/event/virtual-parents-evening/
CATEGORIES:Curriculum
END:VEVENT
END:VCALENDAR