BEGIN:VCALENDAR
VERSION:2.0
PRODID:-//Churchfields - The Village School - ECPv6.15.11//NONSGML v1.0//EN
CALSCALE:GREGORIAN
METHOD:PUBLISH
X-WR-CALNAME:Churchfields - The Village School
X-ORIGINAL-URL:https://churchfields.wilts.sch.uk
X-WR-CALDESC:Events for Churchfields - The Village School
REFRESH-INTERVAL;VALUE=DURATION:PT1H
X-Robots-Tag:noindex
X-PUBLISHED-TTL:PT1H
BEGIN:VTIMEZONE
TZID:Europe/London
BEGIN:DAYLIGHT
TZOFFSETFROM:+0000
TZOFFSETTO:+0100
TZNAME:BST
DTSTART:20180325T010000
END:DAYLIGHT
BEGIN:STANDARD
TZOFFSETFROM:+0100
TZOFFSETTO:+0000
TZNAME:GMT
DTSTART:20181028T010000
END:STANDARD
BEGIN:DAYLIGHT
TZOFFSETFROM:+0000
TZOFFSETTO:+0100
TZNAME:BST
DTSTART:20190331T010000
END:DAYLIGHT
BEGIN:STANDARD
TZOFFSETFROM:+0100
TZOFFSETTO:+0000
TZNAME:GMT
DTSTART:20191027T010000
END:STANDARD
BEGIN:DAYLIGHT
TZOFFSETFROM:+0000
TZOFFSETTO:+0100
TZNAME:BST
DTSTART:20200329T010000
END:DAYLIGHT
BEGIN:STANDARD
TZOFFSETFROM:+0100
TZOFFSETTO:+0000
TZNAME:GMT
DTSTART:20201025T010000
END:STANDARD
BEGIN:DAYLIGHT
TZOFFSETFROM:+0000
TZOFFSETTO:+0100
TZNAME:BST
DTSTART:20210328T010000
END:DAYLIGHT
BEGIN:STANDARD
TZOFFSETFROM:+0100
TZOFFSETTO:+0000
TZNAME:GMT
DTSTART:20211031T010000
END:STANDARD
END:VTIMEZONE
BEGIN:VEVENT
DTSTART;TZID=Europe/London:20200325T080000
DTEND;TZID=Europe/London:20200325T170000
DTSTAMP:20260424T170237
CREATED:20191217T120247Z
LAST-MODIFIED:20191217T120247Z
UID:1299-1585123200-1585155600@churchfields.wilts.sch.uk
SUMMARY:WOW Day
DESCRIPTION:
URL:https://churchfields.wilts.sch.uk/event/wow-day-3/
END:VEVENT
BEGIN:VEVENT
DTSTART;TZID=Europe/London:20200319T150000
DTEND;TZID=Europe/London:20200319T180000
DTSTAMP:20260424T170237
CREATED:20191217T120213Z
LAST-MODIFIED:20200214T141627Z
UID:1297-1584630000-1584640800@churchfields.wilts.sch.uk
SUMMARY:Parents' Evening until 7:30pm
DESCRIPTION:
URL:https://churchfields.wilts.sch.uk/event/parents-evening-until-730pm/
END:VEVENT
BEGIN:VEVENT
DTSTART;TZID=Europe/London:20200316T080000
DTEND;TZID=Europe/London:20200320T170000
DTSTAMP:20260424T170237
CREATED:20200109T120148Z
LAST-MODIFIED:20200109T120148Z
UID:1366-1584345600-1584723600@churchfields.wilts.sch.uk
SUMMARY:No teacher led clubs this week
DESCRIPTION:
URL:https://churchfields.wilts.sch.uk/event/no-teacher-led-clubs-this-week-2/
CATEGORIES:General
END:VEVENT
BEGIN:VEVENT
DTSTART;TZID=Europe/London:20200309T080000
DTEND;TZID=Europe/London:20200313T170000
DTSTAMP:20260424T170237
CREATED:20191217T120013Z
LAST-MODIFIED:20191217T120013Z
UID:1293-1583740800-1584118800@churchfields.wilts.sch.uk
SUMMARY:STEM Week
DESCRIPTION:
URL:https://churchfields.wilts.sch.uk/event/stem-week/
END:VEVENT
BEGIN:VEVENT
DTSTART;TZID=Europe/London:20200305T080000
DTEND;TZID=Europe/London:20200305T170000
DTSTAMP:20260424T170237
CREATED:20191217T115942Z
LAST-MODIFIED:20191217T115942Z
UID:1291-1583395200-1583427600@churchfields.wilts.sch.uk
SUMMARY:World Book Day
DESCRIPTION:
URL:https://churchfields.wilts.sch.uk/event/world-book-day/
END:VEVENT
BEGIN:VEVENT
DTSTART;TZID=Europe/London:20200226T150000
DTEND;TZID=Europe/London:20200226T180000
DTSTAMP:20260424T170237
CREATED:20200117T100920Z
LAST-MODIFIED:20200117T100920Z
UID:1381-1582729200-1582740000@churchfields.wilts.sch.uk
SUMMARY:Kestrel Class Hockey Tournament
DESCRIPTION:
URL:https://churchfields.wilts.sch.uk/event/kestrel-class-hockey-tournament/
LOCATION:stonar\, Cottles Park\, Atworth\, SN12 8NT\, United Kingdom
CATEGORIES:General
END:VEVENT
BEGIN:VEVENT
DTSTART;TZID=Europe/London:20200224T080000
DTEND;TZID=Europe/London:20200224T170000
DTSTAMP:20260424T170237
CREATED:20191217T115831Z
LAST-MODIFIED:20191217T115852Z
UID:1289-1582531200-1582563600@churchfields.wilts.sch.uk
SUMMARY:Term 4 begins
DESCRIPTION:
URL:https://churchfields.wilts.sch.uk/event/term-4-begins/
END:VEVENT
BEGIN:VEVENT
DTSTART;TZID=Europe/London:20200214T080000
DTEND;TZID=Europe/London:20200214T170000
DTSTAMP:20260424T170237
CREATED:20191217T115705Z
LAST-MODIFIED:20191217T115725Z
UID:1287-1581667200-1581699600@churchfields.wilts.sch.uk
SUMMARY:End of term 3
DESCRIPTION:
URL:https://churchfields.wilts.sch.uk/event/end-of-term-3/
END:VEVENT
BEGIN:VEVENT
DTSTART;TZID=Europe/London:20200212T120000
DTEND;TZID=Europe/London:20200212T190000
DTSTAMP:20260424T170237
CREATED:20191217T115500Z
LAST-MODIFIED:20191217T115500Z
UID:1285-1581508800-1581534000@churchfields.wilts.sch.uk
SUMMARY:West Wiltshire Dance Festival Bath Forum
DESCRIPTION:
URL:https://churchfields.wilts.sch.uk/event/west-wiltshire-dance-festival-bath-forum/
END:VEVENT
BEGIN:VEVENT
DTSTART;TZID=Europe/London:20200211T080000
DTEND;TZID=Europe/London:20200211T170000
DTSTAMP:20260424T170237
CREATED:20191217T115136Z
LAST-MODIFIED:20191217T115136Z
UID:1283-1581408000-1581440400@churchfields.wilts.sch.uk
SUMMARY:Safer Internet Day
DESCRIPTION:
URL:https://churchfields.wilts.sch.uk/event/safer-internet-day/
END:VEVENT
BEGIN:VEVENT
DTSTART;TZID=Europe/London:20200210T083500
DTEND;TZID=Europe/London:20200210T150000
DTSTAMP:20260424T170237
CREATED:20191219T103000Z
LAST-MODIFIED:20191219T110847Z
UID:1324-1581323700-1581346800@churchfields.wilts.sch.uk
SUMMARY:Year 6 Taster Day The Corsham School
DESCRIPTION:To reserve a place for the taster day\, children will need to register with The Corsham School by Friday 31st January 2020.
URL:https://churchfields.wilts.sch.uk/event/year-6-taster-day-the-corsham-school/
END:VEVENT
BEGIN:VEVENT
DTSTART;TZID=Europe/London:20200210T080000
DTEND;TZID=Europe/London:20200214T170000
DTSTAMP:20260424T170237
CREATED:20200109T120037Z
LAST-MODIFIED:20200109T120037Z
UID:1364-1581321600-1581699600@churchfields.wilts.sch.uk
SUMMARY:No Teacher led clubs this week
DESCRIPTION:
URL:https://churchfields.wilts.sch.uk/event/no-teacher-led-clubs-this-week/
CATEGORIES:General
END:VEVENT
BEGIN:VEVENT
DTSTART;TZID=Europe/London:20200203T080000
DTEND;TZID=Europe/London:20200207T170000
DTSTAMP:20260424T170237
CREATED:20191217T114349Z
LAST-MODIFIED:20191217T114349Z
UID:1281-1580716800-1581094800@churchfields.wilts.sch.uk
SUMMARY:Mental Health Week
DESCRIPTION:
URL:https://churchfields.wilts.sch.uk/event/mental-health-week/
END:VEVENT
BEGIN:VEVENT
DTSTART;TZID=Europe/London:20200131T080000
DTEND;TZID=Europe/London:20200131T170000
DTSTAMP:20260424T170237
CREATED:20191217T114131Z
LAST-MODIFIED:20191217T114131Z
UID:1279-1580457600-1580490000@churchfields.wilts.sch.uk
SUMMARY:INSET DAY School closed to pupils
DESCRIPTION:
URL:https://churchfields.wilts.sch.uk/event/inset-day-school-closed-to-pupils-2/
END:VEVENT
BEGIN:VEVENT
DTSTART;TZID=Europe/London:20200130T080000
DTEND;TZID=Europe/London:20200130T170000
DTSTAMP:20260424T170237
CREATED:20191217T114056Z
LAST-MODIFIED:20191217T114056Z
UID:1277-1580371200-1580403600@churchfields.wilts.sch.uk
SUMMARY:INSET DAY School closed to pupils
DESCRIPTION:
URL:https://churchfields.wilts.sch.uk/event/inset-day-school-closed-to-pupils/
END:VEVENT
BEGIN:VEVENT
DTSTART;TZID=Europe/London:20200129T153000
DTEND;TZID=Europe/London:20200129T173000
DTSTAMP:20260424T170237
CREATED:20200117T100558Z
LAST-MODIFIED:20200117T100558Z
UID:1376-1580311800-1580319000@churchfields.wilts.sch.uk
SUMMARY:Kestrel Class Hockey Tournament Practice
DESCRIPTION:
URL:https://churchfields.wilts.sch.uk/event/kestrel-class-hockey-tournament-practice/
LOCATION:stonar\, Cottles Park\, Atworth\, SN12 8NT\, United Kingdom
END:VEVENT
BEGIN:VEVENT
DTSTART;TZID=Europe/London:20200127T090000
DTEND;TZID=Europe/London:20200127T150000
DTSTAMP:20260424T170237
CREATED:20200117T100201Z
LAST-MODIFIED:20200117T100719Z
UID:1372-1580115600-1580137200@churchfields.wilts.sch.uk
SUMMARY:Kestrel Class Hockey Tournament Trials
DESCRIPTION:
URL:https://churchfields.wilts.sch.uk/event/kestrel-class-hockey-tournament-trials/
LOCATION:Atworth Base\, Churchfields School\, Atworth\, WILTSHIRE\, SN12 8HY\, United Kingdom
CATEGORIES:General
END:VEVENT
BEGIN:VEVENT
DTSTART;TZID=Europe/London:20200124T143000
DTEND;TZID=Europe/London:20200124T150000
DTSTAMP:20260424T170237
CREATED:20191217T113958Z
LAST-MODIFIED:20191217T113958Z
UID:1275-1579876200-1579878000@churchfields.wilts.sch.uk
SUMMARY:Tiger Martial Arts Belt and Award Presentation GEM Learner Monkton Farleigh
DESCRIPTION:
URL:https://churchfields.wilts.sch.uk/event/tiger-martial-arts-belt-and-award-presentation-gem-learner-monkton-farleigh/
END:VEVENT
BEGIN:VEVENT
DTSTART;TZID=Europe/London:20200117T144500
DTEND;TZID=Europe/London:20200117T151500
DTSTAMP:20260424T170237
CREATED:20191217T113752Z
LAST-MODIFIED:20191217T113752Z
UID:1273-1579272300-1579274100@churchfields.wilts.sch.uk
SUMMARY:Tiger Martial Arts Belt and Award Presentation GEM Learner Atworth
DESCRIPTION:
URL:https://churchfields.wilts.sch.uk/event/tiger-martial-arts-belt-and-award-presentation-gem-learner-atworth/
END:VEVENT
BEGIN:VEVENT
DTSTART;TZID=Europe/London:20200116T120000
DTEND;TZID=Europe/London:20200116T130000
DTSTAMP:20260424T170237
CREATED:20191219T102355Z
LAST-MODIFIED:20191219T102355Z
UID:1322-1579176000-1579179600@churchfields.wilts.sch.uk
SUMMARY:Fish 'N' Chip Thursday
DESCRIPTION:There will also be a vegetarian option of veggie nuggets and jacket potato with the usual fillings will be available too.
URL:https://churchfields.wilts.sch.uk/event/fish-n-chip-thursday/
END:VEVENT
BEGIN:VEVENT
DTSTART;TZID=Europe/London:20200115T173000
DTEND;TZID=Europe/London:20200115T180000
DTSTAMP:20260424T170237
CREATED:20200109T092105Z
LAST-MODIFIED:20200109T092105Z
UID:1332-1579109400-1579111200@churchfields.wilts.sch.uk
SUMMARY:YR6 SATs Grammar Session for Parents/Carers
DESCRIPTION:
URL:https://churchfields.wilts.sch.uk/event/yr6-sats-grammar-session-for-parents-carers/
LOCATION:Atworth Base\, Churchfields School\, Atworth\, WILTSHIRE\, SN12 8HY\, United Kingdom
CATEGORIES:Curriculum
END:VEVENT
BEGIN:VEVENT
DTSTART;TZID=Europe/London:20200109T080000
DTEND;TZID=Europe/London:20200109T170000
DTSTAMP:20260424T170237
CREATED:20191217T113630Z
LAST-MODIFIED:20191217T113630Z
UID:1270-1578556800-1578589200@churchfields.wilts.sch.uk
SUMMARY:R/KS1 WOW Day Atworth
DESCRIPTION:
URL:https://churchfields.wilts.sch.uk/event/r-ks1-wow-day-atworth/
END:VEVENT
BEGIN:VEVENT
DTSTART;TZID=Europe/London:20200108T080000
DTEND;TZID=Europe/London:20200108T170000
DTSTAMP:20260424T170237
CREATED:20191217T113542Z
LAST-MODIFIED:20191217T113542Z
UID:1268-1578470400-1578502800@churchfields.wilts.sch.uk
SUMMARY:KS2 WOW Day Monkton Farleigh
DESCRIPTION:
URL:https://churchfields.wilts.sch.uk/event/ks2-wow-day-monkton-farleigh/
END:VEVENT
BEGIN:VEVENT
DTSTART;TZID=Europe/London:20200106T080000
DTEND;TZID=Europe/London:20200106T170000
DTSTAMP:20260424T170237
CREATED:20191217T113426Z
LAST-MODIFIED:20191217T113426Z
UID:1266-1578297600-1578330000@churchfields.wilts.sch.uk
SUMMARY:Term 3 begins
DESCRIPTION:
URL:https://churchfields.wilts.sch.uk/event/term-3-begins/
END:VEVENT
BEGIN:VEVENT
DTSTART;TZID=Europe/London:20191220T150000
DTEND;TZID=Europe/London:20191220T153000
DTSTAMP:20260424T170237
CREATED:20191217T121053Z
LAST-MODIFIED:20191219T094423Z
UID:1309-1576854000-1576855800@churchfields.wilts.sch.uk
SUMMARY:End of Term 2
DESCRIPTION:
URL:https://churchfields.wilts.sch.uk/event/end-of-term-2/
END:VEVENT
BEGIN:VEVENT
DTSTART;TZID=Europe/London:20191220T144500
DTEND;TZID=Europe/London:20191220T151500
DTSTAMP:20260424T170237
CREATED:20191217T121909Z
LAST-MODIFIED:20191217T122435Z
UID:1315-1576853100-1576854900@churchfields.wilts.sch.uk
SUMMARY:GEM Learner Atworth
DESCRIPTION:
URL:https://churchfields.wilts.sch.uk/event/gem-learner-atworth/
END:VEVENT
BEGIN:VEVENT
DTSTART;TZID=Europe/London:20191220T143000
DTEND;TZID=Europe/London:20191220T150000
DTSTAMP:20260424T170237
CREATED:20191217T121822Z
LAST-MODIFIED:20191217T121822Z
UID:1313-1576852200-1576854000@churchfields.wilts.sch.uk
SUMMARY:GEM Learner Monkton Farleigh
DESCRIPTION:
URL:https://churchfields.wilts.sch.uk/event/gem-learner-monkton-farleigh/
END:VEVENT
BEGIN:VEVENT
DTSTART;TZID=Europe/London:20191219T173000
DTEND;TZID=Europe/London:20191219T190000
DTSTAMP:20260424T170237
CREATED:20191001T105430Z
LAST-MODIFIED:20191217T122448Z
UID:1162-1576776600-1576782000@churchfields.wilts.sch.uk
SUMMARY:Christmas Disco Atworth Base
DESCRIPTION:£3 per child / £2 for additional sibling\, entrance includes a drink and a hot dog
URL:https://churchfields.wilts.sch.uk/event/christmas-disco/
CATEGORIES:PTA
END:VEVENT
BEGIN:VEVENT
DTSTART;TZID=Europe/London:20191219T150000
DTEND;TZID=Europe/London:20191219T160000
DTSTAMP:20260424T170237
CREATED:20191219T094016Z
LAST-MODIFIED:20191219T094127Z
UID:1319-1576767600-1576771200@churchfields.wilts.sch.uk
SUMMARY:Cancelled: Carols on The Amphitheatre
DESCRIPTION:Carols on the Amphitheatre is cancelled due to unforeseen staff illness. Sadly\, we are unable to reschedule this due to the lateness in the term but hope families will join us at the Atworth base for the Christmas disco. \n 
URL:https://churchfields.wilts.sch.uk/event/cancelled-carols-on-the-amphitheatre/
CATEGORIES:General
END:VEVENT
BEGIN:VEVENT
DTSTART;TZID=Europe/London:20191218T131500
DTEND;TZID=Europe/London:20191218T143000
DTSTAMP:20260424T170237
CREATED:20191217T121543Z
LAST-MODIFIED:20191217T121543Z
UID:1311-1576674900-1576679400@churchfields.wilts.sch.uk
SUMMARY:Carol Service St Michael's Church Atworth
DESCRIPTION:
URL:https://churchfields.wilts.sch.uk/event/carol-service-st-michaels-church-atworth/
END:VEVENT
END:VCALENDAR