BEGIN:VCALENDAR
VERSION:2.0
PRODID:-//Churchfields - The Village School - ECPv6.15.11//NONSGML v1.0//EN
CALSCALE:GREGORIAN
METHOD:PUBLISH
X-WR-CALNAME:Churchfields - The Village School
X-ORIGINAL-URL:https://churchfields.wilts.sch.uk
X-WR-CALDESC:Events for Churchfields - The Village School
REFRESH-INTERVAL;VALUE=DURATION:PT1H
X-Robots-Tag:noindex
X-PUBLISHED-TTL:PT1H
BEGIN:VTIMEZONE
TZID:Europe/London
BEGIN:DAYLIGHT
TZOFFSETFROM:+0000
TZOFFSETTO:+0100
TZNAME:BST
DTSTART:20200329T010000
END:DAYLIGHT
BEGIN:STANDARD
TZOFFSETFROM:+0100
TZOFFSETTO:+0000
TZNAME:GMT
DTSTART:20201025T010000
END:STANDARD
BEGIN:DAYLIGHT
TZOFFSETFROM:+0000
TZOFFSETTO:+0100
TZNAME:BST
DTSTART:20210328T010000
END:DAYLIGHT
BEGIN:STANDARD
TZOFFSETFROM:+0100
TZOFFSETTO:+0000
TZNAME:GMT
DTSTART:20211031T010000
END:STANDARD
BEGIN:DAYLIGHT
TZOFFSETFROM:+0000
TZOFFSETTO:+0100
TZNAME:BST
DTSTART:20220327T010000
END:DAYLIGHT
BEGIN:STANDARD
TZOFFSETFROM:+0100
TZOFFSETTO:+0000
TZNAME:GMT
DTSTART:20221030T010000
END:STANDARD
BEGIN:DAYLIGHT
TZOFFSETFROM:+0000
TZOFFSETTO:+0100
TZNAME:BST
DTSTART:20230326T010000
END:DAYLIGHT
BEGIN:STANDARD
TZOFFSETFROM:+0100
TZOFFSETTO:+0000
TZNAME:GMT
DTSTART:20231029T010000
END:STANDARD
END:VTIMEZONE
BEGIN:VEVENT
DTSTART;VALUE=DATE:20220218
DTEND;VALUE=DATE:20220219
DTSTAMP:20260422T040410
CREATED:20220112T104424Z
LAST-MODIFIED:20220112T104424Z
UID:5967-1645142400-1645228799@churchfields.wilts.sch.uk
SUMMARY:End of Term 3
DESCRIPTION:
URL:https://churchfields.wilts.sch.uk/event/end-of-term-3-3/
CATEGORIES:Curriculum
END:VEVENT
BEGIN:VEVENT
DTSTART;TZID=Europe/London:20220215T123000
DTEND;TZID=Europe/London:20220215T210000
DTSTAMP:20260422T040410
CREATED:20220112T104334Z
LAST-MODIFIED:20220112T104334Z
UID:5965-1644928200-1644958800@churchfields.wilts.sch.uk
SUMMARY:West Wilts Dance Festival at The Forum Bath
DESCRIPTION:Dance Club taking part in West Wilts Dance Festival at The Forum Bath
URL:https://churchfields.wilts.sch.uk/event/west-wilts-dance-festival-at-the-forum-bath/
CATEGORIES:General
END:VEVENT
BEGIN:VEVENT
DTSTART;TZID=Europe/London:20220210T130000
DTEND;TZID=Europe/London:20220210T150000
DTSTAMP:20260422T040410
CREATED:20220112T103756Z
LAST-MODIFIED:20220112T103756Z
UID:5961-1644498000-1644505200@churchfields.wilts.sch.uk
SUMMARY:Falcon Class Swimming
DESCRIPTION:Falcon Class Swimming  Melksham Blue Pool
URL:https://churchfields.wilts.sch.uk/event/falcon-class-swimming-5/
CATEGORIES:Curriculum
END:VEVENT
BEGIN:VEVENT
DTSTART;VALUE=DATE:20220207
DTEND;VALUE=DATE:20220212
DTSTAMP:20260422T040410
CREATED:20220112T104107Z
LAST-MODIFIED:20220112T104107Z
UID:5963-1644192000-1644623999@churchfields.wilts.sch.uk
SUMMARY:E-Safety Week
DESCRIPTION:
URL:https://churchfields.wilts.sch.uk/event/e-safety-week/
CATEGORIES:Curriculum
END:VEVENT
BEGIN:VEVENT
DTSTART;TZID=Europe/London:20220203T130000
DTEND;TZID=Europe/London:20220203T150000
DTSTAMP:20260422T040410
CREATED:20220112T103527Z
LAST-MODIFIED:20220112T103527Z
UID:5959-1643893200-1643900400@churchfields.wilts.sch.uk
SUMMARY:Falcon Class Swimming
DESCRIPTION:Falcon Class Swimming  Melksham Blue Pool
URL:https://churchfields.wilts.sch.uk/event/falcon-class-swimming-4/
CATEGORIES:Curriculum
END:VEVENT
BEGIN:VEVENT
DTSTART;TZID=Europe/London:20220127T130000
DTEND;TZID=Europe/London:20220127T150000
DTSTAMP:20260422T040410
CREATED:20220112T103336Z
LAST-MODIFIED:20220112T103336Z
UID:5957-1643288400-1643295600@churchfields.wilts.sch.uk
SUMMARY:Falcon Class Swimming
DESCRIPTION:Falcon Class Swimming  Melksham Blue Pool
URL:https://churchfields.wilts.sch.uk/event/falcon-class-swimming-3/
CATEGORIES:Curriculum
END:VEVENT
BEGIN:VEVENT
DTSTART;VALUE=DATE:20220126
DTEND;VALUE=DATE:20220127
DTSTAMP:20260422T040410
CREATED:20220112T102934Z
LAST-MODIFIED:20220112T102934Z
UID:5950-1643155200-1643241599@churchfields.wilts.sch.uk
SUMMARY:KS1 WOW Day (Australia Day)
DESCRIPTION:
URL:https://churchfields.wilts.sch.uk/event/ks1-wow-day-australia-day/
CATEGORIES:Curriculum
END:VEVENT
BEGIN:VEVENT
DTSTART;TZID=Europe/London:20220120T130000
DTEND;TZID=Europe/London:20220120T150000
DTSTAMP:20260422T040410
CREATED:20220112T103303Z
LAST-MODIFIED:20220112T103303Z
UID:5955-1642683600-1642690800@churchfields.wilts.sch.uk
SUMMARY:Falcon Class Swimming
DESCRIPTION:Falcon Class Swimming  Melksham Blue Pool
URL:https://churchfields.wilts.sch.uk/event/falcon-class-swimming-2/
CATEGORIES:Curriculum
END:VEVENT
BEGIN:VEVENT
DTSTART;TZID=Europe/London:20220113T130000
DTEND;TZID=Europe/London:20220113T150000
DTSTAMP:20260422T040410
CREATED:20220112T103213Z
LAST-MODIFIED:20220112T103213Z
UID:5953-1642078800-1642086000@churchfields.wilts.sch.uk
SUMMARY:Falcon Class Swimming
DESCRIPTION:Falcon Class Swimming  Melksham Blue Pool
URL:https://churchfields.wilts.sch.uk/event/falcon-class-swimming/
CATEGORIES:Curriculum
END:VEVENT
BEGIN:VEVENT
DTSTART;VALUE=DATE:20220113
DTEND;VALUE=DATE:20220114
DTSTAMP:20260422T040410
CREATED:20220112T102735Z
LAST-MODIFIED:20220112T102735Z
UID:5946-1642032000-1642118399@churchfields.wilts.sch.uk
SUMMARY:Nightingale and Kestrel WOW Day
DESCRIPTION:Nightingales and Kestrels are having their wow day on Thursday to mark the beginning of their Rivers topic. We are hoping (weather permitting) to work outside for part of the day\, so please could children wear trousers such as jeans\, which will be suitable for this and bring warm coats/hats/gloves. School uniform jumpers/cardigans should be worn.
URL:https://churchfields.wilts.sch.uk/event/nightingale-and-kestrel-wow-day/
CATEGORIES:Curriculum
END:VEVENT
BEGIN:VEVENT
DTSTART;VALUE=DATE:20220105
DTEND;VALUE=DATE:20220106
DTSTAMP:20260422T040410
CREATED:20211119T145134Z
LAST-MODIFIED:20211119T145134Z
UID:5464-1641340800-1641427199@churchfields.wilts.sch.uk
SUMMARY:Term 3 Begins
DESCRIPTION:
URL:https://churchfields.wilts.sch.uk/event/term-3-begins-3/
END:VEVENT
BEGIN:VEVENT
DTSTART;VALUE=DATE:20220104
DTEND;VALUE=DATE:20220105
DTSTAMP:20260422T040410
CREATED:20211119T145114Z
LAST-MODIFIED:20211119T145114Z
UID:5462-1641254400-1641340799@churchfields.wilts.sch.uk
SUMMARY:INSET DAY
DESCRIPTION:Whole School closed to pupils
URL:https://churchfields.wilts.sch.uk/event/inset-day-5/
END:VEVENT
BEGIN:VEVENT
DTSTART;VALUE=DATE:20220103
DTEND;VALUE=DATE:20220104
DTSTAMP:20260422T040410
CREATED:20211119T145225Z
LAST-MODIFIED:20211119T145225Z
UID:5466-1641168000-1641254399@churchfields.wilts.sch.uk
SUMMARY:Bank Holiday
DESCRIPTION:whole school closed to staff and pupils
URL:https://churchfields.wilts.sch.uk/event/bank-holiday/
END:VEVENT
BEGIN:VEVENT
DTSTART;VALUE=DATE:20211217
DTEND;VALUE=DATE:20211218
DTSTAMP:20260422T040410
CREATED:20211119T145019Z
LAST-MODIFIED:20211119T145019Z
UID:5460-1639699200-1639785599@churchfields.wilts.sch.uk
SUMMARY:Non-uniform day
DESCRIPTION:
URL:https://churchfields.wilts.sch.uk/event/non-uniform-day-2/
END:VEVENT
BEGIN:VEVENT
DTSTART;VALUE=DATE:20211217
DTEND;VALUE=DATE:20211218
DTSTAMP:20260422T040410
CREATED:20211119T144948Z
LAST-MODIFIED:20211119T144948Z
UID:5458-1639699200-1639785599@churchfields.wilts.sch.uk
SUMMARY:End of Term 2
DESCRIPTION:
URL:https://churchfields.wilts.sch.uk/event/end-of-term-2-2/
END:VEVENT
BEGIN:VEVENT
DTSTART;VALUE=DATE:20211214
DTEND;VALUE=DATE:20211215
DTSTAMP:20260422T040410
CREATED:20210723T123748Z
LAST-MODIFIED:20211210T141735Z
UID:4541-1639440000-1639526399@churchfields.wilts.sch.uk
SUMMARY:School Nurse nasal flu immunisations
DESCRIPTION:Atworth Base pm \nMonkton Farleigh base pm
URL:https://churchfields.wilts.sch.uk/event/school-nurse-nasal-flu-immunisations/
END:VEVENT
BEGIN:VEVENT
DTSTART;TZID=Europe/London:20211210T120000
DTEND;TZID=Europe/London:20211210T130000
DTSTAMP:20260422T040410
CREATED:20211119T144902Z
LAST-MODIFIED:20211203T141244Z
UID:5456-1639137600-1639141200@churchfields.wilts.sch.uk
SUMMARY:Christmas Dinner & Christmas jumper day
DESCRIPTION:Christmas jumper day Friday 10 December \nIn lieu of a small donation for our PTA we would like everyone to come in their favourite Christmas jumper\, party clothes or something festive next Friday to help us really get into the festive spirit on the day of our Christmas dinner. \nPlease book your child’s Choice by Midnight Friday 19 November via ParentPay
URL:https://churchfields.wilts.sch.uk/event/christmas-dinner-2/
CATEGORIES:General
END:VEVENT
BEGIN:VEVENT
DTSTART;TZID=Europe/London:20211125T080000
DTEND;TZID=Europe/London:20211126T170000
DTSTAMP:20260422T040410
CREATED:20211018T105958Z
LAST-MODIFIED:20211018T105958Z
UID:5359-1637827200-1637946000@churchfields.wilts.sch.uk
SUMMARY:Bikeability Course 2
DESCRIPTION:
URL:https://churchfields.wilts.sch.uk/event/bikeability-course-2/
END:VEVENT
BEGIN:VEVENT
DTSTART;TZID=Europe/London:20211111T080000
DTEND;TZID=Europe/London:20211112T170000
DTSTAMP:20260422T040410
CREATED:20211018T105922Z
LAST-MODIFIED:20211018T105922Z
UID:5357-1636617600-1636736400@churchfields.wilts.sch.uk
SUMMARY:Bikeability Course 1
DESCRIPTION:
URL:https://churchfields.wilts.sch.uk/event/bikeability-course-1/
END:VEVENT
BEGIN:VEVENT
DTSTART;TZID=Europe/London:20211020T080000
DTEND;TZID=Europe/London:20211020T170000
DTSTAMP:20260422T040410
CREATED:20210723T124021Z
LAST-MODIFIED:20210723T124021Z
UID:4545-1634716800-1634749200@churchfields.wilts.sch.uk
SUMMARY:End of Term 1
DESCRIPTION:
URL:https://churchfields.wilts.sch.uk/event/end-of-term-1-3/
CATEGORIES:Curriculum,General
END:VEVENT
BEGIN:VEVENT
DTSTART;TZID=Europe/London:20211015T090000
DTEND;TZID=Europe/London:20211015T103000
DTSTAMP:20260422T040410
CREATED:20210929T173715Z
LAST-MODIFIED:20210929T174323Z
UID:5224-1634288400-1634293800@churchfields.wilts.sch.uk
SUMMARY:Monkton Farleigh Open Morning
DESCRIPTION:Churchfields is holding an open morning for prospective parents at the Atworth base. \nThere will be a tour of the school\, a chance to meet the teachers with interactive lessons for prospective pupils to get involved with. \n 
URL:https://churchfields.wilts.sch.uk/event/mf-open-morning/
LOCATION:MF Base\, Churchfields School\, Monkton Farleigh\, Bradford-on-Avon\, BA15 2QD\, United Kingdom
CATEGORIES:General
ATTACH;FMTTYPE=image/jpeg:https://churchfields.wilts.sch.uk/wp-content/uploads/2021/09/Open-Day-Flyer-Oct-2021.jpg
END:VEVENT
BEGIN:VEVENT
DTSTART;TZID=Europe/London:20211014T150000
DTEND;TZID=Europe/London:20211014T180000
DTSTAMP:20260422T040410
CREATED:20210723T123601Z
LAST-MODIFIED:20210723T123601Z
UID:4537-1634223600-1634234400@churchfields.wilts.sch.uk
SUMMARY:Parents' Evening until 6pm
DESCRIPTION:
URL:https://churchfields.wilts.sch.uk/event/parents-evening-until-6pm-2/
CATEGORIES:Curriculum,General
END:VEVENT
BEGIN:VEVENT
DTSTART;TZID=Europe/London:20211014T130000
DTEND;TZID=Europe/London:20211014T150000
DTSTAMP:20260422T040410
CREATED:20210723T123650Z
LAST-MODIFIED:20210723T123650Z
UID:4539-1634216400-1634223600@churchfields.wilts.sch.uk
SUMMARY:Nightingale Class Swimming
DESCRIPTION:afternoon session at Melksham Blue pool
URL:https://churchfields.wilts.sch.uk/event/nightingale-class-swimming-5/
CATEGORIES:Curriculum
END:VEVENT
BEGIN:VEVENT
DTSTART;TZID=Europe/London:20211014T090000
DTEND;TZID=Europe/London:20211014T103000
DTSTAMP:20260422T040410
CREATED:20210929T173715Z
LAST-MODIFIED:20210929T174349Z
UID:5220-1634202000-1634207400@churchfields.wilts.sch.uk
SUMMARY:Atworth Open Morning
DESCRIPTION:Churchfields is holding an open morning for prospective parents at the Atworth base. \nThere will be a tour of the school\, a chance to meet the teachers with interactive lessons for prospective pupils to get involved with. \n 
URL:https://churchfields.wilts.sch.uk/event/atworth-open-morning/
LOCATION:Atworth Base\, Churchfields School\, Atworth\, WILTSHIRE\, SN12 8HY\, United Kingdom
CATEGORIES:General
END:VEVENT
BEGIN:VEVENT
DTSTART;TZID=Europe/London:20211012T150000
DTEND;TZID=Europe/London:20211012T193000
DTSTAMP:20260422T040410
CREATED:20210723T123516Z
LAST-MODIFIED:20210723T123516Z
UID:4535-1634050800-1634067000@churchfields.wilts.sch.uk
SUMMARY:Parents' Evening until 7:30PM
DESCRIPTION:
URL:https://churchfields.wilts.sch.uk/event/parents-evening-until-730pm-2/
CATEGORIES:Curriculum,General
END:VEVENT
BEGIN:VEVENT
DTSTART;VALUE=DATE:20211011
DTEND;VALUE=DATE:20211016
DTSTAMP:20260422T040410
CREATED:20210723T123356Z
LAST-MODIFIED:20210723T123416Z
UID:4533-1633910400-1634342399@churchfields.wilts.sch.uk
SUMMARY:No Teacher led clubs This week
DESCRIPTION:
URL:https://churchfields.wilts.sch.uk/event/no-teacher-led-clubs-this-week-3/
CATEGORIES:Curriculum,General
END:VEVENT
BEGIN:VEVENT
DTSTART;VALUE=DATE:20211008
DTEND;VALUE=DATE:20211009
DTSTAMP:20260422T040410
CREATED:20210923T101958Z
LAST-MODIFIED:20210923T102113Z
UID:5117-1633651200-1633737599@churchfields.wilts.sch.uk
SUMMARY:KS2 Bristol Trip
DESCRIPTION:We are pleased to be running a KS2 trip to Bristol Museum to support the children’s learning in their history studies of Ancient Egypt.  The children will not only have the chance to look round the museum\, but will also take part in a workshop on Egyptology.  \nThe visit will take place on Friday 8th October during the school day.  Children will be travelling by coach from school.  We will be leaving at 9.15 and ask that all children are in school promptly to be registered and prepared for the trip. They will need to wear school uniform and bring a packed lunch and a drink.  This should be carried in a rucksack so that children have their hands free around the museum.  Any children in receipt of free school meals will have this provided by school unless they request otherwise.
URL:https://churchfields.wilts.sch.uk/event/ks2-bristol-trip/
CATEGORIES:Curriculum
END:VEVENT
BEGIN:VEVENT
DTSTART;TZID=Europe/London:20211007T130000
DTEND;TZID=Europe/London:20211007T150000
DTSTAMP:20260422T040410
CREATED:20210723T123225Z
LAST-MODIFIED:20210723T123234Z
UID:4529-1633611600-1633618800@churchfields.wilts.sch.uk
SUMMARY:Nightingale Class Swimming
DESCRIPTION:afternoon session Melksham Blue pool
URL:https://churchfields.wilts.sch.uk/event/nightingale-class-swimming-4/
CATEGORIES:Curriculum
END:VEVENT
BEGIN:VEVENT
DTSTART;VALUE=DATE:20211005
DTEND;VALUE=DATE:20211006
DTSTAMP:20260422T040410
CREATED:20210923T101114Z
LAST-MODIFIED:20210923T101114Z
UID:5109-1633392000-1633478399@churchfields.wilts.sch.uk
SUMMARY:Tempest Photography Individual Photos
DESCRIPTION:Visiting Atworth Base first and then Monkton Farleigh in the afternoon
URL:https://churchfields.wilts.sch.uk/event/tempest-photography-individual-photos/
CATEGORIES:General
END:VEVENT
BEGIN:VEVENT
DTSTART;TZID=Europe/London:20211001T141500
DTEND;TZID=Europe/London:20211001T150000
DTSTAMP:20260422T040410
CREATED:20210923T101807Z
LAST-MODIFIED:20210923T101807Z
UID:5115-1633097700-1633100400@churchfields.wilts.sch.uk
SUMMARY:Share a Story
DESCRIPTION:AT: from 2:30 \nMF: from 2:15 \nIf you would like to come into school with your favourite book and read with a group of children\, please let your child’s class teacher know!
URL:https://churchfields.wilts.sch.uk/event/share-a-story/
CATEGORIES:Curriculum
END:VEVENT
END:VCALENDAR