BEGIN:VCALENDAR
VERSION:2.0
PRODID:-//Churchfields - The Village School - ECPv6.15.11//NONSGML v1.0//EN
CALSCALE:GREGORIAN
METHOD:PUBLISH
X-WR-CALNAME:Churchfields - The Village School
X-ORIGINAL-URL:https://churchfields.wilts.sch.uk
X-WR-CALDESC:Events for Churchfields - The Village School
REFRESH-INTERVAL;VALUE=DURATION:PT1H
X-Robots-Tag:noindex
X-PUBLISHED-TTL:PT1H
BEGIN:VTIMEZONE
TZID:Europe/London
BEGIN:DAYLIGHT
TZOFFSETFROM:+0000
TZOFFSETTO:+0100
TZNAME:BST
DTSTART:20210328T010000
END:DAYLIGHT
BEGIN:STANDARD
TZOFFSETFROM:+0100
TZOFFSETTO:+0000
TZNAME:GMT
DTSTART:20211031T010000
END:STANDARD
BEGIN:DAYLIGHT
TZOFFSETFROM:+0000
TZOFFSETTO:+0100
TZNAME:BST
DTSTART:20220327T010000
END:DAYLIGHT
BEGIN:STANDARD
TZOFFSETFROM:+0100
TZOFFSETTO:+0000
TZNAME:GMT
DTSTART:20221030T010000
END:STANDARD
BEGIN:DAYLIGHT
TZOFFSETFROM:+0000
TZOFFSETTO:+0100
TZNAME:BST
DTSTART:20230326T010000
END:DAYLIGHT
BEGIN:STANDARD
TZOFFSETFROM:+0100
TZOFFSETTO:+0000
TZNAME:GMT
DTSTART:20231029T010000
END:STANDARD
END:VTIMEZONE
BEGIN:VEVENT
DTSTART;VALUE=DATE:20220425
DTEND;VALUE=DATE:20220426
DTSTAMP:20260421T211155
CREATED:20220112T104734Z
LAST-MODIFIED:20220112T104734Z
UID:5975-1650844800-1650931199@churchfields.wilts.sch.uk
SUMMARY:Term 5 begins
DESCRIPTION:
URL:https://churchfields.wilts.sch.uk/event/term-5-begins-3/
CATEGORIES:Curriculum
END:VEVENT
BEGIN:VEVENT
DTSTART;VALUE=DATE:20220408
DTEND;VALUE=DATE:20220409
DTSTAMP:20260421T211155
CREATED:20220112T104649Z
LAST-MODIFIED:20220112T104649Z
UID:5973-1649376000-1649462399@churchfields.wilts.sch.uk
SUMMARY:End of Term 4
DESCRIPTION:
URL:https://churchfields.wilts.sch.uk/event/end-of-term-4-3/
CATEGORIES:Curriculum
END:VEVENT
BEGIN:VEVENT
DTSTART;VALUE=DATE:20220408
DTEND;VALUE=DATE:20220409
DTSTAMP:20260421T211155
CREATED:20220112T104613Z
LAST-MODIFIED:20220112T104613Z
UID:5971-1649376000-1649462399@churchfields.wilts.sch.uk
SUMMARY:INSET DAY
DESCRIPTION:Inset Day \nSchool closed to pupils
URL:https://churchfields.wilts.sch.uk/event/inset-day-6/
CATEGORIES:Curriculum
END:VEVENT
BEGIN:VEVENT
DTSTART;TZID=Europe/London:20220407T130000
DTEND;TZID=Europe/London:20220407T143000
DTSTAMP:20260421T211155
CREATED:20220214T130828Z
LAST-MODIFIED:20220318T125809Z
UID:6082-1649336400-1649341800@churchfields.wilts.sch.uk
SUMMARY:Easter Service Atworth Church
DESCRIPTION:
URL:https://churchfields.wilts.sch.uk/event/easter-service-atworth-church/
END:VEVENT
BEGIN:VEVENT
DTSTART;TZID=Europe/London:20220406T080000
DTEND;TZID=Europe/London:20220406T113000
DTSTAMP:20260421T211155
CREATED:20220214T130736Z
LAST-MODIFIED:20220214T130739Z
UID:6080-1649232000-1649244600@churchfields.wilts.sch.uk
SUMMARY:Open the Book at MF Amphitheatre AM
DESCRIPTION:
URL:https://churchfields.wilts.sch.uk/event/open-the-book-at-mf-amphitheatre-am/
END:VEVENT
BEGIN:VEVENT
DTSTART;TZID=Europe/London:20220405T080000
DTEND;TZID=Europe/London:20220405T170000
DTSTAMP:20260421T211155
CREATED:20220214T130622Z
LAST-MODIFIED:20220214T130638Z
UID:6078-1649145600-1649178000@churchfields.wilts.sch.uk
SUMMARY:Broughton Gifford Cricket Club taster sessions Atworth AM & MF afternoon
DESCRIPTION:
URL:https://churchfields.wilts.sch.uk/event/broughton-gifford-cricket-club-taster-sessions-atworth-am-mf-afternoon/
END:VEVENT
BEGIN:VEVENT
DTSTART;TZID=Europe/London:20220331T080000
DTEND;TZID=Europe/London:20220331T170000
DTSTAMP:20260421T211155
CREATED:20220214T123712Z
LAST-MODIFIED:20220214T123749Z
UID:6053-1648713600-1648746000@churchfields.wilts.sch.uk
SUMMARY:Kestrel Class Swimming Melksham Blue Pool
DESCRIPTION:
URL:https://churchfields.wilts.sch.uk/event/kestrel-class-swimming-melksham-blue-pool-2/
END:VEVENT
BEGIN:VEVENT
DTSTART;TZID=Europe/London:20220329T080000
DTEND;TZID=Europe/London:20220329T170000
DTSTAMP:20260421T211155
CREATED:20220214T130416Z
LAST-MODIFIED:20220214T130424Z
UID:6076-1648540800-1648573200@churchfields.wilts.sch.uk
SUMMARY:KS2 Langford Lakes Trip
DESCRIPTION:
URL:https://churchfields.wilts.sch.uk/event/ks2-langford-lakes-trip/
END:VEVENT
BEGIN:VEVENT
DTSTART;TZID=Europe/London:20220324T080000
DTEND;TZID=Europe/London:20220324T170000
DTSTAMP:20260421T211155
CREATED:20220214T130339Z
LAST-MODIFIED:20220214T130342Z
UID:6074-1648108800-1648141200@churchfields.wilts.sch.uk
SUMMARY:Parents' evening until 6pm
DESCRIPTION:
URL:https://churchfields.wilts.sch.uk/event/parents-evening-until-6pm-3/
END:VEVENT
BEGIN:VEVENT
DTSTART;TZID=Europe/London:20220324T080000
DTEND;TZID=Europe/London:20220324T170000
DTSTAMP:20260421T211155
CREATED:20220214T124416Z
LAST-MODIFIED:20220214T124418Z
UID:6061-1648108800-1648141200@churchfields.wilts.sch.uk
SUMMARY:Kestrel Class Swimming Melksham Blue Pool
DESCRIPTION:
URL:https://churchfields.wilts.sch.uk/event/kestrel-class-swimming-melksham-blue-pool-4/
END:VEVENT
BEGIN:VEVENT
DTSTART;TZID=Europe/London:20220322T080000
DTEND;TZID=Europe/London:20220322T170000
DTSTAMP:20260421T211155
CREATED:20220214T125613Z
LAST-MODIFIED:20220214T130243Z
UID:6072-1647936000-1647968400@churchfields.wilts.sch.uk
SUMMARY:Parents' Evening until 7.30pm
DESCRIPTION:
URL:https://churchfields.wilts.sch.uk/event/parents-evening-until-7-30pm/
END:VEVENT
BEGIN:VEVENT
DTSTART;TZID=Europe/London:20220321T080000
DTEND;TZID=Europe/London:20220325T170000
DTSTAMP:20260421T211155
CREATED:20220214T125529Z
LAST-MODIFIED:20220214T125532Z
UID:6070-1647849600-1648227600@churchfields.wilts.sch.uk
SUMMARY:No teacher led clubs this week
DESCRIPTION:
URL:https://churchfields.wilts.sch.uk/event/no-teacher-led-clubs-this-week-4/
END:VEVENT
BEGIN:VEVENT
DTSTART;TZID=Europe/London:20220318T080000
DTEND;TZID=Europe/London:20220318T170000
DTSTAMP:20260421T211155
CREATED:20220214T125148Z
LAST-MODIFIED:20220214T125151Z
UID:6068-1647590400-1647622800@churchfields.wilts.sch.uk
SUMMARY:Red Nose Day
DESCRIPTION:
URL:https://churchfields.wilts.sch.uk/event/red-nose-day/
END:VEVENT
BEGIN:VEVENT
DTSTART;TZID=Europe/London:20220317T080000
DTEND;TZID=Europe/London:20220317T170000
DTSTAMP:20260421T211155
CREATED:20220214T124026Z
LAST-MODIFIED:20220214T124030Z
UID:6058-1647504000-1647536400@churchfields.wilts.sch.uk
SUMMARY:Kestrel Class Swimming Melksham Blue Pool
DESCRIPTION:
URL:https://churchfields.wilts.sch.uk/event/kestrel-class-swimming-melksham-blue-pool-3/
END:VEVENT
BEGIN:VEVENT
DTSTART;TZID=Europe/London:20220314T080000
DTEND;TZID=Europe/London:20220318T170000
DTSTAMP:20260421T211155
CREATED:20220214T124852Z
LAST-MODIFIED:20220214T124856Z
UID:6066-1647244800-1647622800@churchfields.wilts.sch.uk
SUMMARY:STEM week (Science\, Technology\, Engineering & Maths)
DESCRIPTION:
URL:https://churchfields.wilts.sch.uk/event/stem-week-science-technology-engineering-maths/
END:VEVENT
BEGIN:VEVENT
DTSTART;TZID=Europe/London:20220310T080000
DTEND;TZID=Europe/London:20220310T170000
DTSTAMP:20260421T211155
CREATED:20220214T123934Z
LAST-MODIFIED:20220214T123938Z
UID:6056-1646899200-1646931600@churchfields.wilts.sch.uk
SUMMARY:Kestrel Swimming Melksham Blue Pool
DESCRIPTION:
URL:https://churchfields.wilts.sch.uk/event/kestrel-swimming-melksham-blue-pool/
END:VEVENT
BEGIN:VEVENT
DTSTART;TZID=Europe/London:20220303T080000
DTEND;TZID=Europe/London:20220303T170000
DTSTAMP:20260421T211155
CREATED:20220214T124538Z
LAST-MODIFIED:20220214T124728Z
UID:6063-1646294400-1646326800@churchfields.wilts.sch.uk
SUMMARY:World Book Day Dress up as a word
DESCRIPTION:
URL:https://churchfields.wilts.sch.uk/event/world-book-day-dress-up-as-a-word/
END:VEVENT
BEGIN:VEVENT
DTSTART;TZID=Europe/London:20220303T080000
DTEND;TZID=Europe/London:20220303T170000
DTSTAMP:20260421T211155
CREATED:20220214T123626Z
LAST-MODIFIED:20220214T123626Z
UID:6051-1646294400-1646326800@churchfields.wilts.sch.uk
SUMMARY:Kestrel Class Swimming Melksham Blue Pool
DESCRIPTION:
URL:https://churchfields.wilts.sch.uk/event/kestrel-class-swimming-melksham-blue-pool/
END:VEVENT
BEGIN:VEVENT
DTSTART;VALUE=DATE:20220228
DTEND;VALUE=DATE:20220301
DTSTAMP:20260421T211155
CREATED:20220112T104454Z
LAST-MODIFIED:20220112T104454Z
UID:5969-1646006400-1646092799@churchfields.wilts.sch.uk
SUMMARY:Term 4 begins
DESCRIPTION:
URL:https://churchfields.wilts.sch.uk/event/term-4-begins-3/
CATEGORIES:Curriculum
END:VEVENT
BEGIN:VEVENT
DTSTART;VALUE=DATE:20220218
DTEND;VALUE=DATE:20220219
DTSTAMP:20260421T211155
CREATED:20220211T133000Z
LAST-MODIFIED:20220211T133019Z
UID:6044-1645142400-1645228799@churchfields.wilts.sch.uk
SUMMARY:PTA non-uniform day
DESCRIPTION:Help raise funds for our PTA
URL:https://churchfields.wilts.sch.uk/event/pta-non-uniform-day/
END:VEVENT
BEGIN:VEVENT
DTSTART;VALUE=DATE:20220218
DTEND;VALUE=DATE:20220219
DTSTAMP:20260421T211155
CREATED:20220112T104424Z
LAST-MODIFIED:20220112T104424Z
UID:5967-1645142400-1645228799@churchfields.wilts.sch.uk
SUMMARY:End of Term 3
DESCRIPTION:
URL:https://churchfields.wilts.sch.uk/event/end-of-term-3-3/
CATEGORIES:Curriculum
END:VEVENT
BEGIN:VEVENT
DTSTART;TZID=Europe/London:20220215T123000
DTEND;TZID=Europe/London:20220215T210000
DTSTAMP:20260421T211155
CREATED:20220112T104334Z
LAST-MODIFIED:20220112T104334Z
UID:5965-1644928200-1644958800@churchfields.wilts.sch.uk
SUMMARY:West Wilts Dance Festival at The Forum Bath
DESCRIPTION:Dance Club taking part in West Wilts Dance Festival at The Forum Bath
URL:https://churchfields.wilts.sch.uk/event/west-wilts-dance-festival-at-the-forum-bath/
CATEGORIES:General
END:VEVENT
BEGIN:VEVENT
DTSTART;TZID=Europe/London:20220210T130000
DTEND;TZID=Europe/London:20220210T150000
DTSTAMP:20260421T211155
CREATED:20220112T103756Z
LAST-MODIFIED:20220112T103756Z
UID:5961-1644498000-1644505200@churchfields.wilts.sch.uk
SUMMARY:Falcon Class Swimming
DESCRIPTION:Falcon Class Swimming  Melksham Blue Pool
URL:https://churchfields.wilts.sch.uk/event/falcon-class-swimming-5/
CATEGORIES:Curriculum
END:VEVENT
BEGIN:VEVENT
DTSTART;VALUE=DATE:20220207
DTEND;VALUE=DATE:20220212
DTSTAMP:20260421T211155
CREATED:20220112T104107Z
LAST-MODIFIED:20220112T104107Z
UID:5963-1644192000-1644623999@churchfields.wilts.sch.uk
SUMMARY:E-Safety Week
DESCRIPTION:
URL:https://churchfields.wilts.sch.uk/event/e-safety-week/
CATEGORIES:Curriculum
END:VEVENT
BEGIN:VEVENT
DTSTART;TZID=Europe/London:20220203T130000
DTEND;TZID=Europe/London:20220203T150000
DTSTAMP:20260421T211155
CREATED:20220112T103527Z
LAST-MODIFIED:20220112T103527Z
UID:5959-1643893200-1643900400@churchfields.wilts.sch.uk
SUMMARY:Falcon Class Swimming
DESCRIPTION:Falcon Class Swimming  Melksham Blue Pool
URL:https://churchfields.wilts.sch.uk/event/falcon-class-swimming-4/
CATEGORIES:Curriculum
END:VEVENT
BEGIN:VEVENT
DTSTART;TZID=Europe/London:20220127T130000
DTEND;TZID=Europe/London:20220127T150000
DTSTAMP:20260421T211155
CREATED:20220112T103336Z
LAST-MODIFIED:20220112T103336Z
UID:5957-1643288400-1643295600@churchfields.wilts.sch.uk
SUMMARY:Falcon Class Swimming
DESCRIPTION:Falcon Class Swimming  Melksham Blue Pool
URL:https://churchfields.wilts.sch.uk/event/falcon-class-swimming-3/
CATEGORIES:Curriculum
END:VEVENT
BEGIN:VEVENT
DTSTART;VALUE=DATE:20220126
DTEND;VALUE=DATE:20220127
DTSTAMP:20260421T211155
CREATED:20220112T102934Z
LAST-MODIFIED:20220112T102934Z
UID:5950-1643155200-1643241599@churchfields.wilts.sch.uk
SUMMARY:KS1 WOW Day (Australia Day)
DESCRIPTION:
URL:https://churchfields.wilts.sch.uk/event/ks1-wow-day-australia-day/
CATEGORIES:Curriculum
END:VEVENT
BEGIN:VEVENT
DTSTART;TZID=Europe/London:20220120T130000
DTEND;TZID=Europe/London:20220120T150000
DTSTAMP:20260421T211155
CREATED:20220112T103303Z
LAST-MODIFIED:20220112T103303Z
UID:5955-1642683600-1642690800@churchfields.wilts.sch.uk
SUMMARY:Falcon Class Swimming
DESCRIPTION:Falcon Class Swimming  Melksham Blue Pool
URL:https://churchfields.wilts.sch.uk/event/falcon-class-swimming-2/
CATEGORIES:Curriculum
END:VEVENT
BEGIN:VEVENT
DTSTART;TZID=Europe/London:20220113T130000
DTEND;TZID=Europe/London:20220113T150000
DTSTAMP:20260421T211155
CREATED:20220112T103213Z
LAST-MODIFIED:20220112T103213Z
UID:5953-1642078800-1642086000@churchfields.wilts.sch.uk
SUMMARY:Falcon Class Swimming
DESCRIPTION:Falcon Class Swimming  Melksham Blue Pool
URL:https://churchfields.wilts.sch.uk/event/falcon-class-swimming/
CATEGORIES:Curriculum
END:VEVENT
BEGIN:VEVENT
DTSTART;VALUE=DATE:20220113
DTEND;VALUE=DATE:20220114
DTSTAMP:20260421T211155
CREATED:20220112T102735Z
LAST-MODIFIED:20220112T102735Z
UID:5946-1642032000-1642118399@churchfields.wilts.sch.uk
SUMMARY:Nightingale and Kestrel WOW Day
DESCRIPTION:Nightingales and Kestrels are having their wow day on Thursday to mark the beginning of their Rivers topic. We are hoping (weather permitting) to work outside for part of the day\, so please could children wear trousers such as jeans\, which will be suitable for this and bring warm coats/hats/gloves. School uniform jumpers/cardigans should be worn.
URL:https://churchfields.wilts.sch.uk/event/nightingale-and-kestrel-wow-day/
CATEGORIES:Curriculum
END:VEVENT
END:VCALENDAR