BEGIN:VCALENDAR
VERSION:2.0
PRODID:-//Churchfields - The Village School - ECPv6.15.11//NONSGML v1.0//EN
CALSCALE:GREGORIAN
METHOD:PUBLISH
X-WR-CALNAME:Churchfields - The Village School
X-ORIGINAL-URL:https://churchfields.wilts.sch.uk
X-WR-CALDESC:Events for Churchfields - The Village School
REFRESH-INTERVAL;VALUE=DURATION:PT1H
X-Robots-Tag:noindex
X-PUBLISHED-TTL:PT1H
BEGIN:VTIMEZONE
TZID:Europe/London
BEGIN:DAYLIGHT
TZOFFSETFROM:+0000
TZOFFSETTO:+0100
TZNAME:BST
DTSTART:20190331T010000
END:DAYLIGHT
BEGIN:STANDARD
TZOFFSETFROM:+0100
TZOFFSETTO:+0000
TZNAME:GMT
DTSTART:20191027T010000
END:STANDARD
BEGIN:DAYLIGHT
TZOFFSETFROM:+0000
TZOFFSETTO:+0100
TZNAME:BST
DTSTART:20200329T010000
END:DAYLIGHT
BEGIN:STANDARD
TZOFFSETFROM:+0100
TZOFFSETTO:+0000
TZNAME:GMT
DTSTART:20201025T010000
END:STANDARD
BEGIN:DAYLIGHT
TZOFFSETFROM:+0000
TZOFFSETTO:+0100
TZNAME:BST
DTSTART:20210328T010000
END:DAYLIGHT
BEGIN:STANDARD
TZOFFSETFROM:+0100
TZOFFSETTO:+0000
TZNAME:GMT
DTSTART:20211031T010000
END:STANDARD
BEGIN:DAYLIGHT
TZOFFSETFROM:+0000
TZOFFSETTO:+0100
TZNAME:BST
DTSTART:20220327T010000
END:DAYLIGHT
BEGIN:STANDARD
TZOFFSETFROM:+0100
TZOFFSETTO:+0000
TZNAME:GMT
DTSTART:20221030T010000
END:STANDARD
END:VTIMEZONE
BEGIN:VEVENT
DTSTART;TZID=Europe/London:20210607T080000
DTEND;TZID=Europe/London:20210607T170000
DTSTAMP:20260424T113829
CREATED:20200701T100310Z
LAST-MODIFIED:20200701T100310Z
UID:2982-1623052800-1623085200@churchfields.wilts.sch.uk
SUMMARY:Term 6 Begins
DESCRIPTION:
URL:https://churchfields.wilts.sch.uk/event/term-6-begins/
CATEGORIES:Curriculum,General
END:VEVENT
BEGIN:VEVENT
DTSTART;TZID=Europe/London:20210528T080000
DTEND;TZID=Europe/London:20210528T170000
DTSTAMP:20260424T113829
CREATED:20200701T100235Z
LAST-MODIFIED:20200701T100235Z
UID:2980-1622188800-1622221200@churchfields.wilts.sch.uk
SUMMARY:End of Term 5
DESCRIPTION:
URL:https://churchfields.wilts.sch.uk/event/end-of-term-5/
CATEGORIES:Curriculum,General
END:VEVENT
BEGIN:VEVENT
DTSTART;VALUE=DATE:20210528
DTEND;VALUE=DATE:20210529
DTSTAMP:20260424T113829
CREATED:20210514T123256Z
LAST-MODIFIED:20210514T123256Z
UID:4198-1622160000-1622246399@churchfields.wilts.sch.uk
SUMMARY:Non Uniform Day
DESCRIPTION:Non uniform day to raise funds for Churchfields PTA. Suggested donation £1
URL:https://churchfields.wilts.sch.uk/event/non-uniform-day/
LOCATION:whole school
CATEGORIES:General,PTA
END:VEVENT
BEGIN:VEVENT
DTSTART;VALUE=DATE:20210527
DTEND;VALUE=DATE:20210528
DTSTAMP:20260424T113829
CREATED:20210429T103416Z
LAST-MODIFIED:20210429T103416Z
UID:4106-1622073600-1622159999@churchfields.wilts.sch.uk
SUMMARY:Tempest Class Photos
DESCRIPTION:
URL:https://churchfields.wilts.sch.uk/event/tempest-class-photos/
CATEGORIES:Curriculum,General
END:VEVENT
BEGIN:VEVENT
DTSTART;TZID=Europe/London:20210520T150000
DTEND;TZID=Europe/London:20210520T180000
DTSTAMP:20260424T113829
CREATED:20210429T103237Z
LAST-MODIFIED:20210429T103237Z
UID:4104-1621522800-1621533600@churchfields.wilts.sch.uk
SUMMARY:Virtual Parents Evening
DESCRIPTION:
URL:https://churchfields.wilts.sch.uk/event/virtual-parents-evening-2/
CATEGORIES:Curriculum
END:VEVENT
BEGIN:VEVENT
DTSTART;TZID=Europe/London:20210518T150000
DTEND;TZID=Europe/London:20210518T190000
DTSTAMP:20260424T113829
CREATED:20210429T103155Z
LAST-MODIFIED:20210429T103155Z
UID:4102-1621350000-1621364400@churchfields.wilts.sch.uk
SUMMARY:Virtual Parents Evening
DESCRIPTION:
URL:https://churchfields.wilts.sch.uk/event/virtual-parents-evening/
CATEGORIES:Curriculum
END:VEVENT
BEGIN:VEVENT
DTSTART;VALUE=DATE:20210505
DTEND;VALUE=DATE:20210506
DTSTAMP:20260424T113829
CREATED:20210430T115212Z
LAST-MODIFIED:20210430T115339Z
UID:4110-1620172800-1620259199@churchfields.wilts.sch.uk
SUMMARY:KS2 Explore the Village
DESCRIPTION:On Wednesday 5th May\, KS2 will be exploring the village as\npart of our WOW day for our current geography topic Please\ncould children wear school uniform tops and comfortable\nshoes and trousers appropriate for walking. A backpack to\ncarry a drink and a snack will also be needed and a coat or\nsunhat or both\, depending on what the weather decides on\nthe day as we will be doing this regardless of the weather! For\nKS2 pupils at Monkton Farleigh if you have any small boxes at\nhome (raisin boxes\, cereal bar\, not cereals\, etc.) can they be\nsent into school for Falcon class to use to make a model of the\nplaces they visit.
URL:https://churchfields.wilts.sch.uk/event/ks2-explore-the-village/
CATEGORIES:Curriculum
END:VEVENT
BEGIN:VEVENT
DTSTART;VALUE=DATE:20210503
DTEND;VALUE=DATE:20210504
DTSTAMP:20260424T113829
CREATED:20200701T100154Z
LAST-MODIFIED:20200701T100154Z
UID:2978-1620000000-1620086399@churchfields.wilts.sch.uk
SUMMARY:May Bank Holiday
DESCRIPTION:whole school closed
URL:https://churchfields.wilts.sch.uk/event/may-bank-holiday/
CATEGORIES:Curriculum,General
END:VEVENT
BEGIN:VEVENT
DTSTART;VALUE=DATE:20210421
DTEND;VALUE=DATE:20210422
DTSTAMP:20260424T113829
CREATED:20210331T085841Z
LAST-MODIFIED:20210331T085841Z
UID:4058-1618963200-1619049599@churchfields.wilts.sch.uk
SUMMARY:EYFS/KS1 WOW DAY
DESCRIPTION:We would like the children to come in dresses as paleontologists or explorers for the day (shorts\, T-shirts\, cap\, jeans\, trainers etc.) \nOn the day we will have lots of exciting activities planned.   \nPlease could you bring in a clean jam jar sized glass jar on Monday 19 April in preparation for the day.
URL:https://churchfields.wilts.sch.uk/event/eyfs-ks1-wow-day/
CATEGORIES:Curriculum
END:VEVENT
BEGIN:VEVENT
DTSTART;TZID=Europe/London:20210419T080000
DTEND;TZID=Europe/London:20210419T170000
DTSTAMP:20260424T113829
CREATED:20200701T100106Z
LAST-MODIFIED:20200701T100106Z
UID:2976-1618819200-1618851600@churchfields.wilts.sch.uk
SUMMARY:Term 5 Begins
DESCRIPTION:
URL:https://churchfields.wilts.sch.uk/event/term-5-begins-2/
CATEGORIES:Curriculum,PTA
END:VEVENT
BEGIN:VEVENT
DTSTART;TZID=Europe/London:20210401T080000
DTEND;TZID=Europe/London:20210401T170000
DTSTAMP:20260424T113829
CREATED:20200701T100005Z
LAST-MODIFIED:20200701T100005Z
UID:2974-1617264000-1617296400@churchfields.wilts.sch.uk
SUMMARY:INSET DAY
DESCRIPTION:Whole school closed to pupils
URL:https://churchfields.wilts.sch.uk/event/inset-day-4/
CATEGORIES:Curriculum,General
END:VEVENT
BEGIN:VEVENT
DTSTART;TZID=Europe/London:20210401T080000
DTEND;TZID=Europe/London:20210401T170000
DTSTAMP:20260424T113829
CREATED:20200701T095918Z
LAST-MODIFIED:20200701T095918Z
UID:2972-1617264000-1617296400@churchfields.wilts.sch.uk
SUMMARY:End of Term 4
DESCRIPTION:
URL:https://churchfields.wilts.sch.uk/event/end-of-term-4-2/
CATEGORIES:Curriculum,General
END:VEVENT
BEGIN:VEVENT
DTSTART;TZID=Europe/London:20210331T131500
DTEND;TZID=Europe/London:20210331T143000
DTSTAMP:20260424T113829
CREATED:20210318T121439Z
LAST-MODIFIED:20210318T121439Z
UID:4037-1617196500-1617201000@churchfields.wilts.sch.uk
SUMMARY:Atworth KS2 Easter Service
DESCRIPTION:
URL:https://churchfields.wilts.sch.uk/event/atworth-ks2-easter-service/
CATEGORIES:Curriculum
END:VEVENT
BEGIN:VEVENT
DTSTART;TZID=Europe/London:20210330T090000
DTEND;TZID=Europe/London:20210330T220000
DTSTAMP:20260424T113829
CREATED:20210318T121356Z
LAST-MODIFIED:20210318T121356Z
UID:4035-1617094800-1617141600@churchfields.wilts.sch.uk
SUMMARY:Monkton Farleigh Easter Service
DESCRIPTION:
URL:https://churchfields.wilts.sch.uk/event/monkton-farleigh-easter-service/
CATEGORIES:Curriculum
END:VEVENT
BEGIN:VEVENT
DTSTART;TZID=Europe/London:20210329T131500
DTEND;TZID=Europe/London:20210329T143000
DTSTAMP:20260424T113829
CREATED:20210318T121313Z
LAST-MODIFIED:20210318T121313Z
UID:4032-1617023700-1617028200@churchfields.wilts.sch.uk
SUMMARY:Atworth EYFS/KS1 Easter Service St. Michaels Church
DESCRIPTION:
URL:https://churchfields.wilts.sch.uk/event/atworth-eyfs-ks1-easter-service-st-michaels-church/
LOCATION:st Michaels church atworth
CATEGORIES:Curriculum
END:VEVENT
BEGIN:VEVENT
DTSTART;VALUE=DATE:20210323
DTEND;VALUE=DATE:20210325
DTSTAMP:20260424T113829
CREATED:20210305T141255Z
LAST-MODIFIED:20210305T141255Z
UID:4018-1616457600-1616630399@churchfields.wilts.sch.uk
SUMMARY:Bikeability Yr 6 Group 2
DESCRIPTION:
URL:https://churchfields.wilts.sch.uk/event/bikeability-yr-6-group-2/
LOCATION:whole school
CATEGORIES:Curriculum,General
END:VEVENT
BEGIN:VEVENT
DTSTART;VALUE=DATE:20210319
DTEND;VALUE=DATE:20210320
DTSTAMP:20260424T113829
CREATED:20210312T135435Z
LAST-MODIFIED:20210312T135435Z
UID:4027-1616112000-1616198399@churchfields.wilts.sch.uk
SUMMARY:Comic Relief Non-uniform day
DESCRIPTION:
URL:https://churchfields.wilts.sch.uk/event/comic-relief-non-uniform-day/
CATEGORIES:General
END:VEVENT
BEGIN:VEVENT
DTSTART;VALUE=DATE:20210319
DTEND;VALUE=DATE:20210320
DTSTAMP:20260424T113829
CREATED:20210204T110237Z
LAST-MODIFIED:20210204T110237Z
UID:3947-1616112000-1616198399@churchfields.wilts.sch.uk
SUMMARY:Comic Relief Red nose Day
DESCRIPTION:
URL:https://churchfields.wilts.sch.uk/event/comic-relief-red-nose-day/
LOCATION:whole school
CATEGORIES:General
END:VEVENT
BEGIN:VEVENT
DTSTART;VALUE=DATE:20210316
DTEND;VALUE=DATE:20210318
DTSTAMP:20260424T113829
CREATED:20210305T141203Z
LAST-MODIFIED:20210305T141203Z
UID:4015-1615852800-1616025599@churchfields.wilts.sch.uk
SUMMARY:Bikeability YR6
DESCRIPTION:
URL:https://churchfields.wilts.sch.uk/event/bikeability-yr6/
LOCATION:whole school
CATEGORIES:Curriculum,General
END:VEVENT
BEGIN:VEVENT
DTSTART;VALUE=DATE:20210308
DTEND;VALUE=DATE:20210309
DTSTAMP:20260424T113829
CREATED:20210305T141409Z
LAST-MODIFIED:20210305T141409Z
UID:4021-1615161600-1615247999@churchfields.wilts.sch.uk
SUMMARY:School Open To All Pupils
DESCRIPTION:
URL:https://churchfields.wilts.sch.uk/event/school-open-to-all-pupils/
LOCATION:whole school
CATEGORIES:Curriculum,General
END:VEVENT
BEGIN:VEVENT
DTSTART;VALUE=DATE:20210304
DTEND;VALUE=DATE:20210305
DTSTAMP:20260424T113829
CREATED:20210204T110139Z
LAST-MODIFIED:20210204T110139Z
UID:3945-1614816000-1614902399@churchfields.wilts.sch.uk
SUMMARY:World Book Day
DESCRIPTION:
URL:https://churchfields.wilts.sch.uk/event/world-book-day-2/
LOCATION:whole school
CATEGORIES:Curriculum,General
END:VEVENT
BEGIN:VEVENT
DTSTART;TZID=Europe/London:20210222T080000
DTEND;TZID=Europe/London:20210222T170000
DTSTAMP:20260424T113829
CREATED:20200701T095838Z
LAST-MODIFIED:20200701T095838Z
UID:2970-1613980800-1614013200@churchfields.wilts.sch.uk
SUMMARY:Term 4 Begins
DESCRIPTION:
URL:https://churchfields.wilts.sch.uk/event/term-4-begins-2/
CATEGORIES:Curriculum,General
END:VEVENT
BEGIN:VEVENT
DTSTART;TZID=Europe/London:20210212T080000
DTEND;TZID=Europe/London:20210212T170000
DTSTAMP:20260424T113829
CREATED:20200701T095751Z
LAST-MODIFIED:20200701T095751Z
UID:2968-1613116800-1613149200@churchfields.wilts.sch.uk
SUMMARY:End of Term 3
DESCRIPTION:
URL:https://churchfields.wilts.sch.uk/event/end-of-term-3-2/
CATEGORIES:Curriculum,General
END:VEVENT
BEGIN:VEVENT
DTSTART;TZID=Europe/London:20210105T080000
DTEND;TZID=Europe/London:20210105T170000
DTSTAMP:20260424T113829
CREATED:20200701T095707Z
LAST-MODIFIED:20200701T095707Z
UID:2966-1609833600-1609866000@churchfields.wilts.sch.uk
SUMMARY:Term 3 Begins
DESCRIPTION:
URL:https://churchfields.wilts.sch.uk/event/term-3-begins-2/
CATEGORIES:Curriculum,General
END:VEVENT
BEGIN:VEVENT
DTSTART;VALUE=DATE:20210104
DTEND;VALUE=DATE:20210105
DTSTAMP:20260424T113829
CREATED:20200701T095631Z
LAST-MODIFIED:20200701T095631Z
UID:2964-1609718400-1609804799@churchfields.wilts.sch.uk
SUMMARY:INSET DAY
DESCRIPTION:whole school closed to pupils
URL:https://churchfields.wilts.sch.uk/event/inset-day-3/
CATEGORIES:Curriculum,General
END:VEVENT
BEGIN:VEVENT
DTSTART;VALUE=DATE:20201218
DTEND;VALUE=DATE:20201219
DTSTAMP:20260424T113829
CREATED:20200701T095528Z
LAST-MODIFIED:20200701T095528Z
UID:2962-1608249600-1608335999@churchfields.wilts.sch.uk
SUMMARY:Term 2 Ends
DESCRIPTION:
URL:https://churchfields.wilts.sch.uk/event/term-2-ends/
CATEGORIES:Curriculum,General
END:VEVENT
BEGIN:VEVENT
DTSTART;TZID=Europe/London:20201211T113000
DTEND;TZID=Europe/London:20201211T130000
DTSTAMP:20260424T113829
CREATED:20201118T114411Z
LAST-MODIFIED:20201118T114411Z
UID:3663-1607686200-1607691600@churchfields.wilts.sch.uk
SUMMARY:Christmas Dinner
DESCRIPTION:
URL:https://churchfields.wilts.sch.uk/event/christmas-dinner/
LOCATION:whole school
CATEGORIES:General
END:VEVENT
BEGIN:VEVENT
DTSTART;TZID=Europe/London:20201210T170000
DTEND;TZID=Europe/London:20201210T184500
DTSTAMP:20260424T113829
CREATED:20201120T143449Z
LAST-MODIFIED:20201120T143449Z
UID:3674-1607619600-1607625900@churchfields.wilts.sch.uk
SUMMARY:EYFS/FS1 Film Night
DESCRIPTION:We have all very much enjoyed our wonderful topic of The Circus Comes to Town. To draw our\ntopic to a close\, we will be holding a film night after school on Thursday 10th December\, which all\nchildren in EYFS and KS1 are invited to; we will be watching Madagascar 3:
URL:https://churchfields.wilts.sch.uk/event/eyfs-fs1-film-night/
END:VEVENT
BEGIN:VEVENT
DTSTART;TZID=Europe/London:20201203T153000
DTEND;TZID=Europe/London:20201203T180000
DTSTAMP:20260424T113829
CREATED:20201118T113944Z
LAST-MODIFIED:20201118T113944Z
UID:3659-1607009400-1607018400@churchfields.wilts.sch.uk
SUMMARY:Virtual Parent Evening Whole School
DESCRIPTION:
URL:https://churchfields.wilts.sch.uk/event/virtual-parent-evening-whole-school-2/
CATEGORIES:Curriculum,General
END:VEVENT
BEGIN:VEVENT
DTSTART;VALUE=DATE:20201201
DTEND;VALUE=DATE:20201202
DTSTAMP:20260424T113829
CREATED:20201118T114057Z
LAST-MODIFIED:20201118T114057Z
UID:3661-1606780800-1606867199@churchfields.wilts.sch.uk
SUMMARY:Whole School Flu Immunisation
DESCRIPTION:
URL:https://churchfields.wilts.sch.uk/event/whole-school-flu-immunisation/
LOCATION:whole school
CATEGORIES:General
END:VEVENT
END:VCALENDAR