BEGIN:VCALENDAR
VERSION:2.0
PRODID:-//Churchfields - The Village School - ECPv6.15.11//NONSGML v1.0//EN
CALSCALE:GREGORIAN
METHOD:PUBLISH
X-WR-CALNAME:Churchfields - The Village School
X-ORIGINAL-URL:https://churchfields.wilts.sch.uk
X-WR-CALDESC:Events for Churchfields - The Village School
REFRESH-INTERVAL;VALUE=DURATION:PT1H
X-Robots-Tag:noindex
X-PUBLISHED-TTL:PT1H
BEGIN:VTIMEZONE
TZID:Europe/London
BEGIN:DAYLIGHT
TZOFFSETFROM:+0000
TZOFFSETTO:+0100
TZNAME:BST
DTSTART:20210328T010000
END:DAYLIGHT
BEGIN:STANDARD
TZOFFSETFROM:+0100
TZOFFSETTO:+0000
TZNAME:GMT
DTSTART:20211031T010000
END:STANDARD
BEGIN:DAYLIGHT
TZOFFSETFROM:+0000
TZOFFSETTO:+0100
TZNAME:BST
DTSTART:20220327T010000
END:DAYLIGHT
BEGIN:STANDARD
TZOFFSETFROM:+0100
TZOFFSETTO:+0000
TZNAME:GMT
DTSTART:20221030T010000
END:STANDARD
BEGIN:DAYLIGHT
TZOFFSETFROM:+0000
TZOFFSETTO:+0100
TZNAME:BST
DTSTART:20230326T010000
END:DAYLIGHT
BEGIN:STANDARD
TZOFFSETFROM:+0100
TZOFFSETTO:+0000
TZNAME:GMT
DTSTART:20231029T010000
END:STANDARD
END:VTIMEZONE
BEGIN:VEVENT
DTSTART;TZID=Europe/London:20221012T100000
DTEND;TZID=Europe/London:20221012T140000
DTSTAMP:20260421T155517
CREATED:20220914T101021Z
LAST-MODIFIED:20220914T101021Z
UID:6923-1665568800-1665583200@churchfields.wilts.sch.uk
SUMMARY:Atworth Open Day
DESCRIPTION:
URL:https://churchfields.wilts.sch.uk/event/atworth-open-day-2/
CATEGORIES:General
END:VEVENT
BEGIN:VEVENT
DTSTART;TZID=Europe/London:20221011T150000
DTEND;TZID=Europe/London:20221011T193000
DTSTAMP:20260421T155517
CREATED:20220914T101144Z
LAST-MODIFIED:20220914T101144Z
UID:6927-1665500400-1665516600@churchfields.wilts.sch.uk
SUMMARY:Parents Evening until 7:30pm
DESCRIPTION:
URL:https://churchfields.wilts.sch.uk/event/parents-evening-until-730pm-4/
CATEGORIES:Curriculum,General
END:VEVENT
BEGIN:VEVENT
DTSTART;VALUE=DATE:20221010
DTEND;VALUE=DATE:20221015
DTSTAMP:20260421T155517
CREATED:20220914T102001Z
LAST-MODIFIED:20220914T102001Z
UID:6951-1665360000-1665791999@churchfields.wilts.sch.uk
SUMMARY:No Teacher led School Clubs This Week
DESCRIPTION:
URL:https://churchfields.wilts.sch.uk/event/no-teacher-led-school-clubs-this-week/
CATEGORIES:Curriculum,General
END:VEVENT
BEGIN:VEVENT
DTSTART;TZID=Europe/London:20221005T170000
DTEND;TZID=Europe/London:20221005T180000
DTSTAMP:20260421T155517
CREATED:20220914T100924Z
LAST-MODIFIED:20220914T100924Z
UID:6921-1664989200-1664992800@churchfields.wilts.sch.uk
SUMMARY:Bedtime Stories
DESCRIPTION:Both Bases
URL:https://churchfields.wilts.sch.uk/event/bedtime-stories-2/
CATEGORIES:Curriculum,PTA
END:VEVENT
BEGIN:VEVENT
DTSTART;VALUE=DATE:20221003
DTEND;VALUE=DATE:20221008
DTSTAMP:20260421T155517
CREATED:20220914T095747Z
LAST-MODIFIED:20220914T095747Z
UID:6919-1664755200-1665187199@churchfields.wilts.sch.uk
SUMMARY:Book  Week
DESCRIPTION:
URL:https://churchfields.wilts.sch.uk/event/book-week-3/
CATEGORIES:Curriculum,General
END:VEVENT
BEGIN:VEVENT
DTSTART;VALUE=DATE:20220930
DTEND;VALUE=DATE:20221001
DTSTAMP:20260421T155517
CREATED:20220914T095551Z
LAST-MODIFIED:20220914T095551Z
UID:6917-1664496000-1664582399@churchfields.wilts.sch.uk
SUMMARY:Individual School Photos
DESCRIPTION:Tempest Photography individual school photos
URL:https://churchfields.wilts.sch.uk/event/individual-school-photos-3/
CATEGORIES:General
END:VEVENT
BEGIN:VEVENT
DTSTART;TZID=Europe/London:20220927T130000
DTEND;TZID=Europe/London:20220927T150000
DTSTAMP:20260421T155517
CREATED:20220923T142708Z
LAST-MODIFIED:20220923T142708Z
UID:7027-1664283600-1664290800@churchfields.wilts.sch.uk
SUMMARY:Kingfisher Class Forest School (COAT) afternoon
DESCRIPTION:On Tuesday 27th Sept Kingfisher class will have an afternoon of Forest School activities also known as a COAT (Churchfields Outdoor Activity Time). Please can you ensure children bring in a change of clothes (in a carrier bag) which include: sturdy shoes or wellies\, a long sleeve top\, long trousers and a waterproof coat. We have waterproof trousers in school if necessary. We will go outside rain or shine!
URL:https://churchfields.wilts.sch.uk/event/kingfisher-class-forest-school-coat-afternoon/
LOCATION:SN12 8HY
CATEGORIES:Forest School
END:VEVENT
BEGIN:VEVENT
DTSTART;VALUE=DATE:20220919
DTEND;VALUE=DATE:20220920
DTSTAMP:20260421T155517
CREATED:20220914T095215Z
LAST-MODIFIED:20220914T095215Z
UID:6913-1663545600-1663631999@churchfields.wilts.sch.uk
SUMMARY:Public Holiday State Funeral of the Queen
DESCRIPTION:Whole School Closure
URL:https://churchfields.wilts.sch.uk/event/public-holiday-state-funeral-of-the-queen/
CATEGORIES:Curriculum,General
END:VEVENT
BEGIN:VEVENT
DTSTART;VALUE=DATE:20220916
DTEND;VALUE=DATE:20220917
DTSTAMP:20260421T155517
CREATED:20220914T095343Z
LAST-MODIFIED:20220914T095343Z
UID:6915-1663286400-1663372799@churchfields.wilts.sch.uk
SUMMARY:KS2 WOW Day Trip to Fashion Museum
DESCRIPTION:KS2 trip to Fashion Museum Bath\, see Parent Pay for details
URL:https://churchfields.wilts.sch.uk/event/ks2-wow-day-trip-to-fashion-museum/
CATEGORIES:Curriculum,General
END:VEVENT
BEGIN:VEVENT
DTSTART;TZID=Europe/London:20220725T080000
DTEND;TZID=Europe/London:20220725T170000
DTSTAMP:20260421T155517
CREATED:20220527T133202Z
LAST-MODIFIED:20220527T133207Z
UID:6517-1658736000-1658768400@churchfields.wilts.sch.uk
SUMMARY:INSET Day
DESCRIPTION:
URL:https://churchfields.wilts.sch.uk/event/inset-day-14/
END:VEVENT
BEGIN:VEVENT
DTSTART;TZID=Europe/London:20220724T080000
DTEND;TZID=Europe/London:20220724T170000
DTSTAMP:20260421T155517
CREATED:20220527T133137Z
LAST-MODIFIED:20220527T133137Z
UID:6515-1658649600-1658682000@churchfields.wilts.sch.uk
SUMMARY:INSET Day
DESCRIPTION:
URL:https://churchfields.wilts.sch.uk/event/inset-day-13/
END:VEVENT
BEGIN:VEVENT
DTSTART;TZID=Europe/London:20220722T080000
DTEND;TZID=Europe/London:20220722T170000
DTSTAMP:20260421T155517
CREATED:20220510T094448Z
LAST-MODIFIED:20220510T094448Z
UID:6489-1658476800-1658509200@churchfields.wilts.sch.uk
SUMMARY:INSET Day
DESCRIPTION:
URL:https://churchfields.wilts.sch.uk/event/inset-day-9/
END:VEVENT
BEGIN:VEVENT
DTSTART;TZID=Europe/London:20220719T130000
DTEND;TZID=Europe/London:20220719T143000
DTSTAMP:20260421T155517
CREATED:20220318T112709Z
LAST-MODIFIED:20220318T112709Z
UID:6209-1658235600-1658241000@churchfields.wilts.sch.uk
SUMMARY:Leavers' Service 1.15pm St Michaels Church Atworth
DESCRIPTION:
URL:https://churchfields.wilts.sch.uk/event/leavers-service-1-15pm-st-michaels-church-atworth/
END:VEVENT
BEGIN:VEVENT
DTSTART;TZID=Europe/London:20220719T080000
DTEND;TZID=Europe/London:20220719T153000
DTSTAMP:20260421T155517
CREATED:20220510T094408Z
LAST-MODIFIED:20220510T094408Z
UID:6487-1658217600-1658244600@churchfields.wilts.sch.uk
SUMMARY:Leaver's Service Atworth 1.15pm
DESCRIPTION:
URL:https://churchfields.wilts.sch.uk/event/leavers-service-atworth-1-15pm/
END:VEVENT
BEGIN:VEVENT
DTSTART;TZID=Europe/London:20220718T080000
DTEND;TZID=Europe/London:20220721T170000
DTSTAMP:20260421T155517
CREATED:20220510T094331Z
LAST-MODIFIED:20220510T094331Z
UID:6485-1658131200-1658422800@churchfields.wilts.sch.uk
SUMMARY:Sport's week
DESCRIPTION:
URL:https://churchfields.wilts.sch.uk/event/sports-week-2/
END:VEVENT
BEGIN:VEVENT
DTSTART;TZID=Europe/London:20220715T080000
DTEND;TZID=Europe/London:20220715T170000
DTSTAMP:20260421T155517
CREATED:20220510T094302Z
LAST-MODIFIED:20220510T094302Z
UID:6483-1657872000-1657904400@churchfields.wilts.sch.uk
SUMMARY:Pupil reports go home
DESCRIPTION:
URL:https://churchfields.wilts.sch.uk/event/pupil-reports-go-home-2/
END:VEVENT
BEGIN:VEVENT
DTSTART;TZID=Europe/London:20220715T080000
DTEND;TZID=Europe/London:20220715T170000
DTSTAMP:20260421T155517
CREATED:20220510T094207Z
LAST-MODIFIED:20220510T094207Z
UID:6479-1657872000-1657904400@churchfields.wilts.sch.uk
SUMMARY:Year 6 induction Hardenhuish School
DESCRIPTION:
URL:https://churchfields.wilts.sch.uk/event/year-6-induction-hardenhuish-school/
END:VEVENT
BEGIN:VEVENT
DTSTART;TZID=Europe/London:20220714T080000
DTEND;TZID=Europe/London:20220714T170000
DTSTAMP:20260421T155517
CREATED:20220510T094127Z
LAST-MODIFIED:20220510T094127Z
UID:6477-1657785600-1657818000@churchfields.wilts.sch.uk
SUMMARY:Year 6 Induction St Laurence
DESCRIPTION:
URL:https://churchfields.wilts.sch.uk/event/year-6-induction-st-laurence/
END:VEVENT
BEGIN:VEVENT
DTSTART;TZID=Europe/London:20220712T080000
DTEND;TZID=Europe/London:20220712T170000
DTSTAMP:20260421T155517
CREATED:20220510T094053Z
LAST-MODIFIED:20220510T094053Z
UID:6475-1657612800-1657645200@churchfields.wilts.sch.uk
SUMMARY:Move up day
DESCRIPTION:
URL:https://churchfields.wilts.sch.uk/event/move-up-day/
END:VEVENT
BEGIN:VEVENT
DTSTART;TZID=Europe/London:20220708T080000
DTEND;TZID=Europe/London:20220708T170000
DTSTAMP:20260421T155517
CREATED:20220510T093926Z
LAST-MODIFIED:20220510T093926Z
UID:6471-1657267200-1657299600@churchfields.wilts.sch.uk
SUMMARY:Sports Day 1-3.15pm whole school at Atworth
DESCRIPTION:
URL:https://churchfields.wilts.sch.uk/event/sports-day-1-3-15pm-whole-school-at-atworth/
END:VEVENT
BEGIN:VEVENT
DTSTART;TZID=Europe/London:20220707T080000
DTEND;TZID=Europe/London:20220707T170000
DTSTAMP:20260421T155517
CREATED:20220510T093841Z
LAST-MODIFIED:20220510T093841Z
UID:6469-1657180800-1657213200@churchfields.wilts.sch.uk
SUMMARY:Year 6 Intake day Beechen Cliff
DESCRIPTION:
URL:https://churchfields.wilts.sch.uk/event/year-6-intake-day-beechen-cliff/
END:VEVENT
BEGIN:VEVENT
DTSTART;TZID=Europe/London:20220707T080000
DTEND;TZID=Europe/London:20220707T170000
DTSTAMP:20260421T155517
CREATED:20220510T093759Z
LAST-MODIFIED:20220510T093759Z
UID:6467-1657180800-1657213200@churchfields.wilts.sch.uk
SUMMARY:Year 6 pupils induction St Laurence
DESCRIPTION:
URL:https://churchfields.wilts.sch.uk/event/year-6-pupils-induction-st-laurence/
END:VEVENT
BEGIN:VEVENT
DTSTART;TZID=Europe/London:20220706T080000
DTEND;TZID=Europe/London:20220706T170000
DTSTAMP:20260421T155517
CREATED:20220510T094021Z
LAST-MODIFIED:20220510T094021Z
UID:6473-1657094400-1657126800@churchfields.wilts.sch.uk
SUMMARY:Year 6 Leavers Service Salisbury Cathedral
DESCRIPTION:
URL:https://churchfields.wilts.sch.uk/event/year-6-leavers-service-salisbury-cathedral/
END:VEVENT
BEGIN:VEVENT
DTSTART;TZID=Europe/London:20220705T130000
DTEND;TZID=Europe/London:20220705T163000
DTSTAMP:20260421T155517
CREATED:20220510T093652Z
LAST-MODIFIED:20220510T093652Z
UID:6465-1657026000-1657038600@churchfields.wilts.sch.uk
SUMMARY:Reception 22 Inductions with Teddy Bear's picnic
DESCRIPTION:
URL:https://churchfields.wilts.sch.uk/event/reception-22-inductions-with-teddy-bears-picnic/
END:VEVENT
BEGIN:VEVENT
DTSTART;TZID=Europe/London:20220705T080000
DTEND;TZID=Europe/London:20220705T170000
DTSTAMP:20260421T155517
CREATED:20220510T093420Z
LAST-MODIFIED:20220510T093420Z
UID:6463-1657008000-1657040400@churchfields.wilts.sch.uk
SUMMARY:Year 6 Induction St Augstine's
DESCRIPTION:
URL:https://churchfields.wilts.sch.uk/event/year-6-induction-st-augstines/
END:VEVENT
BEGIN:VEVENT
DTSTART;TZID=Europe/London:20220629T080000
DTEND;TZID=Europe/London:20220629T170000
DTSTAMP:20260421T155517
CREATED:20220510T093340Z
LAST-MODIFIED:20220510T094604Z
UID:6461-1656489600-1656522000@churchfields.wilts.sch.uk
SUMMARY:Year 6 pupils induction Corsham School
DESCRIPTION:
URL:https://churchfields.wilts.sch.uk/event/year-6-pupils-induction-corsham-school/
END:VEVENT
BEGIN:VEVENT
DTSTART;TZID=Europe/London:20220628T130000
DTEND;TZID=Europe/London:20220628T153000
DTSTAMP:20260421T155517
CREATED:20220510T093214Z
LAST-MODIFIED:20220510T093214Z
UID:6455-1656421200-1656430200@churchfields.wilts.sch.uk
SUMMARY:Reception Induction Afternoon
DESCRIPTION:
URL:https://churchfields.wilts.sch.uk/event/reception-induction-afternoon-3/
END:VEVENT
BEGIN:VEVENT
DTSTART;TZID=Europe/London:20220628T080000
DTEND;TZID=Europe/London:20220628T170000
DTSTAMP:20260421T155517
CREATED:20220510T093256Z
LAST-MODIFIED:20220510T093256Z
UID:6457-1656403200-1656435600@churchfields.wilts.sch.uk
SUMMARY:Year 6 Induction Melksham Oak
DESCRIPTION:
URL:https://churchfields.wilts.sch.uk/event/year-6-induction-melksham-oak/
END:VEVENT
BEGIN:VEVENT
DTSTART;TZID=Europe/London:20220621T130000
DTEND;TZID=Europe/London:20220621T153000
DTSTAMP:20260421T155517
CREATED:20220510T093118Z
LAST-MODIFIED:20220510T093118Z
UID:6453-1655816400-1655825400@churchfields.wilts.sch.uk
SUMMARY:Reception induction afternoon
DESCRIPTION:
URL:https://churchfields.wilts.sch.uk/event/reception-induction-afternoon-2/
END:VEVENT
BEGIN:VEVENT
DTSTART;TZID=Europe/London:20220614T130000
DTEND;TZID=Europe/London:20220614T153000
DTSTAMP:20260421T155517
CREATED:20220510T092931Z
LAST-MODIFIED:20220510T092931Z
UID:6447-1655211600-1655220600@churchfields.wilts.sch.uk
SUMMARY:Reception induction afternoon
DESCRIPTION:
URL:https://churchfields.wilts.sch.uk/event/reception-induction-afternoon/
END:VEVENT
END:VCALENDAR