BEGIN:VCALENDAR
VERSION:2.0
PRODID:-//Churchfields - The Village School - ECPv6.15.11//NONSGML v1.0//EN
CALSCALE:GREGORIAN
METHOD:PUBLISH
X-WR-CALNAME:Churchfields - The Village School
X-ORIGINAL-URL:https://churchfields.wilts.sch.uk
X-WR-CALDESC:Events for Churchfields - The Village School
REFRESH-INTERVAL;VALUE=DURATION:PT1H
X-Robots-Tag:noindex
X-PUBLISHED-TTL:PT1H
BEGIN:VTIMEZONE
TZID:Europe/London
BEGIN:DAYLIGHT
TZOFFSETFROM:+0000
TZOFFSETTO:+0100
TZNAME:BST
DTSTART:20210328T010000
END:DAYLIGHT
BEGIN:STANDARD
TZOFFSETFROM:+0100
TZOFFSETTO:+0000
TZNAME:GMT
DTSTART:20211031T010000
END:STANDARD
BEGIN:DAYLIGHT
TZOFFSETFROM:+0000
TZOFFSETTO:+0100
TZNAME:BST
DTSTART:20220327T010000
END:DAYLIGHT
BEGIN:STANDARD
TZOFFSETFROM:+0100
TZOFFSETTO:+0000
TZNAME:GMT
DTSTART:20221030T010000
END:STANDARD
BEGIN:DAYLIGHT
TZOFFSETFROM:+0000
TZOFFSETTO:+0100
TZNAME:BST
DTSTART:20230326T010000
END:DAYLIGHT
BEGIN:STANDARD
TZOFFSETFROM:+0100
TZOFFSETTO:+0000
TZNAME:GMT
DTSTART:20231029T010000
END:STANDARD
END:VTIMEZONE
BEGIN:VEVENT
DTSTART;TZID=Europe/London:20221215T133000
DTEND;TZID=Europe/London:20221215T143000
DTSTAMP:20260421T130114
CREATED:20220914T102215Z
LAST-MODIFIED:20220914T102215Z
UID:6957-1671111000-1671114600@churchfields.wilts.sch.uk
SUMMARY:Carols at Monkton Farleigh Amphitheatre
DESCRIPTION:
URL:https://churchfields.wilts.sch.uk/event/carols-at-monkton-farleigh-amphitheatre/
CATEGORIES:Curriculum,General
END:VEVENT
BEGIN:VEVENT
DTSTART;TZID=Europe/London:20221214T173000
DTEND;TZID=Europe/London:20221214T190000
DTSTAMP:20260421T130114
CREATED:20221124T104838Z
LAST-MODIFIED:20221124T104838Z
UID:7137-1671039000-1671044400@churchfields.wilts.sch.uk
SUMMARY:Whole School Disco Wednesday 14 December
DESCRIPTION:
URL:https://churchfields.wilts.sch.uk/event/whole-school-disco-wednesday-14-december/
CATEGORIES:PTA
END:VEVENT
BEGIN:VEVENT
DTSTART;TZID=Europe/London:20221213T130000
DTEND;TZID=Europe/London:20221213T143000
DTSTAMP:20260421T130114
CREATED:20220914T102128Z
LAST-MODIFIED:20221124T102632Z
UID:6955-1670936400-1670941800@churchfields.wilts.sch.uk
SUMMARY:Christmas Service St Michaels Church Atworth 1:15pm
DESCRIPTION:
URL:https://churchfields.wilts.sch.uk/event/christmas-service-st-michaels-church-atworth-115pm/
CATEGORIES:Curriculum,General
END:VEVENT
BEGIN:VEVENT
DTSTART;VALUE=DATE:20221212
DTEND;VALUE=DATE:20221217
DTSTAMP:20260421T130114
CREATED:20220914T102031Z
LAST-MODIFIED:20220914T102031Z
UID:6953-1670803200-1671235199@churchfields.wilts.sch.uk
SUMMARY:No Teacher led School Clubs This Week
DESCRIPTION:
URL:https://churchfields.wilts.sch.uk/event/no-teacher-led-school-clubs-this-week-2/
CATEGORIES:Curriculum,General
END:VEVENT
BEGIN:VEVENT
DTSTART;VALUE=DATE:20221209
DTEND;VALUE=DATE:20221210
DTSTAMP:20260421T130114
CREATED:20220914T101909Z
LAST-MODIFIED:20220914T101909Z
UID:6949-1670544000-1670630399@churchfields.wilts.sch.uk
SUMMARY:Christmas Dinner Day
DESCRIPTION:
URL:https://churchfields.wilts.sch.uk/event/christmas-dinner-day/
CATEGORIES:Curriculum,General
END:VEVENT
BEGIN:VEVENT
DTSTART;TZID=Europe/London:20221208T130000
DTEND;TZID=Europe/London:20221208T190000
DTSTAMP:20260421T130114
CREATED:20220914T101836Z
LAST-MODIFIED:20220914T101836Z
UID:6947-1670504400-1670526000@churchfields.wilts.sch.uk
SUMMARY:EYFS/KS1 Christmas Production
DESCRIPTION:Performances at 4pm & 6pm
URL:https://churchfields.wilts.sch.uk/event/eyfs-ks1-christmas-production/
CATEGORIES:Curriculum,General
END:VEVENT
BEGIN:VEVENT
DTSTART;TZID=Europe/London:20221206T160000
DTEND;TZID=Europe/London:20221206T190000
DTSTAMP:20260421T130114
CREATED:20221124T104559Z
LAST-MODIFIED:20221124T104743Z
UID:7134-1670342400-1670353200@churchfields.wilts.sch.uk
SUMMARY:Tuesday 06 December KS2 Christmas Production
DESCRIPTION:KS2  Christmas Production \nPerformances at 4pm & 6pm St Michael’s Church Atworth
URL:https://churchfields.wilts.sch.uk/event/tuesday-06-december/
CATEGORIES:Curriculum
END:VEVENT
BEGIN:VEVENT
DTSTART;VALUE=DATE:20221127
DTEND;VALUE=DATE:20221128
DTSTAMP:20260421T130114
CREATED:20220914T101639Z
LAST-MODIFIED:20221124T104114Z
UID:6943-1669507200-1669593599@churchfields.wilts.sch.uk
SUMMARY:Christmas Fayre
DESCRIPTION:         
URL:https://churchfields.wilts.sch.uk/event/christmas-fayre/
CATEGORIES:PTA
END:VEVENT
BEGIN:VEVENT
DTSTART;VALUE=DATE:20221118
DTEND;VALUE=DATE:20221119
DTSTAMP:20260421T130114
CREATED:20220914T101555Z
LAST-MODIFIED:20220914T101555Z
UID:6941-1668729600-1668815999@churchfields.wilts.sch.uk
SUMMARY:Children In Need
DESCRIPTION:
URL:https://churchfields.wilts.sch.uk/event/children-in-need-2/
CATEGORIES:General
END:VEVENT
BEGIN:VEVENT
DTSTART;VALUE=DATE:20221114
DTEND;VALUE=DATE:20221119
DTSTAMP:20260421T130114
CREATED:20220914T101529Z
LAST-MODIFIED:20220914T101529Z
UID:6939-1668384000-1668815999@churchfields.wilts.sch.uk
SUMMARY:Anti-Bullying Week
DESCRIPTION:
URL:https://churchfields.wilts.sch.uk/event/anti-bullying-week/
CATEGORIES:Curriculum
END:VEVENT
BEGIN:VEVENT
DTSTART;TZID=Europe/London:20221111T140000
DTEND;TZID=Europe/London:20221111T150000
DTSTAMP:20260421T130114
CREATED:20220923T143011Z
LAST-MODIFIED:20220923T143011Z
UID:7031-1668175200-1668178800@churchfields.wilts.sch.uk
SUMMARY:Monkton Farleigh Maths Passport Parents information session
DESCRIPTION:
URL:https://churchfields.wilts.sch.uk/event/monkton-farleigh-maths-passport-parents-information-session/
LOCATION:MF Base\, Churchfields School\, Monkton Farleigh\, Bradford-on-Avon\, BA15 2QD\, United Kingdom
CATEGORIES:Curriculum
END:VEVENT
BEGIN:VEVENT
DTSTART;TZID=Europe/London:20221109T170000
DTEND;TZID=Europe/London:20221109T180000
DTSTAMP:20260421T130114
CREATED:20220923T142853Z
LAST-MODIFIED:20220923T142853Z
UID:7029-1668013200-1668016800@churchfields.wilts.sch.uk
SUMMARY:Atworth Base Maths Passport Parents information session
DESCRIPTION:
URL:https://churchfields.wilts.sch.uk/event/atworth-base-maths-passport-parents-information-session/
LOCATION:SN12 8HY
CATEGORIES:Curriculum
END:VEVENT
BEGIN:VEVENT
DTSTART;VALUE=DATE:20221107
DTEND;VALUE=DATE:20221112
DTSTAMP:20260421T130114
CREATED:20220914T101458Z
LAST-MODIFIED:20220914T101458Z
UID:6937-1667779200-1668211199@churchfields.wilts.sch.uk
SUMMARY:Maths Week
DESCRIPTION:
URL:https://churchfields.wilts.sch.uk/event/maths-week/
CATEGORIES:Curriculum
END:VEVENT
BEGIN:VEVENT
DTSTART;TZID=Europe/London:20221106T130000
DTEND;TZID=Europe/London:20221106T190000
DTSTAMP:20260421T130114
CREATED:20220914T101749Z
LAST-MODIFIED:20220914T101749Z
UID:6945-1667739600-1667761200@churchfields.wilts.sch.uk
SUMMARY:KS2 Christmas Production
DESCRIPTION:Performances as 4pm & 6pm
URL:https://churchfields.wilts.sch.uk/event/ks2-christmas-production/
CATEGORIES:Curriculum,General
END:VEVENT
BEGIN:VEVENT
DTSTART;VALUE=DATE:20221031
DTEND;VALUE=DATE:20221101
DTSTAMP:20260421T130114
CREATED:20220914T101429Z
LAST-MODIFIED:20220914T101429Z
UID:6935-1667174400-1667260799@churchfields.wilts.sch.uk
SUMMARY:Term 2 Begins
DESCRIPTION:
URL:https://churchfields.wilts.sch.uk/event/term-2-begins-3/
CATEGORIES:Curriculum,General
END:VEVENT
BEGIN:VEVENT
DTSTART;TZID=Europe/London:20221019T080000
DTEND;TZID=Europe/London:20221019T170000
DTSTAMP:20260421T130114
CREATED:20220527T132344Z
LAST-MODIFIED:20220527T133028Z
UID:6506-1666166400-1666198800@churchfields.wilts.sch.uk
SUMMARY:INSET Day
DESCRIPTION:
URL:https://churchfields.wilts.sch.uk/event/inset-day-10/
END:VEVENT
BEGIN:VEVENT
DTSTART;TZID=Europe/London:20221018T131500
DTEND;TZID=Europe/London:20221018T143000
DTSTAMP:20260421T130114
CREATED:20220914T101314Z
LAST-MODIFIED:20220914T101314Z
UID:6931-1666098900-1666103400@churchfields.wilts.sch.uk
SUMMARY:Harvest Festival Atworth Church
DESCRIPTION:
URL:https://churchfields.wilts.sch.uk/event/harvest-festival-atworth-church-2/
CATEGORIES:Curriculum,General
END:VEVENT
BEGIN:VEVENT
DTSTART;VALUE=DATE:20221018
DTEND;VALUE=DATE:20221019
DTSTAMP:20260421T130114
CREATED:20220914T101359Z
LAST-MODIFIED:20220914T101359Z
UID:6933-1666051200-1666137599@churchfields.wilts.sch.uk
SUMMARY:End of Term 1
DESCRIPTION:
URL:https://churchfields.wilts.sch.uk/event/end-of-term-1-4/
CATEGORIES:Curriculum,General
END:VEVENT
BEGIN:VEVENT
DTSTART;TZID=Europe/London:20221014T100000
DTEND;TZID=Europe/London:20221014T140000
DTSTAMP:20260421T130114
CREATED:20220914T101213Z
LAST-MODIFIED:20220914T101213Z
UID:6929-1665741600-1665756000@churchfields.wilts.sch.uk
SUMMARY:Monkton Farleigh Open Day
DESCRIPTION:
URL:https://churchfields.wilts.sch.uk/event/monkton-farleigh-open-day-2/
END:VEVENT
BEGIN:VEVENT
DTSTART;TZID=Europe/London:20221013T030000
DTEND;TZID=Europe/London:20221013T180000
DTSTAMP:20260421T130114
CREATED:20220914T101103Z
LAST-MODIFIED:20220914T101103Z
UID:6925-1665630000-1665684000@churchfields.wilts.sch.uk
SUMMARY:Parents Evening until 6pm
DESCRIPTION:
URL:https://churchfields.wilts.sch.uk/event/parents-evening-until-6pm-5/
CATEGORIES:Curriculum,General
END:VEVENT
BEGIN:VEVENT
DTSTART;TZID=Europe/London:20221012T100000
DTEND;TZID=Europe/London:20221012T140000
DTSTAMP:20260421T130114
CREATED:20220914T101021Z
LAST-MODIFIED:20220914T101021Z
UID:6923-1665568800-1665583200@churchfields.wilts.sch.uk
SUMMARY:Atworth Open Day
DESCRIPTION:
URL:https://churchfields.wilts.sch.uk/event/atworth-open-day-2/
CATEGORIES:General
END:VEVENT
BEGIN:VEVENT
DTSTART;TZID=Europe/London:20221011T150000
DTEND;TZID=Europe/London:20221011T193000
DTSTAMP:20260421T130114
CREATED:20220914T101144Z
LAST-MODIFIED:20220914T101144Z
UID:6927-1665500400-1665516600@churchfields.wilts.sch.uk
SUMMARY:Parents Evening until 7:30pm
DESCRIPTION:
URL:https://churchfields.wilts.sch.uk/event/parents-evening-until-730pm-4/
CATEGORIES:Curriculum,General
END:VEVENT
BEGIN:VEVENT
DTSTART;VALUE=DATE:20221010
DTEND;VALUE=DATE:20221015
DTSTAMP:20260421T130114
CREATED:20220914T102001Z
LAST-MODIFIED:20220914T102001Z
UID:6951-1665360000-1665791999@churchfields.wilts.sch.uk
SUMMARY:No Teacher led School Clubs This Week
DESCRIPTION:
URL:https://churchfields.wilts.sch.uk/event/no-teacher-led-school-clubs-this-week/
CATEGORIES:Curriculum,General
END:VEVENT
BEGIN:VEVENT
DTSTART;TZID=Europe/London:20221005T170000
DTEND;TZID=Europe/London:20221005T180000
DTSTAMP:20260421T130114
CREATED:20220914T100924Z
LAST-MODIFIED:20220914T100924Z
UID:6921-1664989200-1664992800@churchfields.wilts.sch.uk
SUMMARY:Bedtime Stories
DESCRIPTION:Both Bases
URL:https://churchfields.wilts.sch.uk/event/bedtime-stories-2/
CATEGORIES:Curriculum,PTA
END:VEVENT
BEGIN:VEVENT
DTSTART;VALUE=DATE:20221003
DTEND;VALUE=DATE:20221008
DTSTAMP:20260421T130114
CREATED:20220914T095747Z
LAST-MODIFIED:20220914T095747Z
UID:6919-1664755200-1665187199@churchfields.wilts.sch.uk
SUMMARY:Book  Week
DESCRIPTION:
URL:https://churchfields.wilts.sch.uk/event/book-week-3/
CATEGORIES:Curriculum,General
END:VEVENT
BEGIN:VEVENT
DTSTART;VALUE=DATE:20220930
DTEND;VALUE=DATE:20221001
DTSTAMP:20260421T130114
CREATED:20220914T095551Z
LAST-MODIFIED:20220914T095551Z
UID:6917-1664496000-1664582399@churchfields.wilts.sch.uk
SUMMARY:Individual School Photos
DESCRIPTION:Tempest Photography individual school photos
URL:https://churchfields.wilts.sch.uk/event/individual-school-photos-3/
CATEGORIES:General
END:VEVENT
BEGIN:VEVENT
DTSTART;TZID=Europe/London:20220927T130000
DTEND;TZID=Europe/London:20220927T150000
DTSTAMP:20260421T130114
CREATED:20220923T142708Z
LAST-MODIFIED:20220923T142708Z
UID:7027-1664283600-1664290800@churchfields.wilts.sch.uk
SUMMARY:Kingfisher Class Forest School (COAT) afternoon
DESCRIPTION:On Tuesday 27th Sept Kingfisher class will have an afternoon of Forest School activities also known as a COAT (Churchfields Outdoor Activity Time). Please can you ensure children bring in a change of clothes (in a carrier bag) which include: sturdy shoes or wellies\, a long sleeve top\, long trousers and a waterproof coat. We have waterproof trousers in school if necessary. We will go outside rain or shine!
URL:https://churchfields.wilts.sch.uk/event/kingfisher-class-forest-school-coat-afternoon/
LOCATION:SN12 8HY
CATEGORIES:Forest School
END:VEVENT
BEGIN:VEVENT
DTSTART;VALUE=DATE:20220919
DTEND;VALUE=DATE:20220920
DTSTAMP:20260421T130114
CREATED:20220914T095215Z
LAST-MODIFIED:20220914T095215Z
UID:6913-1663545600-1663631999@churchfields.wilts.sch.uk
SUMMARY:Public Holiday State Funeral of the Queen
DESCRIPTION:Whole School Closure
URL:https://churchfields.wilts.sch.uk/event/public-holiday-state-funeral-of-the-queen/
CATEGORIES:Curriculum,General
END:VEVENT
BEGIN:VEVENT
DTSTART;VALUE=DATE:20220916
DTEND;VALUE=DATE:20220917
DTSTAMP:20260421T130114
CREATED:20220914T095343Z
LAST-MODIFIED:20220914T095343Z
UID:6915-1663286400-1663372799@churchfields.wilts.sch.uk
SUMMARY:KS2 WOW Day Trip to Fashion Museum
DESCRIPTION:KS2 trip to Fashion Museum Bath\, see Parent Pay for details
URL:https://churchfields.wilts.sch.uk/event/ks2-wow-day-trip-to-fashion-museum/
CATEGORIES:Curriculum,General
END:VEVENT
BEGIN:VEVENT
DTSTART;TZID=Europe/London:20220725T080000
DTEND;TZID=Europe/London:20220725T170000
DTSTAMP:20260421T130114
CREATED:20220527T133202Z
LAST-MODIFIED:20220527T133207Z
UID:6517-1658736000-1658768400@churchfields.wilts.sch.uk
SUMMARY:INSET Day
DESCRIPTION:
URL:https://churchfields.wilts.sch.uk/event/inset-day-14/
END:VEVENT
END:VCALENDAR