BEGIN:VCALENDAR
VERSION:2.0
PRODID:-//Churchfields - The Village School - ECPv6.15.11//NONSGML v1.0//EN
CALSCALE:GREGORIAN
METHOD:PUBLISH
X-WR-CALNAME:Churchfields - The Village School
X-ORIGINAL-URL:https://churchfields.wilts.sch.uk
X-WR-CALDESC:Events for Churchfields - The Village School
REFRESH-INTERVAL;VALUE=DURATION:PT1H
X-Robots-Tag:noindex
X-PUBLISHED-TTL:PT1H
BEGIN:VTIMEZONE
TZID:Europe/London
BEGIN:DAYLIGHT
TZOFFSETFROM:+0000
TZOFFSETTO:+0100
TZNAME:BST
DTSTART:20210328T010000
END:DAYLIGHT
BEGIN:STANDARD
TZOFFSETFROM:+0100
TZOFFSETTO:+0000
TZNAME:GMT
DTSTART:20211031T010000
END:STANDARD
BEGIN:DAYLIGHT
TZOFFSETFROM:+0000
TZOFFSETTO:+0100
TZNAME:BST
DTSTART:20220327T010000
END:DAYLIGHT
BEGIN:STANDARD
TZOFFSETFROM:+0100
TZOFFSETTO:+0000
TZNAME:GMT
DTSTART:20221030T010000
END:STANDARD
BEGIN:DAYLIGHT
TZOFFSETFROM:+0000
TZOFFSETTO:+0100
TZNAME:BST
DTSTART:20230326T010000
END:DAYLIGHT
BEGIN:STANDARD
TZOFFSETFROM:+0100
TZOFFSETTO:+0000
TZNAME:GMT
DTSTART:20231029T010000
END:STANDARD
BEGIN:DAYLIGHT
TZOFFSETFROM:+0000
TZOFFSETTO:+0100
TZNAME:BST
DTSTART:20240331T010000
END:DAYLIGHT
BEGIN:STANDARD
TZOFFSETFROM:+0100
TZOFFSETTO:+0000
TZNAME:GMT
DTSTART:20241027T010000
END:STANDARD
END:VTIMEZONE
BEGIN:VEVENT
DTSTART;VALUE=DATE:20230614
DTEND;VALUE=DATE:20230617
DTSTAMP:20260421T084657
CREATED:20230501T153436Z
LAST-MODIFIED:20230501T153436Z
UID:7407-1686700800-1686959999@churchfields.wilts.sch.uk
SUMMARY:UKS2 Residential
DESCRIPTION:UKS2 Residential to WOLT
URL:https://churchfields.wilts.sch.uk/event/uks2-residential/
LOCATION:WILTSHIRE
CATEGORIES:General
END:VEVENT
BEGIN:VEVENT
DTSTART;TZID=Europe/London:20230613T130000
DTEND;TZID=Europe/London:20230613T150000
DTSTAMP:20260421T084657
CREATED:20230501T153707Z
LAST-MODIFIED:20230501T153707Z
UID:7409-1686661200-1686668400@churchfields.wilts.sch.uk
SUMMARY:Atworth R23 Induction afternoon
DESCRIPTION:R23 induction afternoon 1pm – 3pm
URL:https://churchfields.wilts.sch.uk/event/atworth-r23-induction-afternoon/
LOCATION:Atworth Base\, Churchfields School\, Atworth\, WILTSHIRE\, SN12 8HY\, United Kingdom
END:VEVENT
BEGIN:VEVENT
DTSTART;TZID=Europe/London:20230611T080000
DTEND;TZID=Europe/London:20230611T170000
DTSTAMP:20260421T084657
CREATED:20230519T134239Z
LAST-MODIFIED:20230519T135242Z
UID:7496-1686470400-1686502800@churchfields.wilts.sch.uk
SUMMARY:BMT Piano lessons cancelled at Atworth – (Due to sports week)
DESCRIPTION:
URL:https://churchfields.wilts.sch.uk/event/bmt-piano-lessons-cancelled-at-atworth-due-to-sports-week/
LOCATION:WILTSHIRE
CATEGORIES:General
END:VEVENT
BEGIN:VEVENT
DTSTART;TZID=Europe/London:20230608T080000
DTEND;TZID=Europe/London:20230608T170000
DTSTAMP:20260421T084657
CREATED:20230519T134809Z
LAST-MODIFIED:20230519T134809Z
UID:7502-1686211200-1686243600@churchfields.wilts.sch.uk
SUMMARY:Kestrel class swimming
DESCRIPTION:
URL:https://churchfields.wilts.sch.uk/event/kestrel-class-swimming/
LOCATION:WILTSHIRE
CATEGORIES:Curriculum
END:VEVENT
BEGIN:VEVENT
DTSTART;TZID=Europe/London:20230607T170000
DTEND;TZID=Europe/London:20230607T183000
DTSTAMP:20260421T084657
CREATED:20230501T153316Z
LAST-MODIFIED:20230501T153316Z
UID:7405-1686157200-1686162600@churchfields.wilts.sch.uk
SUMMARY:R23 Meet the Teacher
DESCRIPTION:R23 meet the teacher \n5pm Atworth           5:30pm Monkton Farleigh
URL:https://churchfields.wilts.sch.uk/event/r23-meet-the-teacher/
LOCATION:WILTSHIRE
CATEGORIES:Curriculum
END:VEVENT
BEGIN:VEVENT
DTSTART;TZID=Europe/London:20230606T080000
DTEND;TZID=Europe/London:20230606T170000
DTSTAMP:20260421T084657
CREATED:20230519T135138Z
LAST-MODIFIED:20230519T135138Z
UID:7510-1686038400-1686070800@churchfields.wilts.sch.uk
SUMMARY:KS2 Stonehenge trip
DESCRIPTION:
URL:https://churchfields.wilts.sch.uk/event/ks2-stonehenge-trip/
LOCATION:WILTSHIRE
CATEGORIES:Curriculum
END:VEVENT
BEGIN:VEVENT
DTSTART;VALUE=DATE:20230605
DTEND;VALUE=DATE:20230606
DTSTAMP:20260421T084657
CREATED:20220914T102735Z
LAST-MODIFIED:20220914T102740Z
UID:6976-1685923200-1686009599@churchfields.wilts.sch.uk
SUMMARY:Term 6 Begins
DESCRIPTION:
URL:https://churchfields.wilts.sch.uk/event/term-6-begins-2/
LOCATION:WILTSHIRE
CATEGORIES:Curriculum,General
END:VEVENT
BEGIN:VEVENT
DTSTART;VALUE=DATE:20230526
DTEND;VALUE=DATE:20230527
DTSTAMP:20260421T084657
CREATED:20220914T102713Z
LAST-MODIFIED:20220914T102713Z
UID:6974-1685059200-1685145599@churchfields.wilts.sch.uk
SUMMARY:Term 5 Ends
DESCRIPTION:
URL:https://churchfields.wilts.sch.uk/event/term-5-ends/
LOCATION:WILTSHIRE
CATEGORIES:Curriculum,General
END:VEVENT
BEGIN:VEVENT
DTSTART;TZID=Europe/London:20230523T150000
DTEND;TZID=Europe/London:20230523T160000
DTSTAMP:20260421T084657
CREATED:20230501T152921Z
LAST-MODIFIED:20230501T152921Z
UID:7403-1684854000-1684857600@churchfields.wilts.sch.uk
SUMMARY:Year 7 Reunion at Monkton Farleigh
DESCRIPTION:
URL:https://churchfields.wilts.sch.uk/event/year-7-reunion-at-monkton-farleigh/
LOCATION:MF Base\, Churchfields School\, Monkton Farleigh\, Bradford-on-Avon\, BA15 2QD\, United Kingdom
CATEGORIES:General
END:VEVENT
BEGIN:VEVENT
DTSTART;VALUE=DATE:20230516
DTEND;VALUE=DATE:20230517
DTSTAMP:20260421T084657
CREATED:20230501T152753Z
LAST-MODIFIED:20230501T152753Z
UID:7401-1684195200-1684281599@churchfields.wilts.sch.uk
SUMMARY:KS2 WOW Day
DESCRIPTION:KS2 WOW Day
URL:https://churchfields.wilts.sch.uk/event/ks2-wow-day-2/
LOCATION:WILTSHIRE
CATEGORIES:Curriculum
END:VEVENT
BEGIN:VEVENT
DTSTART;VALUE=DATE:20230515
DTEND;VALUE=DATE:20230516
DTSTAMP:20260421T084657
CREATED:20230411T092234Z
LAST-MODIFIED:20230411T092234Z
UID:7368-1684108800-1684195199@churchfields.wilts.sch.uk
SUMMARY:Class Photos with Tempest Photography
DESCRIPTION:Class photos take place today\, please see newsletters for information
URL:https://churchfields.wilts.sch.uk/event/class-photos-with-tempest-photography/
LOCATION:WILTSHIRE
END:VEVENT
BEGIN:VEVENT
DTSTART;VALUE=DATE:20230509
DTEND;VALUE=DATE:20230513
DTSTAMP:20260421T084657
CREATED:20230411T092130Z
LAST-MODIFIED:20230411T092130Z
UID:7366-1683590400-1683935999@churchfields.wilts.sch.uk
SUMMARY:KS2 SATs Week
DESCRIPTION:
URL:https://churchfields.wilts.sch.uk/event/ks2-sats-week/
LOCATION:WILTSHIRE
END:VEVENT
BEGIN:VEVENT
DTSTART;VALUE=DATE:20230508
DTEND;VALUE=DATE:20230509
DTSTAMP:20260421T084657
CREATED:20230411T092017Z
LAST-MODIFIED:20230411T092017Z
UID:7364-1683504000-1683590399@churchfields.wilts.sch.uk
SUMMARY:Public Holiday School Closed
DESCRIPTION:
URL:https://churchfields.wilts.sch.uk/event/public-holiday-school-closed/
LOCATION:WILTSHIRE
END:VEVENT
BEGIN:VEVENT
DTSTART;TZID=Europe/London:20230505T130000
DTEND;TZID=Europe/London:20230505T150000
DTSTAMP:20260421T084657
CREATED:20230411T091938Z
LAST-MODIFIED:20230411T091938Z
UID:7362-1683291600-1683298800@churchfields.wilts.sch.uk
SUMMARY:Monkton Farleigh Coronation celebration afternoon
DESCRIPTION:Monkton Farleigh Coronation celebration afternoon\, please see newsletters for further information
URL:https://churchfields.wilts.sch.uk/event/monkton-farleigh-coronation-celebration-afternoon/
LOCATION:WILTSHIRE
END:VEVENT
BEGIN:VEVENT
DTSTART;TZID=Europe/London:20230504T130000
DTEND;TZID=Europe/London:20230504T150000
DTSTAMP:20260421T084657
CREATED:20230411T091849Z
LAST-MODIFIED:20230411T091849Z
UID:7360-1683205200-1683212400@churchfields.wilts.sch.uk
SUMMARY:Atworth Coronation celebration
DESCRIPTION:Atworth Coronation celebration afternoon\, please see newsletters for further information
URL:https://churchfields.wilts.sch.uk/event/atworth-coronation-celebration/
LOCATION:WILTSHIRE
END:VEVENT
BEGIN:VEVENT
DTSTART;VALUE=DATE:20230502
DTEND;VALUE=DATE:20230503
DTSTAMP:20260421T084657
CREATED:20230411T091722Z
LAST-MODIFIED:20230411T091722Z
UID:7358-1682985600-1683071999@churchfields.wilts.sch.uk
SUMMARY:Tuesday 02 May - no teacher led clubs
DESCRIPTION:Please note there are no teacher led clubs today
URL:https://churchfields.wilts.sch.uk/event/tuesday-02-may-no-teacher-led-clubs/
LOCATION:WILTSHIRE
END:VEVENT
BEGIN:VEVENT
DTSTART;VALUE=DATE:20230501
DTEND;VALUE=DATE:20230502
DTSTAMP:20260421T084657
CREATED:20220914T102631Z
LAST-MODIFIED:20220914T102643Z
UID:6971-1682899200-1682985599@churchfields.wilts.sch.uk
SUMMARY:Bank Holiday
DESCRIPTION:Whole School Closed
URL:https://churchfields.wilts.sch.uk/event/bank-holiday-2/
LOCATION:WILTSHIRE
CATEGORIES:Curriculum,General
END:VEVENT
BEGIN:VEVENT
DTSTART;TZID=Europe/London:20230428T100000
DTEND;TZID=Europe/London:20230428T140000
DTSTAMP:20260421T084657
CREATED:20230411T091626Z
LAST-MODIFIED:20230411T092346Z
UID:7356-1682676000-1682690400@churchfields.wilts.sch.uk
SUMMARY:Monkton Farleigh Open Day 10am - 2pm
DESCRIPTION:Monkton Farleigh open day\, no need to pre-book
URL:https://churchfields.wilts.sch.uk/event/monkton-farleigh-open-day-10am-2pm/
LOCATION:WILTSHIRE
END:VEVENT
BEGIN:VEVENT
DTSTART;TZID=Europe/London:20230427T100000
DTEND;TZID=Europe/London:20230427T140000
DTSTAMP:20260421T084657
CREATED:20230411T091548Z
LAST-MODIFIED:20230411T091548Z
UID:7354-1682589600-1682604000@churchfields.wilts.sch.uk
SUMMARY:Atworth Open Day
DESCRIPTION:Atworth Open Day\, 10am to 2pm. No need to pre-book
URL:https://churchfields.wilts.sch.uk/event/atworth-open-day-3/
LOCATION:WILTSHIRE
END:VEVENT
BEGIN:VEVENT
DTSTART;VALUE=DATE:20230418
DTEND;VALUE=DATE:20230419
DTSTAMP:20260421T084657
CREATED:20230411T091429Z
LAST-MODIFIED:20230411T091429Z
UID:7352-1681776000-1681862399@churchfields.wilts.sch.uk
SUMMARY:No Art Club with Mrs Genner
DESCRIPTION:
URL:https://churchfields.wilts.sch.uk/event/no-art-club-with-mrs-genner/
LOCATION:WILTSHIRE
END:VEVENT
BEGIN:VEVENT
DTSTART;VALUE=DATE:20230417
DTEND;VALUE=DATE:20230418
DTSTAMP:20260421T084657
CREATED:20220914T102600Z
LAST-MODIFIED:20220914T102600Z
UID:6969-1681689600-1681775999@churchfields.wilts.sch.uk
SUMMARY:Term 5 Begins
DESCRIPTION:
URL:https://churchfields.wilts.sch.uk/event/term-5-begins-4/
LOCATION:WILTSHIRE
CATEGORIES:Curriculum,PTA
END:VEVENT
BEGIN:VEVENT
DTSTART;TZID=Europe/London:20230331T080000
DTEND;TZID=Europe/London:20230331T170000
DTSTAMP:20260421T084657
CREATED:20220527T132455Z
LAST-MODIFIED:20220527T132455Z
UID:6510-1680249600-1680282000@churchfields.wilts.sch.uk
SUMMARY:INSET day
DESCRIPTION:
URL:https://churchfields.wilts.sch.uk/event/inset-day-12/
LOCATION:WILTSHIRE
END:VEVENT
BEGIN:VEVENT
DTSTART;VALUE=DATE:20230330
DTEND;VALUE=DATE:20230331
DTSTAMP:20260421T084657
CREATED:20220914T102526Z
LAST-MODIFIED:20220914T102526Z
UID:6967-1680134400-1680220799@churchfields.wilts.sch.uk
SUMMARY:End of Term 4
DESCRIPTION:
URL:https://churchfields.wilts.sch.uk/event/end-of-term-4-4/
LOCATION:WILTSHIRE
END:VEVENT
BEGIN:VEVENT
DTSTART;VALUE=DATE:20230220
DTEND;VALUE=DATE:20230221
DTSTAMP:20260421T084657
CREATED:20220914T102442Z
LAST-MODIFIED:20220914T102449Z
UID:6965-1676851200-1676937599@churchfields.wilts.sch.uk
SUMMARY:Term 4 Begins
DESCRIPTION:
URL:https://churchfields.wilts.sch.uk/event/term-4-begins-4/
LOCATION:WILTSHIRE
CATEGORIES:Curriculum,General
END:VEVENT
BEGIN:VEVENT
DTSTART;VALUE=DATE:20230210
DTEND;VALUE=DATE:20230211
DTSTAMP:20260421T084657
CREATED:20220914T102412Z
LAST-MODIFIED:20220914T102412Z
UID:6963-1675987200-1676073599@churchfields.wilts.sch.uk
SUMMARY:End of Term 3
DESCRIPTION:
URL:https://churchfields.wilts.sch.uk/event/end-of-term-3-4/
LOCATION:WILTSHIRE
CATEGORIES:Curriculum,General
END:VEVENT
BEGIN:VEVENT
DTSTART;TZID=Europe/London:20230103T080000
DTEND;TZID=Europe/London:20230103T170000
DTSTAMP:20260421T084657
CREATED:20220527T132419Z
LAST-MODIFIED:20220527T132428Z
UID:6508-1672732800-1672765200@churchfields.wilts.sch.uk
SUMMARY:INSET day
DESCRIPTION:
URL:https://churchfields.wilts.sch.uk/event/inset-day-11/
LOCATION:WILTSHIRE
END:VEVENT
BEGIN:VEVENT
DTSTART;VALUE=DATE:20230103
DTEND;VALUE=DATE:20230104
DTSTAMP:20260421T084657
CREATED:20220914T102343Z
LAST-MODIFIED:20220914T102343Z
UID:6961-1672704000-1672790399@churchfields.wilts.sch.uk
SUMMARY:Term 3 Begins
DESCRIPTION:
URL:https://churchfields.wilts.sch.uk/event/term-3-begins-4/
LOCATION:WILTSHIRE
CATEGORIES:Curriculum,General
END:VEVENT
BEGIN:VEVENT
DTSTART;VALUE=DATE:20221216
DTEND;VALUE=DATE:20221217
DTSTAMP:20260421T084657
CREATED:20220914T102242Z
LAST-MODIFIED:20220914T102242Z
UID:6959-1671148800-1671235199@churchfields.wilts.sch.uk
SUMMARY:End of Term 2
DESCRIPTION:
URL:https://churchfields.wilts.sch.uk/event/end-of-term-2-3/
LOCATION:WILTSHIRE
CATEGORIES:Curriculum,General
END:VEVENT
BEGIN:VEVENT
DTSTART;TZID=Europe/London:20221215T133000
DTEND;TZID=Europe/London:20221215T143000
DTSTAMP:20260421T084657
CREATED:20220914T102215Z
LAST-MODIFIED:20220914T102215Z
UID:6957-1671111000-1671114600@churchfields.wilts.sch.uk
SUMMARY:Carols at Monkton Farleigh Amphitheatre
DESCRIPTION:
URL:https://churchfields.wilts.sch.uk/event/carols-at-monkton-farleigh-amphitheatre/
LOCATION:WILTSHIRE
CATEGORIES:Curriculum,General
END:VEVENT
BEGIN:VEVENT
DTSTART;TZID=Europe/London:20221214T173000
DTEND;TZID=Europe/London:20221214T190000
DTSTAMP:20260421T084657
CREATED:20221124T104838Z
LAST-MODIFIED:20221124T104838Z
UID:7137-1671039000-1671044400@churchfields.wilts.sch.uk
SUMMARY:Whole School Disco Wednesday 14 December
DESCRIPTION:
URL:https://churchfields.wilts.sch.uk/event/whole-school-disco-wednesday-14-december/
LOCATION:WILTSHIRE
CATEGORIES:PTA
END:VEVENT
END:VCALENDAR