BEGIN:VCALENDAR
VERSION:2.0
PRODID:-//Churchfields - The Village School - ECPv6.15.11//NONSGML v1.0//EN
CALSCALE:GREGORIAN
METHOD:PUBLISH
X-WR-CALNAME:Churchfields - The Village School
X-ORIGINAL-URL:https://churchfields.wilts.sch.uk
X-WR-CALDESC:Events for Churchfields - The Village School
REFRESH-INTERVAL;VALUE=DURATION:PT1H
X-Robots-Tag:noindex
X-PUBLISHED-TTL:PT1H
BEGIN:VTIMEZONE
TZID:Europe/London
BEGIN:DAYLIGHT
TZOFFSETFROM:+0000
TZOFFSETTO:+0100
TZNAME:BST
DTSTART:20220327T010000
END:DAYLIGHT
BEGIN:STANDARD
TZOFFSETFROM:+0100
TZOFFSETTO:+0000
TZNAME:GMT
DTSTART:20221030T010000
END:STANDARD
BEGIN:DAYLIGHT
TZOFFSETFROM:+0000
TZOFFSETTO:+0100
TZNAME:BST
DTSTART:20230326T010000
END:DAYLIGHT
BEGIN:STANDARD
TZOFFSETFROM:+0100
TZOFFSETTO:+0000
TZNAME:GMT
DTSTART:20231029T010000
END:STANDARD
BEGIN:DAYLIGHT
TZOFFSETFROM:+0000
TZOFFSETTO:+0100
TZNAME:BST
DTSTART:20240331T010000
END:DAYLIGHT
BEGIN:STANDARD
TZOFFSETFROM:+0100
TZOFFSETTO:+0000
TZNAME:GMT
DTSTART:20241027T010000
END:STANDARD
END:VTIMEZONE
BEGIN:VEVENT
DTSTART;TZID=Europe/London:20231115T094500
DTEND;TZID=Europe/London:20231115T230000
DTSTAMP:20260421T041612
CREATED:20231103T134741Z
LAST-MODIFIED:20231103T134741Z
UID:8125-1700041500-1700089200@churchfields.wilts.sch.uk
SUMMARY:Year 4 Swimming Springfield campus
DESCRIPTION:
URL:https://churchfields.wilts.sch.uk/event/year-4-swimming-springfield-campus-2/
CATEGORIES:Curriculum
END:VEVENT
BEGIN:VEVENT
DTSTART;VALUE=DATE:20231114
DTEND;VALUE=DATE:20231115
DTSTAMP:20260421T041612
CREATED:20231103T135155Z
LAST-MODIFIED:20231103T135155Z
UID:8133-1699920000-1700006399@churchfields.wilts.sch.uk
SUMMARY:School nurse NCMP year 6
DESCRIPTION:
URL:https://churchfields.wilts.sch.uk/event/school-nurse-ncmp-year-6/
CATEGORIES:General
END:VEVENT
BEGIN:VEVENT
DTSTART;VALUE=DATE:20231113
DTEND;VALUE=DATE:20231118
DTSTAMP:20260421T041612
CREATED:20230906T175941Z
LAST-MODIFIED:20230906T175941Z
UID:8007-1699833600-1700265599@churchfields.wilts.sch.uk
SUMMARY:E- Safety week (anti-bullying week)
DESCRIPTION:
URL:https://churchfields.wilts.sch.uk/event/e-safety-week-anti-bullying-week-2/
CATEGORIES:Curriculum
END:VEVENT
BEGIN:VEVENT
DTSTART;TZID=Europe/London:20231108T094500
DTEND;TZID=Europe/London:20231108T231500
DTSTAMP:20260421T041612
CREATED:20231103T134531Z
LAST-MODIFIED:20231103T134531Z
UID:8123-1699436700-1699485300@churchfields.wilts.sch.uk
SUMMARY:Year 4 swimming springfield campus
DESCRIPTION:
URL:https://churchfields.wilts.sch.uk/event/year-4-swimming-springfield-campus/
CATEGORIES:Curriculum
END:VEVENT
BEGIN:VEVENT
DTSTART;TZID=Europe/London:20231107T170000
DTEND;TZID=Europe/London:20231107T190000
DTSTAMP:20260421T041612
CREATED:20231103T134400Z
LAST-MODIFIED:20231103T134400Z
UID:8121-1699376400-1699383600@churchfields.wilts.sch.uk
SUMMARY:FOCS Movie night
DESCRIPTION:
URL:https://churchfields.wilts.sch.uk/event/focs-movie-night/
CATEGORIES:PTA
END:VEVENT
BEGIN:VEVENT
DTSTART;TZID=Europe/London:20231106T082500
DTEND;TZID=Europe/London:20231106T120000
DTSTAMP:20260421T041612
CREATED:20231103T135103Z
LAST-MODIFIED:20231103T135103Z
UID:8131-1699259100-1699272000@churchfields.wilts.sch.uk
SUMMARY:Robin Geography trip Monday 6th November
DESCRIPTION:
URL:https://churchfields.wilts.sch.uk/event/robin-geography-trip-monday-6th-november/
CATEGORIES:Curriculum
END:VEVENT
BEGIN:VEVENT
DTSTART;VALUE=DATE:20231031
DTEND;VALUE=DATE:20231101
DTSTAMP:20260421T041612
CREATED:20230906T175837Z
LAST-MODIFIED:20230913T134622Z
UID:8005-1698710400-1698796799@churchfields.wilts.sch.uk
SUMMARY:Term 2 Begins
DESCRIPTION:
URL:https://churchfields.wilts.sch.uk/event/term-2-begins-4/
CATEGORIES:Curriculum
END:VEVENT
BEGIN:VEVENT
DTSTART;VALUE=DATE:20231030
DTEND;VALUE=DATE:20231031
DTSTAMP:20260421T041612
CREATED:20230620T133521Z
LAST-MODIFIED:20230620T133545Z
UID:7550-1698624000-1698710399@churchfields.wilts.sch.uk
SUMMARY:INSET DAY
DESCRIPTION:Whole School Closed to Pupils
URL:https://churchfields.wilts.sch.uk/event/inset-day-19/
CATEGORIES:Curriculum
END:VEVENT
BEGIN:VEVENT
DTSTART;VALUE=DATE:20231018
DTEND;VALUE=DATE:20231019
DTSTAMP:20260421T041612
CREATED:20230721T141225Z
LAST-MODIFIED:20230721T141225Z
UID:7956-1697587200-1697673599@churchfields.wilts.sch.uk
SUMMARY:End Of Term 1
DESCRIPTION:
URL:https://churchfields.wilts.sch.uk/event/end-of-term-1-5/
END:VEVENT
BEGIN:VEVENT
DTSTART;VALUE=DATE:20231017
DTEND;VALUE=DATE:20231018
DTSTAMP:20260421T041612
CREATED:20230721T141206Z
LAST-MODIFIED:20230721T141206Z
UID:7954-1697500800-1697587199@churchfields.wilts.sch.uk
SUMMARY:Harvest Festival Atworth Church - 1:15pm
DESCRIPTION:
URL:https://churchfields.wilts.sch.uk/event/harvest-festival-atworth-church-115pm/
END:VEVENT
BEGIN:VEVENT
DTSTART;VALUE=DATE:20231016
DTEND;VALUE=DATE:20231017
DTSTAMP:20260421T041612
CREATED:20231006T140752Z
LAST-MODIFIED:20231006T140752Z
UID:8090-1697414400-1697500799@churchfields.wilts.sch.uk
SUMMARY:KS2 Settlements Trip Monday 16 October
DESCRIPTION:Please refer to the Parent Mail letter sent on Friday 06 October for full details. \nPermission action needed by 11 October 2023
URL:https://churchfields.wilts.sch.uk/event/ks2-settlements-trip-monday-16-october/
CATEGORIES:Curriculum
END:VEVENT
BEGIN:VEVENT
DTSTART;TZID=Europe/London:20231013T160000
DTEND;TZID=Europe/London:20231013T163000
DTSTAMP:20260421T041612
CREATED:20231006T140908Z
LAST-MODIFIED:20231006T140908Z
UID:8092-1697212800-1697214600@churchfields.wilts.sch.uk
SUMMARY:BOA Cross Country Cluster event St Laurence School
DESCRIPTION:
URL:https://churchfields.wilts.sch.uk/event/boa-cross-country-cluster-event-st-laurence-school/
CATEGORIES:General
END:VEVENT
BEGIN:VEVENT
DTSTART;VALUE=DATE:20231013
DTEND;VALUE=DATE:20231014
DTSTAMP:20260421T041612
CREATED:20230721T141120Z
LAST-MODIFIED:20230721T141120Z
UID:7952-1697155200-1697241599@churchfields.wilts.sch.uk
SUMMARY:Monkton Farleigh Open Day
DESCRIPTION:
URL:https://churchfields.wilts.sch.uk/event/monkton-farleigh-open-day-3/
END:VEVENT
BEGIN:VEVENT
DTSTART;VALUE=DATE:20231011
DTEND;VALUE=DATE:20231012
DTSTAMP:20260421T041612
CREATED:20230721T141056Z
LAST-MODIFIED:20230721T141056Z
UID:7950-1696982400-1697068799@churchfields.wilts.sch.uk
SUMMARY:Atworth Open Day
DESCRIPTION:
URL:https://churchfields.wilts.sch.uk/event/atworth-open-day-4/
END:VEVENT
BEGIN:VEVENT
DTSTART;VALUE=DATE:20231009
DTEND;VALUE=DATE:20231014
DTSTAMP:20260421T041612
CREATED:20230721T140433Z
LAST-MODIFIED:20230906T175433Z
UID:7935-1696809600-1697241599@churchfields.wilts.sch.uk
SUMMARY:No Teacher Led Clubs
DESCRIPTION:
URL:https://churchfields.wilts.sch.uk/event/no-teacher-led-clubs/
END:VEVENT
BEGIN:VEVENT
DTSTART;VALUE=DATE:20231009
DTEND;VALUE=DATE:20231010
DTSTAMP:20260421T041612
CREATED:20230721T141032Z
LAST-MODIFIED:20230721T141032Z
UID:7948-1696809600-1696895999@churchfields.wilts.sch.uk
SUMMARY:Flu Immunisations
DESCRIPTION:
URL:https://churchfields.wilts.sch.uk/event/flu-immunisations/
END:VEVENT
BEGIN:VEVENT
DTSTART;TZID=Europe/London:20231005T000000
DTEND;TZID=Europe/London:20231006T000000
DTSTAMP:20260421T041612
CREATED:20230721T140953Z
LAST-MODIFIED:20230721T140953Z
UID:7946-1696464000-1696550400@churchfields.wilts.sch.uk
SUMMARY:Wiltshire Air Ambulance Visits
DESCRIPTION:
URL:https://churchfields.wilts.sch.uk/event/wiltshire-air-ambulance-visits/
END:VEVENT
BEGIN:VEVENT
DTSTART;VALUE=DATE:20231005
DTEND;VALUE=DATE:20231006
DTSTAMP:20260421T041612
CREATED:20230906T180509Z
LAST-MODIFIED:20230906T180509Z
UID:8015-1696464000-1696550399@churchfields.wilts.sch.uk
SUMMARY:KS Production performances
DESCRIPTION:Dress rehearsal 1:30 pm \n1st performance 4pm \n2nd performance 6pm \nBoth performances take place at church hall
URL:https://churchfields.wilts.sch.uk/event/ks-production-performances/
CATEGORIES:Curriculum
END:VEVENT
BEGIN:VEVENT
DTSTART;VALUE=DATE:20231005
DTEND;VALUE=DATE:20231006
DTSTAMP:20260421T041612
CREATED:20230721T140901Z
LAST-MODIFIED:20230721T140901Z
UID:7944-1696464000-1696550399@churchfields.wilts.sch.uk
SUMMARY:KS1 Literacy Trip
DESCRIPTION:
URL:https://churchfields.wilts.sch.uk/event/ks1-literacy-trip/
END:VEVENT
BEGIN:VEVENT
DTSTART;VALUE=DATE:20231005
DTEND;VALUE=DATE:20231006
DTSTAMP:20260421T041612
CREATED:20230721T140732Z
LAST-MODIFIED:20230913T134846Z
UID:7941-1696464000-1696550399@churchfields.wilts.sch.uk
SUMMARY:Parents' Evening until 6pm
DESCRIPTION:
URL:https://churchfields.wilts.sch.uk/event/parents-evening-3/
CATEGORIES:Curriculum
END:VEVENT
BEGIN:VEVENT
DTSTART;TZID=Europe/London:20231004T000000
DTEND;TZID=Europe/London:20231009T000000
DTSTAMP:20260421T041612
CREATED:20230721T140531Z
LAST-MODIFIED:20230721T140531Z
UID:7937-1696377600-1696809600@churchfields.wilts.sch.uk
SUMMARY:Scholastic Book Fair Both Bases
DESCRIPTION:
URL:https://churchfields.wilts.sch.uk/event/scholastic-book-fair-both-bases/
END:VEVENT
BEGIN:VEVENT
DTSTART;VALUE=DATE:20231004
DTEND;VALUE=DATE:20231005
DTSTAMP:20260421T041612
CREATED:20230721T140606Z
LAST-MODIFIED:20230721T140606Z
UID:7939-1696377600-1696463999@churchfields.wilts.sch.uk
SUMMARY:Bedtime Stories
DESCRIPTION:
URL:https://churchfields.wilts.sch.uk/event/bedtime-stories-3/
END:VEVENT
BEGIN:VEVENT
DTSTART;VALUE=DATE:20231003
DTEND;VALUE=DATE:20231004
DTSTAMP:20260421T041612
CREATED:20230906T175611Z
LAST-MODIFIED:20230913T134750Z
UID:8003-1696291200-1696377599@churchfields.wilts.sch.uk
SUMMARY:Parents' evening until 7:30pm
DESCRIPTION:
URL:https://churchfields.wilts.sch.uk/event/parents-evening-until-730pm-5/
CATEGORIES:Curriculum
END:VEVENT
BEGIN:VEVENT
DTSTART;VALUE=DATE:20230929
DTEND;VALUE=DATE:20230930
DTSTAMP:20260421T041612
CREATED:20230721T140338Z
LAST-MODIFIED:20230906T174853Z
UID:7933-1695945600-1696031999@churchfields.wilts.sch.uk
SUMMARY:KS2 Literacy Trip
DESCRIPTION:
URL:https://churchfields.wilts.sch.uk/event/ks2-literacy-club/
END:VEVENT
BEGIN:VEVENT
DTSTART;VALUE=DATE:20230929
DTEND;VALUE=DATE:20230930
DTSTAMP:20260421T041612
CREATED:20230721T140309Z
LAST-MODIFIED:20230721T140309Z
UID:7931-1695945600-1696031999@churchfields.wilts.sch.uk
SUMMARY:Individual School Photos
DESCRIPTION:
URL:https://churchfields.wilts.sch.uk/event/individual-school-photos-4/
END:VEVENT
BEGIN:VEVENT
DTSTART;VALUE=DATE:20230925
DTEND;VALUE=DATE:20230926
DTSTAMP:20260421T041612
CREATED:20230620T133442Z
LAST-MODIFIED:20230620T133617Z
UID:7548-1695600000-1695686399@churchfields.wilts.sch.uk
SUMMARY:INSET DAY
DESCRIPTION:Whole School closed to pupils
URL:https://churchfields.wilts.sch.uk/event/inset-day-18/
CATEGORIES:Curriculum
END:VEVENT
BEGIN:VEVENT
DTSTART;VALUE=DATE:20230912
DTEND;VALUE=DATE:20230913
DTSTAMP:20260421T041612
CREATED:20230721T140221Z
LAST-MODIFIED:20230721T140221Z
UID:7929-1694476800-1694563199@churchfields.wilts.sch.uk
SUMMARY:Whole School WOW Day
DESCRIPTION:
URL:https://churchfields.wilts.sch.uk/event/whole-school-wow-day-2/
END:VEVENT
BEGIN:VEVENT
DTSTART;VALUE=DATE:20230904
DTEND;VALUE=DATE:20230905
DTSTAMP:20260421T041612
CREATED:20230721T134940Z
LAST-MODIFIED:20230721T134940Z
UID:7911-1693785600-1693871999@churchfields.wilts.sch.uk
SUMMARY:Term 1 Begins
DESCRIPTION:
URL:https://churchfields.wilts.sch.uk/event/term-1-begins-4/
END:VEVENT
BEGIN:VEVENT
DTSTART;VALUE=DATE:20230901
DTEND;VALUE=DATE:20230902
DTSTAMP:20260421T041612
CREATED:20230620T133409Z
LAST-MODIFIED:20230620T133648Z
UID:7546-1693526400-1693612799@churchfields.wilts.sch.uk
SUMMARY:INSET DAY
DESCRIPTION:Whole School closed to pupils
URL:https://churchfields.wilts.sch.uk/event/inset-day-17/
CATEGORIES:Curriculum
END:VEVENT
BEGIN:VEVENT
DTSTART;VALUE=DATE:20230725
DTEND;VALUE=DATE:20230726
DTSTAMP:20260421T041612
CREATED:20230501T161330Z
LAST-MODIFIED:20230620T133948Z
UID:7435-1690243200-1690329599@churchfields.wilts.sch.uk
SUMMARY:INSET Day
DESCRIPTION:Whole School closed to pupils
URL:https://churchfields.wilts.sch.uk/event/inset-day-16/
CATEGORIES:Curriculum,General
END:VEVENT
END:VCALENDAR