BEGIN:VCALENDAR
VERSION:2.0
PRODID:-//Churchfields - The Village School - ECPv6.15.11//NONSGML v1.0//EN
CALSCALE:GREGORIAN
METHOD:PUBLISH
X-WR-CALNAME:Churchfields - The Village School
X-ORIGINAL-URL:https://churchfields.wilts.sch.uk
X-WR-CALDESC:Events for Churchfields - The Village School
REFRESH-INTERVAL;VALUE=DURATION:PT1H
X-Robots-Tag:noindex
X-PUBLISHED-TTL:PT1H
BEGIN:VTIMEZONE
TZID:Europe/London
BEGIN:DAYLIGHT
TZOFFSETFROM:+0000
TZOFFSETTO:+0100
TZNAME:BST
DTSTART:20230326T010000
END:DAYLIGHT
BEGIN:STANDARD
TZOFFSETFROM:+0100
TZOFFSETTO:+0000
TZNAME:GMT
DTSTART:20231029T010000
END:STANDARD
BEGIN:DAYLIGHT
TZOFFSETFROM:+0000
TZOFFSETTO:+0100
TZNAME:BST
DTSTART:20240331T010000
END:DAYLIGHT
BEGIN:STANDARD
TZOFFSETFROM:+0100
TZOFFSETTO:+0000
TZNAME:GMT
DTSTART:20241027T010000
END:STANDARD
BEGIN:DAYLIGHT
TZOFFSETFROM:+0000
TZOFFSETTO:+0100
TZNAME:BST
DTSTART:20250330T010000
END:DAYLIGHT
BEGIN:STANDARD
TZOFFSETFROM:+0100
TZOFFSETTO:+0000
TZNAME:GMT
DTSTART:20251026T010000
END:STANDARD
END:VTIMEZONE
BEGIN:VEVENT
DTSTART;VALUE=DATE:20241001
DTEND;VALUE=DATE:20241008
DTSTAMP:20260421T004500
CREATED:20240725T132434Z
LAST-MODIFIED:20240725T134146Z
UID:8534-1727740800-1728345599@churchfields.wilts.sch.uk
SUMMARY:Scholastic Book Fair
DESCRIPTION:
URL:https://churchfields.wilts.sch.uk/event/scholastic-book-fair/
END:VEVENT
BEGIN:VEVENT
DTSTART;TZID=Europe/London:20240930T080000
DTEND;TZID=Europe/London:20241004T170000
DTSTAMP:20260421T004500
CREATED:20240911T113123Z
LAST-MODIFIED:20240911T113123Z
UID:8582-1727683200-1728061200@churchfields.wilts.sch.uk
SUMMARY:Book Week
DESCRIPTION:
URL:https://churchfields.wilts.sch.uk/event/book-week-4/
CATEGORIES:Curriculum,General
END:VEVENT
BEGIN:VEVENT
DTSTART;TZID=Europe/London:20240920T080000
DTEND;TZID=Europe/London:20240920T170000
DTSTAMP:20260421T004500
CREATED:20240725T131935Z
LAST-MODIFIED:20240725T131935Z
UID:8528-1726819200-1726851600@churchfields.wilts.sch.uk
SUMMARY:Bucket Golf
DESCRIPTION:Atworth 9 -12 \nMonkton Farleigh 1- 3
URL:https://churchfields.wilts.sch.uk/event/bucket-golf/
END:VEVENT
BEGIN:VEVENT
DTSTART;VALUE=DATE:20240920
DTEND;VALUE=DATE:20240921
DTSTAMP:20260421T004500
CREATED:20240725T132148Z
LAST-MODIFIED:20240725T132148Z
UID:8530-1726790400-1726876799@churchfields.wilts.sch.uk
SUMMARY:Tempest Photography individual photos
DESCRIPTION:Atworth  9 – 11.30 \nMonkton Farleigh 1-2
URL:https://churchfields.wilts.sch.uk/event/tempest-photography-individual-photos-2/
END:VEVENT
BEGIN:VEVENT
DTSTART;TZID=Europe/London:20240917T083000
DTEND;TZID=Europe/London:20240917T100000
DTSTAMP:20260421T004500
CREATED:20240911T113049Z
LAST-MODIFIED:20240911T113049Z
UID:8580-1726561800-1726567200@churchfields.wilts.sch.uk
SUMMARY:Coffee morning Monkton Farleigh base
DESCRIPTION:parents/carers are invited in for coffee with Head of School . No need to book
URL:https://churchfields.wilts.sch.uk/event/coffee-morning-monkton-farleigh-base/
CATEGORIES:General
END:VEVENT
BEGIN:VEVENT
DTSTART;TZID=Europe/London:20240912T083000
DTEND;TZID=Europe/London:20240912T083000
DTSTAMP:20260421T004500
CREATED:20240911T112959Z
LAST-MODIFIED:20240911T112959Z
UID:8578-1726129800-1726129800@churchfields.wilts.sch.uk
SUMMARY:Coffee morning Atworth Base
DESCRIPTION:parents/carers are invited in for coffee with Head of School . No need to book
URL:https://churchfields.wilts.sch.uk/event/coffee-morning-atworth-base/
LOCATION:SN12 8HY
CATEGORIES:General
END:VEVENT
BEGIN:VEVENT
DTSTART;VALUE=DATE:20240910
DTEND;VALUE=DATE:20240911
DTSTAMP:20260421T004500
CREATED:20240725T131657Z
LAST-MODIFIED:20240725T131657Z
UID:8524-1725926400-1726012799@churchfields.wilts.sch.uk
SUMMARY:WOW Day
DESCRIPTION:KS1 Atworth \nKs2 Monkton Farleigh
URL:https://churchfields.wilts.sch.uk/event/wow-day-5/
END:VEVENT
BEGIN:VEVENT
DTSTART;VALUE=DATE:20240903
DTEND;VALUE=DATE:20240904
DTSTAMP:20260421T004500
CREATED:20240725T131804Z
LAST-MODIFIED:20240725T131804Z
UID:8526-1725321600-1725407999@churchfields.wilts.sch.uk
SUMMARY:Term 1 begins
DESCRIPTION:
URL:https://churchfields.wilts.sch.uk/event/term-1-begins-6/
END:VEVENT
BEGIN:VEVENT
DTSTART;VALUE=DATE:20240902
DTEND;VALUE=DATE:20240903
DTSTAMP:20260421T004500
CREATED:20240514T102311Z
LAST-MODIFIED:20240514T102311Z
UID:8436-1725235200-1725321599@churchfields.wilts.sch.uk
SUMMARY:INSET DAY (School closed to pupils)
DESCRIPTION:
URL:https://churchfields.wilts.sch.uk/event/inset-day-school-closed-to-pupils-4/
CATEGORIES:Curriculum,General
END:VEVENT
BEGIN:VEVENT
DTSTART;VALUE=DATE:20240724
DTEND;VALUE=DATE:20240725
DTSTAMP:20260421T004500
CREATED:20230620T133750Z
LAST-MODIFIED:20230620T133750Z
UID:7557-1721779200-1721865599@churchfields.wilts.sch.uk
SUMMARY:INSET DAY
DESCRIPTION:Whole School closed to pupils
URL:https://churchfields.wilts.sch.uk/event/inset-day-21/
CATEGORIES:Curriculum
END:VEVENT
BEGIN:VEVENT
DTSTART;TZID=Europe/London:20240723T080000
DTEND;TZID=Europe/London:20240723T170000
DTSTAMP:20260421T004500
CREATED:20231208T111121Z
LAST-MODIFIED:20231208T111121Z
UID:8292-1721721600-1721754000@churchfields.wilts.sch.uk
SUMMARY:End of Term 6
DESCRIPTION:
URL:https://churchfields.wilts.sch.uk/event/end-of-term-6/
CATEGORIES:Curriculum,General
END:VEVENT
BEGIN:VEVENT
DTSTART;TZID=Europe/London:20240722T130000
DTEND;TZID=Europe/London:20240722T150000
DTSTAMP:20260421T004500
CREATED:20240429T103835Z
LAST-MODIFIED:20240429T103835Z
UID:8428-1721653200-1721660400@churchfields.wilts.sch.uk
SUMMARY:Leavers Service St Michaels Church Atworth
DESCRIPTION:Whole school church service 1:15pm
URL:https://churchfields.wilts.sch.uk/event/leavers-service-st-michaels-church-atworth/
LOCATION:st Michaels church atworth
CATEGORIES:Curriculum,General
END:VEVENT
BEGIN:VEVENT
DTSTART;TZID=Europe/London:20240719T130000
DTEND;TZID=Europe/London:20240719T170000
DTSTAMP:20260421T004500
CREATED:20240319T145421Z
LAST-MODIFIED:20240704T122427Z
UID:8364-1721394000-1721408400@churchfields.wilts.sch.uk
SUMMARY:Sports afternoon (change to the previously published date)
DESCRIPTION:
URL:https://churchfields.wilts.sch.uk/event/sports-afternoon-2/
CATEGORIES:Curriculum,General
END:VEVENT
BEGIN:VEVENT
DTSTART;TZID=Europe/London:20240716T080000
DTEND;TZID=Europe/London:20240716T120000
DTSTAMP:20260421T004500
CREATED:20240319T145828Z
LAST-MODIFIED:20240319T145828Z
UID:8368-1721116800-1721131200@churchfields.wilts.sch.uk
SUMMARY:Move up morning
DESCRIPTION:
URL:https://churchfields.wilts.sch.uk/event/move-up-morning-3/
CATEGORIES:Curriculum,General
END:VEVENT
BEGIN:VEVENT
DTSTART;VALUE=DATE:20240712
DTEND;VALUE=DATE:20240713
DTSTAMP:20260421T004500
CREATED:20240625T145658Z
LAST-MODIFIED:20240625T145658Z
UID:8492-1720742400-1720828799@churchfields.wilts.sch.uk
SUMMARY:Fiesta Day Friday 12 July
DESCRIPTION:Whole school at Atworth Base\, see letter for information
URL:https://churchfields.wilts.sch.uk/event/fiesta-day-friday-12-july/
CATEGORIES:Curriculum
END:VEVENT
BEGIN:VEVENT
DTSTART;TZID=Europe/London:20240711T080000
DTEND;TZID=Europe/London:20240711T170000
DTSTAMP:20260421T004500
CREATED:20240319T145555Z
LAST-MODIFIED:20240319T145555Z
UID:8366-1720684800-1720717200@churchfields.wilts.sch.uk
SUMMARY:ST Laurence YR6 Induction day (2 of 2)
DESCRIPTION:
URL:https://churchfields.wilts.sch.uk/event/st-laurence-yr6-induction-day-2-of-2/
END:VEVENT
BEGIN:VEVENT
DTSTART;VALUE=DATE:20240705
DTEND;VALUE=DATE:20240706
DTSTAMP:20260421T004500
CREATED:20240429T103649Z
LAST-MODIFIED:20240429T103649Z
UID:8426-1720137600-1720223999@churchfields.wilts.sch.uk
SUMMARY:Corsham School Induction day
DESCRIPTION:
URL:https://churchfields.wilts.sch.uk/event/corsham-school-induction-day/
CATEGORIES:Curriculum,General
END:VEVENT
BEGIN:VEVENT
DTSTART;VALUE=DATE:20240704
DTEND;VALUE=DATE:20240705
DTSTAMP:20260421T004500
CREATED:20240319T145235Z
LAST-MODIFIED:20240319T145235Z
UID:8362-1720051200-1720137599@churchfields.wilts.sch.uk
SUMMARY:ST Laurence YR6 Induction day (1 of 2)
DESCRIPTION:
URL:https://churchfields.wilts.sch.uk/event/st-laurence-yr6-induction-day-1-of-2/
END:VEVENT
BEGIN:VEVENT
DTSTART;VALUE=DATE:20240703
DTEND;VALUE=DATE:20240704
DTSTAMP:20260421T004500
CREATED:20240319T145146Z
LAST-MODIFIED:20240319T145146Z
UID:8360-1719964800-1720051199@churchfields.wilts.sch.uk
SUMMARY:Melksham Oak transition day/evening
DESCRIPTION:
URL:https://churchfields.wilts.sch.uk/event/melksham-oak-transition-day-evening-2/
CATEGORIES:Curriculum,General
END:VEVENT
BEGIN:VEVENT
DTSTART;TZID=Europe/London:20240702T130000
DTEND;TZID=Europe/London:20240702T150000
DTSTAMP:20260421T004500
CREATED:20240429T102718Z
LAST-MODIFIED:20240429T102718Z
UID:8422-1719925200-1719932400@churchfields.wilts.sch.uk
SUMMARY:R24 Teddy Bears Picnic Atworth
DESCRIPTION:
URL:https://churchfields.wilts.sch.uk/event/r24-teddy-bears-picnic-atworth/
CATEGORIES:Curriculum,General,PTA
END:VEVENT
BEGIN:VEVENT
DTSTART;TZID=Europe/London:20240702T080000
DTEND;TZID=Europe/London:20240702T170000
DTSTAMP:20260421T004500
CREATED:20240319T145107Z
LAST-MODIFIED:20240319T145107Z
UID:8358-1719907200-1719939600@churchfields.wilts.sch.uk
SUMMARY:Melksham Oak transition day/evening
DESCRIPTION:
URL:https://churchfields.wilts.sch.uk/event/melksham-oak-transition-day-evening/
CATEGORIES:Curriculum,General
END:VEVENT
BEGIN:VEVENT
DTSTART;VALUE=DATE:20240701
DTEND;VALUE=DATE:20240706
DTSTAMP:20260421T004500
CREATED:20240625T145814Z
LAST-MODIFIED:20240625T145814Z
UID:8494-1719792000-1720223999@churchfields.wilts.sch.uk
SUMMARY:Sports Week Monday 01 July 2024 - Friday 05 July 2024
DESCRIPTION:See newsletters for information
URL:https://churchfields.wilts.sch.uk/event/sports-week-monday-01-july-2024-friday-05-july-2024/
CATEGORIES:Curriculum,General
END:VEVENT
BEGIN:VEVENT
DTSTART;VALUE=DATE:20240628
DTEND;VALUE=DATE:20240629
DTSTAMP:20260421T004500
CREATED:20240625T145533Z
LAST-MODIFIED:20240625T145533Z
UID:8490-1719532800-1719619199@churchfields.wilts.sch.uk
SUMMARY:Non Uniform Day Friday 28 June 2024
DESCRIPTION:
URL:https://churchfields.wilts.sch.uk/event/non-uniform-day-friday-28-june-2024/
CATEGORIES:PTA
END:VEVENT
BEGIN:VEVENT
DTSTART;VALUE=DATE:20240626
DTEND;VALUE=DATE:20240627
DTSTAMP:20260421T004500
CREATED:20240319T145013Z
LAST-MODIFIED:20240319T145013Z
UID:8356-1719360000-1719446399@churchfields.wilts.sch.uk
SUMMARY:St Laurence Y5 Cluster Curriculum Day
DESCRIPTION:
URL:https://churchfields.wilts.sch.uk/event/st-laurence-y5-cluster-curriculum-day/
END:VEVENT
BEGIN:VEVENT
DTSTART;TZID=Europe/London:20240625T130000
DTEND;TZID=Europe/London:20240625T150000
DTSTAMP:20260421T004500
CREATED:20240429T102609Z
LAST-MODIFIED:20240429T102609Z
UID:8420-1719320400-1719327600@churchfields.wilts.sch.uk
SUMMARY:R24 Induction afternoon Atworth and Monkton Farleigh
DESCRIPTION:
URL:https://churchfields.wilts.sch.uk/event/r24-induction-afternoon-atworth-and-monkton-farleigh-3/
LOCATION:whole school
CATEGORIES:Curriculum,General
END:VEVENT
BEGIN:VEVENT
DTSTART;TZID=Europe/London:20240620T151500
DTEND;TZID=Europe/London:20240620T171500
DTSTAMP:20260421T004500
CREATED:20240514T102133Z
LAST-MODIFIED:20240514T102133Z
UID:8434-1718896500-1718903700@churchfields.wilts.sch.uk
SUMMARY:KS2 Film WOW Atworth
DESCRIPTION:
URL:https://churchfields.wilts.sch.uk/event/ks2-film-wow-atworth/
CATEGORIES:Curriculum
END:VEVENT
BEGIN:VEVENT
DTSTART;TZID=Europe/London:20240618T130000
DTEND;TZID=Europe/London:20240618T150000
DTSTAMP:20260421T004500
CREATED:20240429T102540Z
LAST-MODIFIED:20240429T102540Z
UID:8418-1718715600-1718722800@churchfields.wilts.sch.uk
SUMMARY:R24 Induction afternoon Atworth and Monkton Farleigh
DESCRIPTION:
URL:https://churchfields.wilts.sch.uk/event/r24-induction-afternoon-atworth-and-monkton-farleigh-2/
LOCATION:whole school
CATEGORIES:Curriculum,General
END:VEVENT
BEGIN:VEVENT
DTSTART;TZID=Europe/London:20240613T150000
DTEND;TZID=Europe/London:20240613T170000
DTSTAMP:20260421T004500
CREATED:20240514T102041Z
LAST-MODIFIED:20240514T102041Z
UID:8432-1718290800-1718298000@churchfields.wilts.sch.uk
SUMMARY:KS2 Film WOW Monkton Farleigh
DESCRIPTION:
URL:https://churchfields.wilts.sch.uk/event/ks2-film-wow-monkton-farleigh/
CATEGORIES:Curriculum
END:VEVENT
BEGIN:VEVENT
DTSTART;VALUE=DATE:20240612
DTEND;VALUE=DATE:20240613
DTSTAMP:20260421T004500
CREATED:20240520T101235Z
LAST-MODIFIED:20240520T101235Z
UID:8475-1718150400-1718236799@churchfields.wilts.sch.uk
SUMMARY:HCG care oral Health Presentation EYFS KS1 Atworth for pupils
DESCRIPTION:
URL:https://churchfields.wilts.sch.uk/event/hcg-care-oral-health-presentation-eyfs-ks1-atworth-for-pupils/
CATEGORIES:Curriculum,General
END:VEVENT
BEGIN:VEVENT
DTSTART;TZID=Europe/London:20240611T130000
DTEND;TZID=Europe/London:20240611T150000
DTSTAMP:20260421T004500
CREATED:20240429T102443Z
LAST-MODIFIED:20240429T102443Z
UID:8416-1718110800-1718118000@churchfields.wilts.sch.uk
SUMMARY:R24 Induction afternoon Atworth and Monkton Farleigh
DESCRIPTION:
URL:https://churchfields.wilts.sch.uk/event/r24-induction-afternoon-atworth-and-monkton-farleigh/
LOCATION:whole school
CATEGORIES:Curriculum,General
END:VEVENT
END:VCALENDAR