BEGIN:VCALENDAR
VERSION:2.0
PRODID:-//Churchfields - The Village School - ECPv6.15.11//NONSGML v1.0//EN
CALSCALE:GREGORIAN
METHOD:PUBLISH
X-WR-CALNAME:Churchfields - The Village School
X-ORIGINAL-URL:https://churchfields.wilts.sch.uk
X-WR-CALDESC:Events for Churchfields - The Village School
REFRESH-INTERVAL;VALUE=DURATION:PT1H
X-Robots-Tag:noindex
X-PUBLISHED-TTL:PT1H
BEGIN:VTIMEZONE
TZID:Europe/London
BEGIN:DAYLIGHT
TZOFFSETFROM:+0000
TZOFFSETTO:+0100
TZNAME:BST
DTSTART:20220327T010000
END:DAYLIGHT
BEGIN:STANDARD
TZOFFSETFROM:+0100
TZOFFSETTO:+0000
TZNAME:GMT
DTSTART:20221030T010000
END:STANDARD
BEGIN:DAYLIGHT
TZOFFSETFROM:+0000
TZOFFSETTO:+0100
TZNAME:BST
DTSTART:20230326T010000
END:DAYLIGHT
BEGIN:STANDARD
TZOFFSETFROM:+0100
TZOFFSETTO:+0000
TZNAME:GMT
DTSTART:20231029T010000
END:STANDARD
BEGIN:DAYLIGHT
TZOFFSETFROM:+0000
TZOFFSETTO:+0100
TZNAME:BST
DTSTART:20240331T010000
END:DAYLIGHT
BEGIN:STANDARD
TZOFFSETFROM:+0100
TZOFFSETTO:+0000
TZNAME:GMT
DTSTART:20241027T010000
END:STANDARD
BEGIN:DAYLIGHT
TZOFFSETFROM:+0000
TZOFFSETTO:+0100
TZNAME:BST
DTSTART:20250330T010000
END:DAYLIGHT
BEGIN:STANDARD
TZOFFSETFROM:+0100
TZOFFSETTO:+0000
TZNAME:GMT
DTSTART:20251026T010000
END:STANDARD
END:VTIMEZONE
BEGIN:VEVENT
DTSTART;VALUE=DATE:20240108
DTEND;VALUE=DATE:20240109
DTSTAMP:20260421T060759
CREATED:20231208T105313Z
LAST-MODIFIED:20231208T105313Z
UID:8245-1704672000-1704758399@churchfields.wilts.sch.uk
SUMMARY:KS2 WOW Day
DESCRIPTION:KS2 WOW Day all pupils in KS2 at Atworth Base
URL:https://churchfields.wilts.sch.uk/event/ks2-wow-day-3/
CATEGORIES:Curriculum,General
END:VEVENT
BEGIN:VEVENT
DTSTART;VALUE=DATE:20240104
DTEND;VALUE=DATE:20240105
DTSTAMP:20260421T060759
CREATED:20231208T105158Z
LAST-MODIFIED:20231208T105158Z
UID:8241-1704326400-1704412799@churchfields.wilts.sch.uk
SUMMARY:Start of Term 3
DESCRIPTION:
URL:https://churchfields.wilts.sch.uk/event/start-of-term-3/
CATEGORIES:Curriculum
END:VEVENT
BEGIN:VEVENT
DTSTART;VALUE=DATE:20231220
DTEND;VALUE=DATE:20231221
DTSTAMP:20260421T060759
CREATED:20230906T181342Z
LAST-MODIFIED:20230906T181342Z
UID:8023-1703030400-1703116799@churchfields.wilts.sch.uk
SUMMARY:End of term 2
DESCRIPTION:
URL:https://churchfields.wilts.sch.uk/event/end-of-term-2-4/
END:VEVENT
BEGIN:VEVENT
DTSTART;TZID=Europe/London:20231219T173000
DTEND;TZID=Europe/London:20231219T190000
DTSTAMP:20260421T060759
CREATED:20231121T095500Z
LAST-MODIFIED:20231121T095500Z
UID:8225-1703007000-1703012400@churchfields.wilts.sch.uk
SUMMARY:School Christmas Disco Atworth Base 5:30pm to 7pm
DESCRIPTION:School Christmas Disco Atworth Base 5:30pm to 7pm
URL:https://churchfields.wilts.sch.uk/event/school-christmas-disco-atworth-base-530pm-to-7pm/
LOCATION:Atworth Base\, Churchfields School\, Atworth\, WILTSHIRE\, SN12 8HY\, United Kingdom
CATEGORIES:PTA
END:VEVENT
BEGIN:VEVENT
DTSTART;TZID=Europe/London:20231219T131500
DTEND;TZID=Europe/London:20231219T143000
DTSTAMP:20260421T060759
CREATED:20230906T181308Z
LAST-MODIFIED:20230906T181308Z
UID:8021-1702991700-1702996200@churchfields.wilts.sch.uk
SUMMARY:Carol Service Atworth Church
DESCRIPTION:
URL:https://churchfields.wilts.sch.uk/event/carol-service-atworth-church/
CATEGORIES:Curriculum
END:VEVENT
BEGIN:VEVENT
DTSTART;VALUE=DATE:20231215
DTEND;VALUE=DATE:20231216
DTSTAMP:20260421T060759
CREATED:20230906T180839Z
LAST-MODIFIED:20230906T180839Z
UID:8019-1702598400-1702684799@churchfields.wilts.sch.uk
SUMMARY:School Christmas dinner
DESCRIPTION:
URL:https://churchfields.wilts.sch.uk/event/school-christmas-dinner/
CATEGORIES:General
END:VEVENT
BEGIN:VEVENT
DTSTART;TZID=Europe/London:20231208T150000
DTEND;TZID=Europe/London:20231208T180000
DTSTAMP:20260421T060759
CREATED:20231121T094319Z
LAST-MODIFIED:20231121T094319Z
UID:8215-1702047600-1702058400@churchfields.wilts.sch.uk
SUMMARY:Monkton Farleigh Film & Fun 3pm – 5pm and parents/Carers welcome 5pm -6pm
DESCRIPTION:
URL:https://churchfields.wilts.sch.uk/event/monkton-farleigh-film-fun-3pm-5pm-and-parents-carers-welcome-5pm-6pm/
LOCATION:MF Base\, Churchfields School\, Monkton Farleigh\, Bradford-on-Avon\, BA15 2QD\, United Kingdom
CATEGORIES:General,PTA
END:VEVENT
BEGIN:VEVENT
DTSTART;VALUE=DATE:20231207
DTEND;VALUE=DATE:20231208
DTSTAMP:20260421T060759
CREATED:20230906T180730Z
LAST-MODIFIED:20231106T103324Z
UID:8017-1701907200-1701993599@churchfields.wilts.sch.uk
SUMMARY:FDN/KS1 productions
DESCRIPTION:dress rehearsal 1:30 pm \n1st performance 4pm \n2nd performance 6pm \nboth performances take place at the church hall
URL:https://churchfields.wilts.sch.uk/event/fdn-ks1-productions/
CATEGORIES:Curriculum
END:VEVENT
BEGIN:VEVENT
DTSTART;VALUE=DATE:20231205
DTEND;VALUE=DATE:20231206
DTSTAMP:20260421T060759
CREATED:20231017T114804Z
LAST-MODIFIED:20231106T103417Z
UID:8118-1701734400-1701820799@churchfields.wilts.sch.uk
SUMMARY:KS2 Christmas production performances
DESCRIPTION:dress rehearsal 1:30 pm \n1st performance 4pm \n2nd performance 6pm \nboth performances take place at St. Michaels Church
URL:https://churchfields.wilts.sch.uk/event/ks2-christmas-production-performances/
END:VEVENT
BEGIN:VEVENT
DTSTART;TZID=Europe/London:20231202T190000
DTEND;TZID=Europe/London:20231202T210000
DTSTAMP:20260421T060759
CREATED:20231121T095322Z
LAST-MODIFIED:20231121T095322Z
UID:8223-1701543600-1701550800@churchfields.wilts.sch.uk
SUMMARY:Festive Wreath making pre-booking required
DESCRIPTION:FOCS event Pre-booking required
URL:https://churchfields.wilts.sch.uk/event/festive-wreath-making-pre-booking-required-2/
LOCATION:Atworth Base\, Churchfields School\, Atworth\, WILTSHIRE\, SN12 8HY\, United Kingdom
CATEGORIES:PTA
END:VEVENT
BEGIN:VEVENT
DTSTART;TZID=Europe/London:20231201T190000
DTEND;TZID=Europe/London:20231201T210000
DTSTAMP:20260421T060759
CREATED:20231121T095237Z
LAST-MODIFIED:20231121T095237Z
UID:8221-1701457200-1701464400@churchfields.wilts.sch.uk
SUMMARY:Festive Wreath Making - pre booking required
DESCRIPTION:FOCS event pre-booking required
URL:https://churchfields.wilts.sch.uk/event/festive-wreath-making-pre-booking-required/
LOCATION:Atworth Base\, Churchfields School\, Atworth\, WILTSHIRE\, SN12 8HY\, United Kingdom
CATEGORIES:PTA
END:VEVENT
BEGIN:VEVENT
DTSTART;VALUE=DATE:20231130
DTEND;VALUE=DATE:20231201
DTSTAMP:20260421T060759
CREATED:20231103T135443Z
LAST-MODIFIED:20231103T135443Z
UID:8137-1701302400-1701388799@churchfields.wilts.sch.uk
SUMMARY:KS2 Christmas performance rehearsals at Atworth base
DESCRIPTION:
URL:https://churchfields.wilts.sch.uk/event/ks2-christmas-performance-rehearsals-at-atworth-base/
CATEGORIES:Curriculum
END:VEVENT
BEGIN:VEVENT
DTSTART;VALUE=DATE:20231130
DTEND;VALUE=DATE:20231201
DTSTAMP:20260421T060759
CREATED:20231103T135332Z
LAST-MODIFIED:20231103T135332Z
UID:8135-1701302400-1701388799@churchfields.wilts.sch.uk
SUMMARY:KS1 WOW day
DESCRIPTION:KS1 WOW Day all pupils at Atworth base.
URL:https://churchfields.wilts.sch.uk/event/ks1-wow-day-2/
CATEGORIES:Curriculum
END:VEVENT
BEGIN:VEVENT
DTSTART;VALUE=DATE:20231130
DTEND;VALUE=DATE:20231201
DTSTAMP:20260421T060759
CREATED:20231017T114538Z
LAST-MODIFIED:20231017T114538Z
UID:8116-1701302400-1701388799@churchfields.wilts.sch.uk
SUMMARY:KS2 all at Atworth Base
DESCRIPTION:Christmas performance rehearsal
URL:https://churchfields.wilts.sch.uk/event/ks2-all-at-atworth-base/
END:VEVENT
BEGIN:VEVENT
DTSTART;VALUE=DATE:20231130
DTEND;VALUE=DATE:20231201
DTSTAMP:20260421T060759
CREATED:20231017T114453Z
LAST-MODIFIED:20231017T114453Z
UID:8114-1701302400-1701388799@churchfields.wilts.sch.uk
SUMMARY:KS1 Victorian Day Atworth Base
DESCRIPTION:Please refer Parent Mail letter issued 17 October
URL:https://churchfields.wilts.sch.uk/event/ks1-victorian-day-atworth-base/
LOCATION:SN12 8HY
CATEGORIES:Curriculum,General
END:VEVENT
BEGIN:VEVENT
DTSTART;TZID=Europe/London:20231129T094500
DTEND;TZID=Europe/London:20231129T230000
DTSTAMP:20260421T060759
CREATED:20231103T134920Z
LAST-MODIFIED:20231103T134920Z
UID:8129-1701251100-1701298800@churchfields.wilts.sch.uk
SUMMARY:Year 4 Swimming Springfield Campus
DESCRIPTION:
URL:https://churchfields.wilts.sch.uk/event/year-4-swimming-springfield-campus-4/
CATEGORIES:Curriculum
END:VEVENT
BEGIN:VEVENT
DTSTART;TZID=Europe/London:20231125T120000
DTEND;TZID=Europe/London:20231125T160000
DTSTAMP:20260421T060759
CREATED:20231121T093027Z
LAST-MODIFIED:20231121T093027Z
UID:8208-1700913600-1700928000@churchfields.wilts.sch.uk
SUMMARY:Christmas Fayre Saturday 25 November 2023
DESCRIPTION:
URL:https://churchfields.wilts.sch.uk/event/christmas-fayre-saturday-25-november-2023/
LOCATION:Atworth Base\, Churchfields School\, Atworth\, WILTSHIRE\, SN12 8HY\, United Kingdom
CATEGORIES:PTA
END:VEVENT
BEGIN:VEVENT
DTSTART;TZID=Europe/London:20231122T094500
DTEND;TZID=Europe/London:20231122T230000
DTSTAMP:20260421T060759
CREATED:20231103T134826Z
LAST-MODIFIED:20231103T134826Z
UID:8127-1700646300-1700694000@churchfields.wilts.sch.uk
SUMMARY:Year 4 Swimming Springfield campus
DESCRIPTION:
URL:https://churchfields.wilts.sch.uk/event/year-4-swimming-springfield-campus-3/
CATEGORIES:Curriculum
END:VEVENT
BEGIN:VEVENT
DTSTART;VALUE=DATE:20231117
DTEND;VALUE=DATE:20231118
DTSTAMP:20260421T060759
CREATED:20230906T180214Z
LAST-MODIFIED:20230906T180214Z
UID:8013-1700179200-1700265599@churchfields.wilts.sch.uk
SUMMARY:Children in Need
DESCRIPTION:
URL:https://churchfields.wilts.sch.uk/event/children-in-need-3/
END:VEVENT
BEGIN:VEVENT
DTSTART;VALUE=DATE:20231116
DTEND;VALUE=DATE:20231118
DTSTAMP:20260421T060759
CREATED:20230906T180133Z
LAST-MODIFIED:20230906T180133Z
UID:8011-1700092800-1700265599@churchfields.wilts.sch.uk
SUMMARY:Bikeability Year 6 pupils
DESCRIPTION:
URL:https://churchfields.wilts.sch.uk/event/bikeability-year-6-pupils/
CATEGORIES:Curriculum
END:VEVENT
BEGIN:VEVENT
DTSTART;TZID=Europe/London:20231115T094500
DTEND;TZID=Europe/London:20231115T230000
DTSTAMP:20260421T060759
CREATED:20231103T134741Z
LAST-MODIFIED:20231103T134741Z
UID:8125-1700041500-1700089200@churchfields.wilts.sch.uk
SUMMARY:Year 4 Swimming Springfield campus
DESCRIPTION:
URL:https://churchfields.wilts.sch.uk/event/year-4-swimming-springfield-campus-2/
CATEGORIES:Curriculum
END:VEVENT
BEGIN:VEVENT
DTSTART;VALUE=DATE:20231114
DTEND;VALUE=DATE:20231115
DTSTAMP:20260421T060759
CREATED:20231103T135155Z
LAST-MODIFIED:20231103T135155Z
UID:8133-1699920000-1700006399@churchfields.wilts.sch.uk
SUMMARY:School nurse NCMP year 6
DESCRIPTION:
URL:https://churchfields.wilts.sch.uk/event/school-nurse-ncmp-year-6/
CATEGORIES:General
END:VEVENT
BEGIN:VEVENT
DTSTART;VALUE=DATE:20231113
DTEND;VALUE=DATE:20231118
DTSTAMP:20260421T060759
CREATED:20230906T175941Z
LAST-MODIFIED:20230906T175941Z
UID:8007-1699833600-1700265599@churchfields.wilts.sch.uk
SUMMARY:E- Safety week (anti-bullying week)
DESCRIPTION:
URL:https://churchfields.wilts.sch.uk/event/e-safety-week-anti-bullying-week-2/
CATEGORIES:Curriculum
END:VEVENT
BEGIN:VEVENT
DTSTART;TZID=Europe/London:20231108T094500
DTEND;TZID=Europe/London:20231108T231500
DTSTAMP:20260421T060759
CREATED:20231103T134531Z
LAST-MODIFIED:20231103T134531Z
UID:8123-1699436700-1699485300@churchfields.wilts.sch.uk
SUMMARY:Year 4 swimming springfield campus
DESCRIPTION:
URL:https://churchfields.wilts.sch.uk/event/year-4-swimming-springfield-campus/
CATEGORIES:Curriculum
END:VEVENT
BEGIN:VEVENT
DTSTART;TZID=Europe/London:20231107T170000
DTEND;TZID=Europe/London:20231107T190000
DTSTAMP:20260421T060759
CREATED:20231103T134400Z
LAST-MODIFIED:20231103T134400Z
UID:8121-1699376400-1699383600@churchfields.wilts.sch.uk
SUMMARY:FOCS Movie night
DESCRIPTION:
URL:https://churchfields.wilts.sch.uk/event/focs-movie-night/
CATEGORIES:PTA
END:VEVENT
BEGIN:VEVENT
DTSTART;TZID=Europe/London:20231106T082500
DTEND;TZID=Europe/London:20231106T120000
DTSTAMP:20260421T060759
CREATED:20231103T135103Z
LAST-MODIFIED:20231103T135103Z
UID:8131-1699259100-1699272000@churchfields.wilts.sch.uk
SUMMARY:Robin Geography trip Monday 6th November
DESCRIPTION:
URL:https://churchfields.wilts.sch.uk/event/robin-geography-trip-monday-6th-november/
CATEGORIES:Curriculum
END:VEVENT
BEGIN:VEVENT
DTSTART;VALUE=DATE:20231031
DTEND;VALUE=DATE:20231101
DTSTAMP:20260421T060759
CREATED:20230906T175837Z
LAST-MODIFIED:20230913T134622Z
UID:8005-1698710400-1698796799@churchfields.wilts.sch.uk
SUMMARY:Term 2 Begins
DESCRIPTION:
URL:https://churchfields.wilts.sch.uk/event/term-2-begins-4/
CATEGORIES:Curriculum
END:VEVENT
BEGIN:VEVENT
DTSTART;VALUE=DATE:20231030
DTEND;VALUE=DATE:20231031
DTSTAMP:20260421T060759
CREATED:20230620T133521Z
LAST-MODIFIED:20230620T133545Z
UID:7550-1698624000-1698710399@churchfields.wilts.sch.uk
SUMMARY:INSET DAY
DESCRIPTION:Whole School Closed to Pupils
URL:https://churchfields.wilts.sch.uk/event/inset-day-19/
CATEGORIES:Curriculum
END:VEVENT
BEGIN:VEVENT
DTSTART;VALUE=DATE:20231018
DTEND;VALUE=DATE:20231019
DTSTAMP:20260421T060759
CREATED:20230721T141225Z
LAST-MODIFIED:20230721T141225Z
UID:7956-1697587200-1697673599@churchfields.wilts.sch.uk
SUMMARY:End Of Term 1
DESCRIPTION:
URL:https://churchfields.wilts.sch.uk/event/end-of-term-1-5/
END:VEVENT
BEGIN:VEVENT
DTSTART;VALUE=DATE:20231017
DTEND;VALUE=DATE:20231018
DTSTAMP:20260421T060759
CREATED:20230721T141206Z
LAST-MODIFIED:20230721T141206Z
UID:7954-1697500800-1697587199@churchfields.wilts.sch.uk
SUMMARY:Harvest Festival Atworth Church - 1:15pm
DESCRIPTION:
URL:https://churchfields.wilts.sch.uk/event/harvest-festival-atworth-church-115pm/
END:VEVENT
END:VCALENDAR