BEGIN:VCALENDAR
VERSION:2.0
PRODID:-//Churchfields - The Village School - ECPv6.15.11//NONSGML v1.0//EN
CALSCALE:GREGORIAN
METHOD:PUBLISH
X-ORIGINAL-URL:https://churchfields.wilts.sch.uk
X-WR-CALDESC:Events for Churchfields - The Village School
REFRESH-INTERVAL;VALUE=DURATION:PT1H
X-Robots-Tag:noindex
X-PUBLISHED-TTL:PT1H
BEGIN:VTIMEZONE
TZID:Europe/London
BEGIN:DAYLIGHT
TZOFFSETFROM:+0000
TZOFFSETTO:+0100
TZNAME:BST
DTSTART:20240331T010000
END:DAYLIGHT
BEGIN:STANDARD
TZOFFSETFROM:+0100
TZOFFSETTO:+0000
TZNAME:GMT
DTSTART:20241027T010000
END:STANDARD
BEGIN:DAYLIGHT
TZOFFSETFROM:+0000
TZOFFSETTO:+0100
TZNAME:BST
DTSTART:20250330T010000
END:DAYLIGHT
BEGIN:STANDARD
TZOFFSETFROM:+0100
TZOFFSETTO:+0000
TZNAME:GMT
DTSTART:20251026T010000
END:STANDARD
BEGIN:DAYLIGHT
TZOFFSETFROM:+0000
TZOFFSETTO:+0100
TZNAME:BST
DTSTART:20260329T010000
END:DAYLIGHT
BEGIN:STANDARD
TZOFFSETFROM:+0100
TZOFFSETTO:+0000
TZNAME:GMT
DTSTART:20261025T010000
END:STANDARD
END:VTIMEZONE
BEGIN:VEVENT
DTSTART;VALUE=DATE:20250630
DTEND;VALUE=DATE:20250703
DTSTAMP:20260420T040036
CREATED:20240911T120508Z
LAST-MODIFIED:20240911T120508Z
UID:8647-1751241600-1751500799@churchfields.wilts.sch.uk
SUMMARY:Year 5 & 6 Residential trip
DESCRIPTION:
URL:https://churchfields.wilts.sch.uk/event/year-5-6-residential-trip/
CATEGORIES:Curriculum,General
END:VEVENT
BEGIN:VEVENT
DTSTART;VALUE=DATE:20250701
DTEND;VALUE=DATE:20250702
DTSTAMP:20260420T040036
CREATED:20240911T120552Z
LAST-MODIFIED:20240911T120552Z
UID:8649-1751328000-1751414399@churchfields.wilts.sch.uk
SUMMARY:School trip
DESCRIPTION:
URL:https://churchfields.wilts.sch.uk/event/school-trip/
CATEGORIES:Curriculum,General
END:VEVENT
BEGIN:VEVENT
DTSTART;TZID=Europe/London:20250702T140000
DTEND;TZID=Europe/London:20250702T151500
DTSTAMP:20260420T040036
CREATED:20240911T120420Z
LAST-MODIFIED:20240911T120420Z
UID:8645-1751464800-1751469300@churchfields.wilts.sch.uk
SUMMARY:Reception class 2025 teddy bears picnic
DESCRIPTION:
URL:https://churchfields.wilts.sch.uk/event/reception-class-2025-teddy-bears-picnic/
CATEGORIES:Curriculum,General,PTA
END:VEVENT
BEGIN:VEVENT
DTSTART;VALUE=DATE:20250703
DTEND;VALUE=DATE:20250704
DTSTAMP:20260420T040036
CREATED:20250515T105606Z
LAST-MODIFIED:20250515T105606Z
UID:9097-1751500800-1751587199@churchfields.wilts.sch.uk
SUMMARY:St Laurence Yr.6 Induction day (1of2)
DESCRIPTION:
URL:https://churchfields.wilts.sch.uk/event/st-laurence-yr-6-induction-day-1of2/
CATEGORIES:Curriculum
END:VEVENT
BEGIN:VEVENT
DTSTART;TZID=Europe/London:20250703T090000
DTEND;TZID=Europe/London:20250703T120000
DTSTAMP:20260420T040036
CREATED:20250515T105518Z
LAST-MODIFIED:20250515T105518Z
UID:9095-1751533200-1751544000@churchfields.wilts.sch.uk
SUMMARY:Move up morning
DESCRIPTION:
URL:https://churchfields.wilts.sch.uk/event/move-up-morning-4/
CATEGORIES:Curriculum
END:VEVENT
BEGIN:VEVENT
DTSTART;VALUE=DATE:20250707
DTEND;VALUE=DATE:20250712
DTSTAMP:20260420T040036
CREATED:20240911T120621Z
LAST-MODIFIED:20240911T120621Z
UID:8651-1751846400-1752278399@churchfields.wilts.sch.uk
SUMMARY:Sports Week
DESCRIPTION:
URL:https://churchfields.wilts.sch.uk/event/sports-week-4/
CATEGORIES:Curriculum,General
END:VEVENT
BEGIN:VEVENT
DTSTART;VALUE=DATE:20250708
DTEND;VALUE=DATE:20250709
DTSTAMP:20260420T040036
CREATED:20250515T105751Z
LAST-MODIFIED:20250515T105751Z
UID:9101-1751932800-1752019199@churchfields.wilts.sch.uk
SUMMARY:Melksham Oak Yr.6 Transition day
DESCRIPTION:
URL:https://churchfields.wilts.sch.uk/event/melksham-oak-yr-6-transition-day/
CATEGORIES:Curriculum
END:VEVENT
BEGIN:VEVENT
DTSTART;VALUE=DATE:20250708
DTEND;VALUE=DATE:20250709
DTSTAMP:20260420T040036
CREATED:20250515T105856Z
LAST-MODIFIED:20250515T105856Z
UID:9103-1751932800-1752019199@churchfields.wilts.sch.uk
SUMMARY:Sports Week whole school Atworth Base
DESCRIPTION:Tuesday 08 July all pupils at Atworth base for the day
URL:https://churchfields.wilts.sch.uk/event/sports-week-whole-school-atworth-base/
CATEGORIES:Curriculum,General
END:VEVENT
BEGIN:VEVENT
DTSTART;VALUE=DATE:20250709
DTEND;VALUE=DATE:20250710
DTSTAMP:20260420T040036
CREATED:20250515T105933Z
LAST-MODIFIED:20250515T105933Z
UID:9105-1752019200-1752105599@churchfields.wilts.sch.uk
SUMMARY:Melksham Oak Yr. 5 taster day
DESCRIPTION:
URL:https://churchfields.wilts.sch.uk/event/melksham-oak-yr-5-taster-day/
END:VEVENT
BEGIN:VEVENT
DTSTART;VALUE=DATE:20250709
DTEND;VALUE=DATE:20250710
DTSTAMP:20260420T040036
CREATED:20250616T114636Z
LAST-MODIFIED:20250616T114636Z
UID:9139-1752019200-1752105599@churchfields.wilts.sch.uk
SUMMARY:All Year 6 pupils Atworth Base
DESCRIPTION:
URL:https://churchfields.wilts.sch.uk/event/all-year-6-pupils-atworth-base/
CATEGORIES:Curriculum,General
END:VEVENT
BEGIN:VEVENT
DTSTART;VALUE=DATE:20250710
DTEND;VALUE=DATE:20250711
DTSTAMP:20260420T040036
CREATED:20250515T110005Z
LAST-MODIFIED:20250515T110005Z
UID:9107-1752105600-1752191999@churchfields.wilts.sch.uk
SUMMARY:Melksham Oak Yr.5 taster day
DESCRIPTION:
URL:https://churchfields.wilts.sch.uk/event/melksham-oak-yr-5-taster-day-2/
CATEGORIES:Curriculum,General
END:VEVENT
BEGIN:VEVENT
DTSTART;VALUE=DATE:20250710
DTEND;VALUE=DATE:20250711
DTSTAMP:20260420T040036
CREATED:20250515T110056Z
LAST-MODIFIED:20250515T110056Z
UID:9109-1752105600-1752191999@churchfields.wilts.sch.uk
SUMMARY:Sports week whole school Atworth Base
DESCRIPTION:Thursday 10 July all pupils at Atworth base for the day
URL:https://churchfields.wilts.sch.uk/event/sports-week-whole-school-atworth-base-2/
CATEGORIES:Curriculum,General
END:VEVENT
BEGIN:VEVENT
DTSTART;VALUE=DATE:20250710
DTEND;VALUE=DATE:20250711
DTSTAMP:20260420T040036
CREATED:20250515T110138Z
LAST-MODIFIED:20250515T110138Z
UID:9111-1752105600-1752191999@churchfields.wilts.sch.uk
SUMMARY:St Laurence Yr.6 Induction day (2 of 2)
DESCRIPTION:
URL:https://churchfields.wilts.sch.uk/event/st-laurence-yr-6-induction-day-2-of-2/
CATEGORIES:Curriculum,General
END:VEVENT
BEGIN:VEVENT
DTSTART;TZID=Europe/London:20250710T090000
DTEND;TZID=Europe/London:20250710T120000
DTSTAMP:20260420T040036
CREATED:20250515T110208Z
LAST-MODIFIED:20250515T110208Z
UID:9113-1752138000-1752148800@churchfields.wilts.sch.uk
SUMMARY:Reserve move up morning
DESCRIPTION:
URL:https://churchfields.wilts.sch.uk/event/reserve-move-up-morning/
CATEGORIES:Curriculum,General
END:VEVENT
BEGIN:VEVENT
DTSTART;VALUE=DATE:20250711
DTEND;VALUE=DATE:20250712
DTSTAMP:20260420T040036
CREATED:20250515T110300Z
LAST-MODIFIED:20250515T110300Z
UID:9116-1752192000-1752278399@churchfields.wilts.sch.uk
SUMMARY:Pupil Reports go home
DESCRIPTION:
URL:https://churchfields.wilts.sch.uk/event/pupil-reports-go-home-3/
CATEGORIES:Curriculum
END:VEVENT
BEGIN:VEVENT
DTSTART;TZID=Europe/London:20250711T131500
DTEND;TZID=Europe/London:20250711T170000
DTSTAMP:20260420T040036
CREATED:20240911T120702Z
LAST-MODIFIED:20240911T120702Z
UID:8653-1752239700-1752253200@churchfields.wilts.sch.uk
SUMMARY:Sports Day afternoon
DESCRIPTION:
URL:https://churchfields.wilts.sch.uk/event/sports-day-afternoon/
CATEGORIES:Curriculum,General,PTA
END:VEVENT
BEGIN:VEVENT
DTSTART;VALUE=DATE:20250714
DTEND;VALUE=DATE:20250715
DTSTAMP:20260420T040036
CREATED:20250616T114711Z
LAST-MODIFIED:20250616T114711Z
UID:9141-1752451200-1752537599@churchfields.wilts.sch.uk
SUMMARY:Non uniform Day
DESCRIPTION:
URL:https://churchfields.wilts.sch.uk/event/non-uniform-day-5/
CATEGORIES:PTA
END:VEVENT
BEGIN:VEVENT
DTSTART;VALUE=DATE:20250715
DTEND;VALUE=DATE:20250716
DTSTAMP:20260420T040036
CREATED:20250616T120716Z
LAST-MODIFIED:20250616T120716Z
UID:9143-1752537600-1752623999@churchfields.wilts.sch.uk
SUMMARY:Forest School Monkton Farleigh pupils
DESCRIPTION:
URL:https://churchfields.wilts.sch.uk/event/forest-school-monkton-farleigh-pupils-2/
CATEGORIES:Forest School
END:VEVENT
BEGIN:VEVENT
DTSTART;VALUE=DATE:20250715
DTEND;VALUE=DATE:20250716
DTSTAMP:20260420T040036
CREATED:20250616T132317Z
LAST-MODIFIED:20250616T132317Z
UID:9171-1752537600-1752623999@churchfields.wilts.sch.uk
SUMMARY:KS2 Production Atworth pupils
DESCRIPTION:
URL:https://churchfields.wilts.sch.uk/event/ks2-production-atworth-pupils/
CATEGORIES:General
END:VEVENT
BEGIN:VEVENT
DTSTART;TZID=Europe/London:20250716T131500
DTEND;TZID=Europe/London:20250716T151500
DTSTAMP:20260420T040036
CREATED:20240911T120813Z
LAST-MODIFIED:20250616T132413Z
UID:8655-1752671700-1752678900@churchfields.wilts.sch.uk
SUMMARY:Reserve Sports day afternoon
DESCRIPTION:
URL:https://churchfields.wilts.sch.uk/event/reserve-sports-day-afternoon/
CATEGORIES:Curriculum,General
END:VEVENT
BEGIN:VEVENT
DTSTART;TZID=Europe/London:20250717T130000
DTEND;TZID=Europe/London:20250717T150000
DTSTAMP:20260420T040036
CREATED:20250616T121021Z
LAST-MODIFIED:20250616T121021Z
UID:9145-1752757200-1752764400@churchfields.wilts.sch.uk
SUMMARY:Parents in person workshop Charlie Waller
DESCRIPTION:
URL:https://churchfields.wilts.sch.uk/event/parents-in-person-workshop-charlie-waller/
CATEGORIES:General
END:VEVENT
BEGIN:VEVENT
DTSTART;TZID=Europe/London:20250718T131500
DTEND;TZID=Europe/London:20250718T143000
DTSTAMP:20260420T040036
CREATED:20240911T120905Z
LAST-MODIFIED:20240911T120905Z
UID:8657-1752844500-1752849000@churchfields.wilts.sch.uk
SUMMARY:Leavers Service St Michaels Church Atworth
DESCRIPTION:
URL:https://churchfields.wilts.sch.uk/event/leavers-service-st-michaels-church-atworth-2/
CATEGORIES:Curriculum,General
END:VEVENT
BEGIN:VEVENT
DTSTART;VALUE=DATE:20250719
DTEND;VALUE=DATE:20250720
DTSTAMP:20260420T040036
CREATED:20250515T110328Z
LAST-MODIFIED:20250515T110328Z
UID:9118-1752883200-1752969599@churchfields.wilts.sch.uk
SUMMARY:Summer Fair
DESCRIPTION:
URL:https://churchfields.wilts.sch.uk/event/summer-fair/
CATEGORIES:General,PTA
END:VEVENT
BEGIN:VEVENT
DTSTART;TZID=Europe/London:20250721T090000
DTEND;TZID=Europe/London:20250721T120000
DTSTAMP:20260420T040036
CREATED:20250616T132351Z
LAST-MODIFIED:20250616T132351Z
UID:9173-1753088400-1753099200@churchfields.wilts.sch.uk
SUMMARY:Atworth KS2 Football Tournament
DESCRIPTION:
URL:https://churchfields.wilts.sch.uk/event/atworth-ks2-football-tournament/
CATEGORIES:General
END:VEVENT
BEGIN:VEVENT
DTSTART;TZID=Europe/London:20250721T160000
DTEND;TZID=Europe/London:20250721T180000
DTSTAMP:20260420T040036
CREATED:20250616T121111Z
LAST-MODIFIED:20250616T121111Z
UID:9147-1753113600-1753120800@churchfields.wilts.sch.uk
SUMMARY:Whole School Disco
DESCRIPTION:
URL:https://churchfields.wilts.sch.uk/event/whole-school-disco/
CATEGORIES:PTA
END:VEVENT
BEGIN:VEVENT
DTSTART;VALUE=DATE:20250722
DTEND;VALUE=DATE:20250723
DTSTAMP:20260420T040036
CREATED:20250616T121249Z
LAST-MODIFIED:20250616T121249Z
UID:9149-1753142400-1753228799@churchfields.wilts.sch.uk
SUMMARY:Forest School Monkton Farleigh
DESCRIPTION:
URL:https://churchfields.wilts.sch.uk/event/forest-school-monkton-farleigh/
CATEGORIES:Forest School
END:VEVENT
BEGIN:VEVENT
DTSTART;VALUE=DATE:20250723
DTEND;VALUE=DATE:20250724
DTSTAMP:20260420T040036
CREATED:20240911T121840Z
LAST-MODIFIED:20240911T121940Z
UID:8659-1753228800-1753315199@churchfields.wilts.sch.uk
SUMMARY:INSET Day school closed to pupils
DESCRIPTION:
URL:https://churchfields.wilts.sch.uk/event/inset-day-school-closed-to-pupils-7/
CATEGORIES:Curriculum,General
END:VEVENT
BEGIN:VEVENT
DTSTART;VALUE=DATE:20250724
DTEND;VALUE=DATE:20250725
DTSTAMP:20260420T040036
CREATED:20240514T105721Z
LAST-MODIFIED:20240603T101236Z
UID:8468-1753315200-1753401599@churchfields.wilts.sch.uk
SUMMARY:Term 6 ends
DESCRIPTION:
URL:https://churchfields.wilts.sch.uk/event/term-6-ends-2/
CATEGORIES:Curriculum,General
END:VEVENT
BEGIN:VEVENT
DTSTART;VALUE=DATE:20250724
DTEND;VALUE=DATE:20250725
DTSTAMP:20260420T040036
CREATED:20240911T122008Z
LAST-MODIFIED:20240911T122008Z
UID:8661-1753315200-1753401599@churchfields.wilts.sch.uk
SUMMARY:INSET Day School closed to pupils
DESCRIPTION:
URL:https://churchfields.wilts.sch.uk/event/inset-day-school-closed-to-pupils-8/
CATEGORIES:Curriculum,General
END:VEVENT
BEGIN:VEVENT
DTSTART;VALUE=DATE:20250902
DTEND;VALUE=DATE:20250903
DTSTAMP:20260420T040036
CREATED:20250827T121633Z
LAST-MODIFIED:20250827T121633Z
UID:9238-1756771200-1756857599@churchfields.wilts.sch.uk
SUMMARY:INSET DAY school closed to pupils
DESCRIPTION:
URL:https://churchfields.wilts.sch.uk/event/inset-day-school-closed-to-pupils-9/
END:VEVENT
END:VCALENDAR