BEGIN:VCALENDAR
VERSION:2.0
PRODID:-//Churchfields - The Village School - ECPv6.15.11//NONSGML v1.0//EN
CALSCALE:GREGORIAN
METHOD:PUBLISH
X-WR-CALNAME:Churchfields - The Village School
X-ORIGINAL-URL:https://churchfields.wilts.sch.uk
X-WR-CALDESC:Events for Churchfields - The Village School
REFRESH-INTERVAL;VALUE=DURATION:PT1H
X-Robots-Tag:noindex
X-PUBLISHED-TTL:PT1H
BEGIN:VTIMEZONE
TZID:Europe/London
BEGIN:DAYLIGHT
TZOFFSETFROM:+0000
TZOFFSETTO:+0100
TZNAME:BST
DTSTART:20240331T010000
END:DAYLIGHT
BEGIN:STANDARD
TZOFFSETFROM:+0100
TZOFFSETTO:+0000
TZNAME:GMT
DTSTART:20241027T010000
END:STANDARD
BEGIN:DAYLIGHT
TZOFFSETFROM:+0000
TZOFFSETTO:+0100
TZNAME:BST
DTSTART:20250330T010000
END:DAYLIGHT
BEGIN:STANDARD
TZOFFSETFROM:+0100
TZOFFSETTO:+0000
TZNAME:GMT
DTSTART:20251026T010000
END:STANDARD
BEGIN:DAYLIGHT
TZOFFSETFROM:+0000
TZOFFSETTO:+0100
TZNAME:BST
DTSTART:20260329T010000
END:DAYLIGHT
BEGIN:STANDARD
TZOFFSETFROM:+0100
TZOFFSETTO:+0000
TZNAME:GMT
DTSTART:20261025T010000
END:STANDARD
END:VTIMEZONE
BEGIN:VEVENT
DTSTART;VALUE=DATE:20250701
DTEND;VALUE=DATE:20250702
DTSTAMP:20260420T052535
CREATED:20240911T120552Z
LAST-MODIFIED:20240911T120552Z
UID:8649-1751328000-1751414399@churchfields.wilts.sch.uk
SUMMARY:School trip
DESCRIPTION:
URL:https://churchfields.wilts.sch.uk/event/school-trip/
CATEGORIES:Curriculum,General
END:VEVENT
BEGIN:VEVENT
DTSTART;TZID=Europe/London:20250626T130000
DTEND;TZID=Europe/London:20250626T150000
DTSTAMP:20260420T052535
CREATED:20240911T120302Z
LAST-MODIFIED:20250515T105110Z
UID:8643-1750942800-1750950000@churchfields.wilts.sch.uk
SUMMARY:Induction afternoon reception class
DESCRIPTION:
URL:https://churchfields.wilts.sch.uk/event/induction-afternoon-reception-class-3/
CATEGORIES:Curriculum,General
END:VEVENT
BEGIN:VEVENT
DTSTART;VALUE=DATE:20250626
DTEND;VALUE=DATE:20250627
DTSTAMP:20260420T052535
CREATED:20250616T110035Z
LAST-MODIFIED:20250616T110035Z
UID:9127-1750896000-1750982399@churchfields.wilts.sch.uk
SUMMARY:Well Being Day
DESCRIPTION:
URL:https://churchfields.wilts.sch.uk/event/well-being-day/
CATEGORIES:Curriculum,General
END:VEVENT
BEGIN:VEVENT
DTSTART;VALUE=DATE:20250624
DTEND;VALUE=DATE:20250625
DTSTAMP:20260420T052535
CREATED:20250616T105957Z
LAST-MODIFIED:20250616T105957Z
UID:9125-1750723200-1750809599@churchfields.wilts.sch.uk
SUMMARY:Forest School Monkton Farleigh pupils
DESCRIPTION:
URL:https://churchfields.wilts.sch.uk/event/forest-school-monkton-farleigh-pupils/
CATEGORIES:Forest School
END:VEVENT
BEGIN:VEVENT
DTSTART;VALUE=DATE:20250622
DTEND;VALUE=DATE:20250623
DTSTAMP:20260420T052535
CREATED:20250617T110345Z
LAST-MODIFIED:20250617T110345Z
UID:9175-1750550400-1750636799@churchfields.wilts.sch.uk
SUMMARY:Fun Run - rescheduled date
DESCRIPTION:
URL:https://churchfields.wilts.sch.uk/event/fun-run-rescheduled-date/
CATEGORIES:PTA
END:VEVENT
BEGIN:VEVENT
DTSTART;TZID=Europe/London:20250620T150000
DTEND;TZID=Europe/London:20250620T170000
DTSTAMP:20260420T052535
CREATED:20250515T105409Z
LAST-MODIFIED:20250515T105409Z
UID:9093-1750431600-1750438800@churchfields.wilts.sch.uk
SUMMARY:Proms & Pimms
DESCRIPTION:
URL:https://churchfields.wilts.sch.uk/event/proms-pimms/
CATEGORIES:General,PTA
END:VEVENT
BEGIN:VEVENT
DTSTART;TZID=Europe/London:20250618T080000
DTEND;TZID=Europe/London:20250618T170000
DTSTAMP:20260420T052535
CREATED:20250515T105251Z
LAST-MODIFIED:20250515T105251Z
UID:9091-1750233600-1750266000@churchfields.wilts.sch.uk
SUMMARY:Woodpecker Class Bath Forum
DESCRIPTION:
URL:https://churchfields.wilts.sch.uk/event/woodpecker-class-bath-forum/
CATEGORIES:Curriculum,General
END:VEVENT
BEGIN:VEVENT
DTSTART;TZID=Europe/London:20250612T131500
DTEND;TZID=Europe/London:20250612T151500
DTSTAMP:20260420T052535
CREATED:20240911T120223Z
LAST-MODIFIED:20250515T105001Z
UID:8641-1749734100-1749741300@churchfields.wilts.sch.uk
SUMMARY:Induction afternoon reception class
DESCRIPTION:
URL:https://churchfields.wilts.sch.uk/event/induction-afternoon-reception-class-2/
CATEGORIES:General
END:VEVENT
BEGIN:VEVENT
DTSTART;VALUE=DATE:20250611
DTEND;VALUE=DATE:20250612
DTSTAMP:20260420T052535
CREATED:20250515T104812Z
LAST-MODIFIED:20250515T104812Z
UID:9089-1749600000-1749686399@churchfields.wilts.sch.uk
SUMMARY:Year 6 leavers service Salisbury Cathedral
DESCRIPTION:Leavers Service for all year 6 pupils\, see communication sent home for details
URL:https://churchfields.wilts.sch.uk/event/year-6-leavers-service-salisbury-cathedral-2/
END:VEVENT
BEGIN:VEVENT
DTSTART;TZID=Europe/London:20250605T131500
DTEND;TZID=Europe/London:20250605T151500
DTSTAMP:20260420T052535
CREATED:20240911T120142Z
LAST-MODIFIED:20240911T120142Z
UID:8639-1749129300-1749136500@churchfields.wilts.sch.uk
SUMMARY:Induction afternoon reception class
DESCRIPTION:
URL:https://churchfields.wilts.sch.uk/event/induction-afternoon-reception-class/
CATEGORIES:Curriculum,General
END:VEVENT
BEGIN:VEVENT
DTSTART;VALUE=DATE:20250605
DTEND;VALUE=DATE:20250606
DTSTAMP:20260420T052535
CREATED:20250515T105715Z
LAST-MODIFIED:20250515T105715Z
UID:9099-1749081600-1749167999@churchfields.wilts.sch.uk
SUMMARY:Year 5 taster day St. Laurence
DESCRIPTION:
URL:https://churchfields.wilts.sch.uk/event/year-5-taster-day-st-laurence/
CATEGORIES:Curriculum
END:VEVENT
BEGIN:VEVENT
DTSTART;TZID=Europe/London:20250604T170000
DTEND;TZID=Europe/London:20250604T180000
DTSTAMP:20260420T052535
CREATED:20240911T115954Z
LAST-MODIFIED:20250515T104657Z
UID:8635-1749056400-1749060000@churchfields.wilts.sch.uk
SUMMARY:Meet the teacher for all Reception 25 families
DESCRIPTION:Meet the reception class teacher for families joining the school September 2025
URL:https://churchfields.wilts.sch.uk/event/meet-the-teacher-atworth/
LOCATION:SN12 8HY
CATEGORIES:General
END:VEVENT
BEGIN:VEVENT
DTSTART;VALUE=DATE:20250602
DTEND;VALUE=DATE:20250603
DTSTAMP:20260420T052535
CREATED:20240514T105652Z
LAST-MODIFIED:20240514T105652Z
UID:8466-1748822400-1748908799@churchfields.wilts.sch.uk
SUMMARY:Term 6 begins
DESCRIPTION:
URL:https://churchfields.wilts.sch.uk/event/term-6-begins-3/
CATEGORIES:Curriculum,General
END:VEVENT
BEGIN:VEVENT
DTSTART;VALUE=DATE:20250523
DTEND;VALUE=DATE:20250524
DTSTAMP:20260420T052535
CREATED:20250515T104430Z
LAST-MODIFIED:20250515T104430Z
UID:9086-1747958400-1748044799@churchfields.wilts.sch.uk
SUMMARY:Stonar Stomp whole school event
DESCRIPTION:All pupils will be at Atworth Base for the day and will take part in Stonar Stomp during the afternoon. See communication sent home for details.
URL:https://churchfields.wilts.sch.uk/event/stonar-stomp-whole-school-event/
CATEGORIES:Curriculum,General
END:VEVENT
BEGIN:VEVENT
DTSTART;VALUE=DATE:20250523
DTEND;VALUE=DATE:20250524
DTSTAMP:20260420T052535
CREATED:20240514T105623Z
LAST-MODIFIED:20240514T105623Z
UID:8464-1747958400-1748044799@churchfields.wilts.sch.uk
SUMMARY:Term 5 ends
DESCRIPTION:
URL:https://churchfields.wilts.sch.uk/event/term-5-ends-2/
CATEGORIES:Curriculum,General
END:VEVENT
BEGIN:VEVENT
DTSTART;VALUE=DATE:20250516
DTEND;VALUE=DATE:20250517
DTSTAMP:20260420T052535
CREATED:20250515T104309Z
LAST-MODIFIED:20250515T104309Z
UID:9084-1747353600-1747439999@churchfields.wilts.sch.uk
SUMMARY:Nightingale & Kestrel Class Middle Atworth
DESCRIPTION:
URL:https://churchfields.wilts.sch.uk/event/nightingale-kestrel-class-middle-atworth/
CATEGORIES:Curriculum,General
END:VEVENT
BEGIN:VEVENT
DTSTART;TZID=Europe/London:20250515T130000
DTEND;TZID=Europe/London:20250515T170000
DTSTAMP:20260420T052535
CREATED:20250515T104228Z
LAST-MODIFIED:20250515T104228Z
UID:9082-1747314000-1747328400@churchfields.wilts.sch.uk
SUMMARY:Year 3 & 4 Stonar Dance Festival pm
DESCRIPTION:Year 3 & 4 Dance Festival
URL:https://churchfields.wilts.sch.uk/event/year-3-4-stonar-dance-festival-pm/
CATEGORIES:Curriculum,General
END:VEVENT
BEGIN:VEVENT
DTSTART;VALUE=DATE:20250512
DTEND;VALUE=DATE:20250516
DTSTAMP:20260420T052535
CREATED:20250311T133301Z
LAST-MODIFIED:20250311T133301Z
UID:8973-1747008000-1747353599@churchfields.wilts.sch.uk
SUMMARY:Year 6 SATs
DESCRIPTION:
URL:https://churchfields.wilts.sch.uk/event/year-6-sats/
END:VEVENT
BEGIN:VEVENT
DTSTART;VALUE=DATE:20250508
DTEND;VALUE=DATE:20250509
DTSTAMP:20260420T052535
CREATED:20250311T133210Z
LAST-MODIFIED:20250311T133210Z
UID:8971-1746662400-1746748799@churchfields.wilts.sch.uk
SUMMARY:VE Celebrations
DESCRIPTION:
URL:https://churchfields.wilts.sch.uk/event/ve-celebrations/
CATEGORIES:General
END:VEVENT
BEGIN:VEVENT
DTSTART;TZID=Europe/London:20250503T100000
DTEND;TZID=Europe/London:20250503T160000
DTSTAMP:20260420T052535
CREATED:20250425T151711Z
LAST-MODIFIED:20250428T091141Z
UID:9049-1746266400-1746288000@churchfields.wilts.sch.uk
SUMMARY:Scarecrow Trail Monkton Farleigh
DESCRIPTION:Scarecrow Trail around the village of Monkton Farleigh\, in association with Churchfields School and St Peter’s Church. \nFree Parking\, BBQ\, Hot and Cold Drinks\, Bar\, Cakes and Raffle Prizes for those who enter completed Maps.
URL:https://churchfields.wilts.sch.uk/event/scarecrow-trail-monkton-farleigh/
LOCATION:MF Base\, Churchfields School\, Monkton Farleigh\, Bradford-on-Avon\, BA15 2QD\, United Kingdom
CATEGORIES:General,PTA
ATTACH;FMTTYPE=image/jpeg:https://churchfields.wilts.sch.uk/wp-content/uploads/2025/04/Scarecrow-Trail.jpg
END:VEVENT
BEGIN:VEVENT
DTSTART;VALUE=DATE:20250428
DTEND;VALUE=DATE:20250429
DTSTAMP:20260420T052535
CREATED:20250311T133043Z
LAST-MODIFIED:20250311T133043Z
UID:8969-1745798400-1745884799@churchfields.wilts.sch.uk
SUMMARY:Class photographs
DESCRIPTION:
URL:https://churchfields.wilts.sch.uk/event/class-photographs/
CATEGORIES:Curriculum,General
END:VEVENT
BEGIN:VEVENT
DTSTART;VALUE=DATE:20250425
DTEND;VALUE=DATE:20250426
DTSTAMP:20260420T052535
CREATED:20240911T115425Z
LAST-MODIFIED:20250311T132902Z
UID:8625-1745539200-1745625599@churchfields.wilts.sch.uk
SUMMARY:Open Day Atworth and  Monkton Farleigh base
DESCRIPTION:Open Day please email school for details
URL:https://churchfields.wilts.sch.uk/event/coffee-morning-monkton-farleigh-base-2/
CATEGORIES:General
END:VEVENT
BEGIN:VEVENT
DTSTART;VALUE=DATE:20250422
DTEND;VALUE=DATE:20250423
DTSTAMP:20260420T052535
CREATED:20240514T105559Z
LAST-MODIFIED:20240514T105559Z
UID:8462-1745280000-1745366399@churchfields.wilts.sch.uk
SUMMARY:Term 5 begins
DESCRIPTION:
URL:https://churchfields.wilts.sch.uk/event/term-5-begins-5/
END:VEVENT
BEGIN:VEVENT
DTSTART;TZID=Europe/London:20250404T150000
DTEND;TZID=Europe/London:20250404T160000
DTSTAMP:20260420T052535
CREATED:20250311T131631Z
LAST-MODIFIED:20250311T131631Z
UID:8962-1743778800-1743782400@churchfields.wilts.sch.uk
SUMMARY:Monkton Farleigh Easter Concert
DESCRIPTION:
URL:https://churchfields.wilts.sch.uk/event/monkton-farleigh-easter-concert/
CATEGORIES:Curriculum,General
END:VEVENT
BEGIN:VEVENT
DTSTART;VALUE=DATE:20250404
DTEND;VALUE=DATE:20250405
DTSTAMP:20260420T052535
CREATED:20240514T105530Z
LAST-MODIFIED:20240514T105530Z
UID:8460-1743724800-1743811199@churchfields.wilts.sch.uk
SUMMARY:Term 4 ends
DESCRIPTION:
URL:https://churchfields.wilts.sch.uk/event/term-4-ends/
CATEGORIES:Curriculum,General
END:VEVENT
BEGIN:VEVENT
DTSTART;TZID=Europe/London:20250403T153000
DTEND;TZID=Europe/London:20250403T170000
DTSTAMP:20260420T052535
CREATED:20240911T115305Z
LAST-MODIFIED:20250311T131514Z
UID:8623-1743694200-1743699600@churchfields.wilts.sch.uk
SUMMARY:Atworth Easter Concert
DESCRIPTION:
URL:https://churchfields.wilts.sch.uk/event/easter-concert-2/
CATEGORIES:Curriculum,General
END:VEVENT
BEGIN:VEVENT
DTSTART;TZID=Europe/London:20250401T131500
DTEND;TZID=Europe/London:20250401T143000
DTSTAMP:20260420T052535
CREATED:20240911T115226Z
LAST-MODIFIED:20240911T115226Z
UID:8621-1743513300-1743517800@churchfields.wilts.sch.uk
SUMMARY:Easter Service St Michaels Church Atworth
DESCRIPTION:
URL:https://churchfields.wilts.sch.uk/event/easter-service-st-michaels-church-atworth/
CATEGORIES:Curriculum,General
END:VEVENT
BEGIN:VEVENT
DTSTART;TZID=Europe/London:20250328T150000
DTEND;TZID=Europe/London:20250328T170000
DTSTAMP:20260420T052535
CREATED:20250325T122349Z
LAST-MODIFIED:20250325T122349Z
UID:9022-1743174000-1743181200@churchfields.wilts.sch.uk
SUMMARY:Friends of Churchfields Spring Fair Atworth school base
DESCRIPTION:
URL:https://churchfields.wilts.sch.uk/event/friends-of-churchfields-spring-fair-atworth-school-base/
CATEGORIES:PTA
END:VEVENT
BEGIN:VEVENT
DTSTART;VALUE=DATE:20250321
DTEND;VALUE=DATE:20250322
DTSTAMP:20260420T052535
CREATED:20240911T115123Z
LAST-MODIFIED:20240911T115123Z
UID:8619-1742515200-1742601599@churchfields.wilts.sch.uk
SUMMARY:INSET Day school closed to pupils
DESCRIPTION:
URL:https://churchfields.wilts.sch.uk/event/inset-day-school-closed-to-pupils-6/
CATEGORIES:Curriculum,General
END:VEVENT
BEGIN:VEVENT
DTSTART;TZID=Europe/London:20250320T150000
DTEND;TZID=Europe/London:20250320T193000
DTSTAMP:20260420T052535
CREATED:20240911T115036Z
LAST-MODIFIED:20240911T115036Z
UID:8617-1742482800-1742499000@churchfields.wilts.sch.uk
SUMMARY:Parents Evening to 7:30pm
DESCRIPTION:
URL:https://churchfields.wilts.sch.uk/event/parents-evening-to-730pm/
CATEGORIES:Curriculum,General
END:VEVENT
END:VCALENDAR