BEGIN:VCALENDAR
VERSION:2.0
PRODID:-//Churchfields - The Village School - ECPv6.15.11//NONSGML v1.0//EN
CALSCALE:GREGORIAN
METHOD:PUBLISH
X-ORIGINAL-URL:https://churchfields.wilts.sch.uk
X-WR-CALDESC:Events for Churchfields - The Village School
REFRESH-INTERVAL;VALUE=DURATION:PT1H
X-Robots-Tag:noindex
X-PUBLISHED-TTL:PT1H
BEGIN:VTIMEZONE
TZID:Europe/London
BEGIN:DAYLIGHT
TZOFFSETFROM:+0000
TZOFFSETTO:+0100
TZNAME:BST
DTSTART:20240331T010000
END:DAYLIGHT
BEGIN:STANDARD
TZOFFSETFROM:+0100
TZOFFSETTO:+0000
TZNAME:GMT
DTSTART:20241027T010000
END:STANDARD
BEGIN:DAYLIGHT
TZOFFSETFROM:+0000
TZOFFSETTO:+0100
TZNAME:BST
DTSTART:20250330T010000
END:DAYLIGHT
BEGIN:STANDARD
TZOFFSETFROM:+0100
TZOFFSETTO:+0000
TZNAME:GMT
DTSTART:20251026T010000
END:STANDARD
BEGIN:DAYLIGHT
TZOFFSETFROM:+0000
TZOFFSETTO:+0100
TZNAME:BST
DTSTART:20260329T010000
END:DAYLIGHT
BEGIN:STANDARD
TZOFFSETFROM:+0100
TZOFFSETTO:+0000
TZNAME:GMT
DTSTART:20261025T010000
END:STANDARD
END:VTIMEZONE
BEGIN:VEVENT
DTSTART;TZID=Europe/London:20251016T100000
DTEND;TZID=Europe/London:20251016T143000
DTSTAMP:20260419T221928
CREATED:20250616T123510Z
LAST-MODIFIED:20250616T123510Z
UID:9153-1760608800-1760625000@churchfields.wilts.sch.uk
SUMMARY:Open Day Monkton Farleigh
DESCRIPTION:Open day 10am – 12 noon and 1:15 – 2:30pm
URL:https://churchfields.wilts.sch.uk/event/open-day-monkton-farleigh/
CATEGORIES:General
END:VEVENT
BEGIN:VEVENT
DTSTART;TZID=Europe/London:20251016T150000
DTEND;TZID=Europe/London:20251016T180000
DTSTAMP:20260419T221928
CREATED:20251013T121417Z
LAST-MODIFIED:20251013T121417Z
UID:9314-1760626800-1760637600@churchfields.wilts.sch.uk
SUMMARY:Parent evening until 6pm
DESCRIPTION:
URL:https://churchfields.wilts.sch.uk/event/parent-evening-until-6pm/
CATEGORIES:Curriculum
END:VEVENT
END:VCALENDAR